BEGIN:VCALENDAR
VERSION:2.0
PRODID:-//Godfrey Miller Center - ECPv6.15.20//NONSGML v1.0//EN
CALSCALE:GREGORIAN
METHOD:PUBLISH
X-WR-CALNAME:Godfrey Miller Center
X-ORIGINAL-URL:https://godfreymillercenter.org
X-WR-CALDESC:Events for Godfrey Miller Center
REFRESH-INTERVAL;VALUE=DURATION:PT1H
X-Robots-Tag:noindex
X-PUBLISHED-TTL:PT1H
BEGIN:VTIMEZONE
TZID:America/New_York
BEGIN:DAYLIGHT
TZOFFSETFROM:-0500
TZOFFSETTO:-0400
TZNAME:EDT
DTSTART:20230312T070000
END:DAYLIGHT
BEGIN:STANDARD
TZOFFSETFROM:-0400
TZOFFSETTO:-0500
TZNAME:EST
DTSTART:20231105T060000
END:STANDARD
BEGIN:DAYLIGHT
TZOFFSETFROM:-0500
TZOFFSETTO:-0400
TZNAME:EDT
DTSTART:20240310T070000
END:DAYLIGHT
BEGIN:STANDARD
TZOFFSETFROM:-0400
TZOFFSETTO:-0500
TZNAME:EST
DTSTART:20241103T060000
END:STANDARD
BEGIN:DAYLIGHT
TZOFFSETFROM:-0500
TZOFFSETTO:-0400
TZNAME:EDT
DTSTART:20250309T070000
END:DAYLIGHT
BEGIN:STANDARD
TZOFFSETFROM:-0400
TZOFFSETTO:-0500
TZNAME:EST
DTSTART:20251102T060000
END:STANDARD
END:VTIMEZONE
BEGIN:VEVENT
DTSTART;TZID=America/New_York:20240410T110000
DTEND;TZID=America/New_York:20240410T120000
DTSTAMP:20260425T092917
CREATED:20240325T184308Z
LAST-MODIFIED:20240325T184308Z
UID:5107-1712746800-1712750400@godfreymillercenter.org
SUMMARY:Bingo
DESCRIPTION:***RSVP required\, call The Godfrey Miller Center office at 540-667-5869 to reserve your spot.   \nJoin us for a game of Bingo!  There will be many useful and fun prizes available for you to win.
URL:https://godfreymillercenter.org/event/bingo-5/
LOCATION:Parlor
END:VEVENT
BEGIN:VEVENT
DTSTART;TZID=America/New_York:20240409T140000
DTEND;TZID=America/New_York:20240409T150000
DTSTAMP:20260425T092917
CREATED:20240325T184308Z
LAST-MODIFIED:20240325T184308Z
UID:5105-1712671200-1712674800@godfreymillercenter.org
SUMMARY:Strength & Conditioning
DESCRIPTION:This class is designed to increase physical strength through resistance exercise. All major muscle groups are worked from head to toe. We finish with core conditioning\, breathing\, and stretching for a complete workout. Dumbbells are used for each class\, you can bring your own or use ours! Led by Program Coordinator Anna.
URL:https://godfreymillercenter.org/event/strength-conditioning-21/
LOCATION:Pavilion
END:VEVENT
BEGIN:VEVENT
DTSTART;TZID=America/New_York:20240409T130000
DTEND;TZID=America/New_York:20240409T150000
DTSTAMP:20260425T092917
CREATED:20240325T184308Z
LAST-MODIFIED:20240325T184308Z
UID:5106-1712667600-1712674800@godfreymillercenter.org
SUMMARY:Art Class: Drawing
DESCRIPTION:***RSVP required\, call The Godfrey Miller Center office at 540-667-5869 to reserve your spot.   \nIn this course\, students will improve drawing skills through using a combination of mediums such as graphite\, charcoal\, pen\, and ink.  Students will have their choice of mediums to help define their styles. Taught by master artist Kate Williams. (Suggested donation: $15 per class)
URL:https://godfreymillercenter.org/event/art-class-drawing-37/
LOCATION:Parlor
END:VEVENT
BEGIN:VEVENT
DTSTART;TZID=America/New_York:20240409T100000
DTEND;TZID=America/New_York:20240409T120000
DTSTAMP:20260425T092917
CREATED:20240325T184308Z
LAST-MODIFIED:20240325T184308Z
UID:5103-1712656800-1712664000@godfreymillercenter.org
SUMMARY:Canasta
DESCRIPTION:All are welcome to come and play Canasta!
URL:https://godfreymillercenter.org/event/canasta-101/
LOCATION:Parlor
END:VEVENT
BEGIN:VEVENT
DTSTART;TZID=America/New_York:20240409T100000
DTEND;TZID=America/New_York:20240409T120000
DTSTAMP:20260425T092917
CREATED:20240325T184308Z
LAST-MODIFIED:20240325T184308Z
UID:5104-1712656800-1712664000@godfreymillercenter.org
SUMMARY:Art Class: Acrylic & Watercolor Painting
DESCRIPTION:***RSVP required\, call The Godfrey Miller Center office at 540-667-5869 to reserve your spot.   \nIn this course\, students will develop painting skills\, techniques\, and aesthetic sensibilities related to artistic expression in acrylic and/or watercolor mediums. Each week will focus on a different subject\, emphasizing color and composition\, and enabling students to expand and better define their unique style and technique. Taught by master artist Kate Williams. (Suggested donation: $15 per class)
URL:https://godfreymillercenter.org/event/art-class-acrylic-watercolor-painting-37/
LOCATION:Pavilion
END:VEVENT
BEGIN:VEVENT
DTSTART;TZID=America/New_York:20240408T140000
DTEND;TZID=America/New_York:20240408T150000
DTSTAMP:20260425T092917
CREATED:20240325T184308Z
LAST-MODIFIED:20240325T184308Z
UID:5102-1712584800-1712588400@godfreymillercenter.org
SUMMARY:Exercise for Balance & Strength
DESCRIPTION:A low-impact program that includes joint check/warm-up\, range of motion/stretching\, strengthening\, cardiovascular endurance\, and joint check/cool down. Led by Sonna Russell. Ms. Russell is a gifted coach and was trained through the Arthritis Foundation. (Suggested donation – $3.00)
URL:https://godfreymillercenter.org/event/exercise-for-balance-strength-22/
LOCATION:Pavilion
END:VEVENT
BEGIN:VEVENT
DTSTART;TZID=America/New_York:20240408T103000
DTEND;TZID=America/New_York:20240408T113000
DTSTAMP:20260425T092917
CREATED:20240325T184307Z
LAST-MODIFIED:20240325T184307Z
UID:5100-1712572200-1712575800@godfreymillercenter.org
SUMMARY:Android Smart Phone Help Session
DESCRIPTION:Join Program Coordinator Anna for help with your smart phone.  Bring your device\, account passwords\, and any questions!
URL:https://godfreymillercenter.org/event/android-smart-phone-help-session-5/
LOCATION:Parlor
END:VEVENT
BEGIN:VEVENT
DTSTART;TZID=America/New_York:20240404T140000
DTEND;TZID=America/New_York:20240404T160000
DTSTAMP:20260425T092917
CREATED:20240123T170451Z
LAST-MODIFIED:20240325T184307Z
UID:4964-1712239200-1712246400@godfreymillercenter.org
SUMMARY:Bridge Class: Standard American Bidding System
DESCRIPTION:***RSVP to Milan at 434-406-3387 \nMilan Majarov\, an American Contract Bridge League certified teacher\, will be offering a beginner bridge course on the standard American bidding system.  The class will last for 10 consecutive weeks and each class is two hours long and is $15.  Please RSVP directly to Milan at 434-406-3387.
URL:https://godfreymillercenter.org/event/bridge-class-standard-american-bidding-system-9/
LOCATION:Parlor
END:VEVENT
BEGIN:VEVENT
DTSTART;TZID=America/New_York:20240404T140000
DTEND;TZID=America/New_York:20240404T150000
DTSTAMP:20260425T092917
CREATED:20240325T184307Z
LAST-MODIFIED:20240325T184307Z
UID:5099-1712239200-1712242800@godfreymillercenter.org
SUMMARY:Strength & Conditioning
DESCRIPTION:This class is designed to increase physical strength through resistance exercise. All major muscle groups are worked from head to toe. We finish with core conditioning\, breathing\, and stretching for a complete workout. Dumbbells are used for each class\, you can bring your own or use ours! Led by Program Coordinator Anna.
URL:https://godfreymillercenter.org/event/strength-conditioning-20/
LOCATION:Pavilion
END:VEVENT
BEGIN:VEVENT
DTSTART;TZID=America/New_York:20240401T100000
DTEND;TZID=America/New_York:20240401T150000
DTSTAMP:20260425T092917
CREATED:20240325T184303Z
LAST-MODIFIED:20240325T184303Z
UID:5096-1711965600-1711983600@godfreymillercenter.org
SUMMARY:Closed for Easter Monday
DESCRIPTION:
URL:https://godfreymillercenter.org/event/closed-for-easter-monday/
END:VEVENT
BEGIN:VEVENT
DTSTART;TZID=America/New_York:20240328T140000
DTEND;TZID=America/New_York:20240328T160000
DTSTAMP:20260425T092917
CREATED:20240227T182048Z
LAST-MODIFIED:20240227T182048Z
UID:5073-1711634400-1711641600@godfreymillercenter.org
SUMMARY:Bridge Class: Standard American Bidding System
DESCRIPTION:***RSVP to Milan at 434-406-3387 \nMilan Majarov\, an American Contract Bridge League certified teacher\, will be offering a beginner bridge course on the standard American bidding system.  The class will last for 10 consecutive weeks and each class is two hours long and is $15.  Please RSVP directly to Milan at 434-406-3387.
URL:https://godfreymillercenter.org/event/bridge-class-standard-american-bidding-system-13/
LOCATION:Parlor
END:VEVENT
BEGIN:VEVENT
DTSTART;TZID=America/New_York:20240328T140000
DTEND;TZID=America/New_York:20240328T150000
DTSTAMP:20260425T092917
CREATED:20240227T182048Z
LAST-MODIFIED:20240227T182048Z
UID:5074-1711634400-1711638000@godfreymillercenter.org
SUMMARY:Strength & Conditioning
DESCRIPTION:This class is designed to increase physical strength through resistance exercise. All major muscle groups are worked from head to toe. We finish with core conditioning\, breathing\, and stretching for a complete workout. Dumbbells are used for each class\, you can bring your own or use ours! Led by Program Coordinator Anna.
URL:https://godfreymillercenter.org/event/strength-conditioning-19/
LOCATION:Pavilion
END:VEVENT
BEGIN:VEVENT
DTSTART;TZID=America/New_York:20240328T123000
DTEND;TZID=America/New_York:20240328T133000
DTSTAMP:20260425T092917
CREATED:20240227T182047Z
LAST-MODIFIED:20240227T182400Z
UID:5072-1711629000-1711632600@godfreymillercenter.org
SUMMARY:Lunch
DESCRIPTION:***RSVP required\, call The Godfrey Miller Center office at 540-667-5869 to reserve your spot.\nTickets: $9.00 \nMarch 7: Shepherd’s Pie\, Green Beans\, and Dessert\nMarch 14: Meatloaf\, Mashed Potatoes\, Three Bean Salad\, and Dessert\nMarch 21: Salmon & Rice\, Roasted Brussel Sprouts\, and Dessert\nMarch 28: Jambalaya\, Cucumber Salad\, and Dessert
URL:https://godfreymillercenter.org/event/5072/
LOCATION:Pavilion
END:VEVENT
BEGIN:VEVENT
DTSTART;TZID=America/New_York:20240328T100000
DTEND;TZID=America/New_York:20240328T120000
DTSTAMP:20260425T092917
CREATED:20240227T182047Z
LAST-MODIFIED:20240227T182047Z
UID:5071-1711620000-1711627200@godfreymillercenter.org
SUMMARY:Mahjong
DESCRIPTION:All are welcome to come and play Mahjong!
URL:https://godfreymillercenter.org/event/mahjong-94/
LOCATION:Parlor
END:VEVENT
BEGIN:VEVENT
DTSTART;TZID=America/New_York:20240327T140000
DTEND;TZID=America/New_York:20240327T150000
DTSTAMP:20260425T092917
CREATED:20240227T182047Z
LAST-MODIFIED:20240227T182047Z
UID:5070-1711548000-1711551600@godfreymillercenter.org
SUMMARY:Exercise for Balance & Strength
DESCRIPTION:A low-impact program that includes joint check/warm-up\, range of motion/stretching\, strengthening\, cardiovascular endurance\, and joint check/cool down. Led by Sonna Russell. Ms. Russell is a gifted coach and was trained through the Arthritis Foundation. (Suggested donation – $3.00)
URL:https://godfreymillercenter.org/event/exercise-for-balance-strength-21/
LOCATION:Pavilion
END:VEVENT
BEGIN:VEVENT
DTSTART;TZID=America/New_York:20240327T123000
DTEND;TZID=America/New_York:20240327T133000
DTSTAMP:20260425T092917
CREATED:20240227T182047Z
LAST-MODIFIED:20240227T182458Z
UID:5069-1711542600-1711546200@godfreymillercenter.org
SUMMARY:Lunch
DESCRIPTION:***RSVP required\, call The Godfrey Miller Center office at 540-667-5869 to reserve your spot.\nTickets: $9.00 \nMarch 6: Chicken Tortilla Soup\, Mexican Rice & Beans\, and Dessert\nMarch 13: Minestrone\, Roasted Carrots\, and Dessert\nMarch 20: Vegetable Beef Stew\, Sweet Potatoes\, and Dessert\nMarch 27: Corn Chowder\, Turkey Slider\, and Dessert
URL:https://godfreymillercenter.org/event/5069/
LOCATION:Pavilion
END:VEVENT
BEGIN:VEVENT
DTSTART;TZID=America/New_York:20240327T103000
DTEND;TZID=America/New_York:20240327T113000
DTSTAMP:20260425T092917
CREATED:20240227T182047Z
LAST-MODIFIED:20240227T182047Z
UID:5068-1711535400-1711539000@godfreymillercenter.org
SUMMARY:Workshop: Easter Diamond Art
DESCRIPTION:***RSVP required\, call The Godfrey Miller Center office at 540-667-5869 to reserve your spot.   \nCome make an Easter craft with diamonds!  Instructions and supplies are provided.  (Suggested Donation: $5)
URL:https://godfreymillercenter.org/event/workshop-easter-diamond-art/
LOCATION:Parlor
END:VEVENT
BEGIN:VEVENT
DTSTART;TZID=America/New_York:20240326T130000
DTEND;TZID=America/New_York:20240326T150000
DTSTAMP:20260425T092917
CREATED:20240227T182047Z
LAST-MODIFIED:20240227T182047Z
UID:5066-1711458000-1711465200@godfreymillercenter.org
SUMMARY:Art Class: Drawing
DESCRIPTION:***RSVP required\, call The Godfrey Miller Center office at 540-667-5869 to reserve your spot.   \nIn this course\, students will improve drawing skills through using a combination of mediums such as graphite\, charcoal\, pen\, and ink.  Students will have their choice of mediums to help define their styles. Taught by master artist Kate Williams. (Suggested donation: $15 per class)
URL:https://godfreymillercenter.org/event/art-class-drawing-36/
LOCATION:Parlor
END:VEVENT
BEGIN:VEVENT
DTSTART;TZID=America/New_York:20240326T130000
DTEND;TZID=America/New_York:20240326T150000
DTSTAMP:20260425T092917
CREATED:20240227T182047Z
LAST-MODIFIED:20240227T182047Z
UID:5067-1711458000-1711465200@godfreymillercenter.org
SUMMARY:Movie Matinee: Next Goal Wins
DESCRIPTION:Directed by Academy Award Winner Taika Waititi\, Next Goal Wins\, tells the story of the American Samoa soccer team and their brutal 31-0 FIFA loss in 2001.  With the World Cup Qualifiers approaching\, the team hires\, maverick coach Thomas Rongen (Michael Fassbender) hoping he will turn the world’s worst soccer team around in this heartfelt underdog comedy.  Movie run time: 1 hour and 44 minutes.  Movie snacks and drink provided.
URL:https://godfreymillercenter.org/event/movie-matinee-next-goal-wins/
LOCATION:Pavilion
END:VEVENT
BEGIN:VEVENT
DTSTART;TZID=America/New_York:20240326T103000
DTEND;TZID=America/New_York:20240326T113000
DTSTAMP:20260425T092917
CREATED:20240227T182046Z
LAST-MODIFIED:20240227T182155Z
UID:5065-1711449000-1711452600@godfreymillercenter.org
SUMMARY:Bible Study
DESCRIPTION:Join Rev. Martha Miller Sims for a Bible study.
URL:https://godfreymillercenter.org/event/bible-study-9/
END:VEVENT
BEGIN:VEVENT
DTSTART;TZID=America/New_York:20240326T100000
DTEND;TZID=America/New_York:20240326T120000
DTSTAMP:20260425T092917
CREATED:20240227T182046Z
LAST-MODIFIED:20240227T182046Z
UID:5063-1711447200-1711454400@godfreymillercenter.org
SUMMARY:Art Class: Acrylic & Watercolor Painting
DESCRIPTION:***RSVP required\, call The Godfrey Miller Center office at 540-667-5869 to reserve your spot.   \nIn this course\, students will develop painting skills\, techniques\, and aesthetic sensibilities related to artistic expression in acrylic and/or watercolor mediums. Each week will focus on a different subject\, emphasizing color and composition\, and enabling students to expand and better define their unique style and technique. Taught by master artist Kate Williams. (Suggested donation: $15 per class)
URL:https://godfreymillercenter.org/event/art-class-acrylic-watercolor-painting-36/
LOCATION:Pavilion
END:VEVENT
BEGIN:VEVENT
DTSTART;TZID=America/New_York:20240326T100000
DTEND;TZID=America/New_York:20240326T120000
DTSTAMP:20260425T092917
CREATED:20240227T182046Z
LAST-MODIFIED:20240227T182046Z
UID:5064-1711447200-1711454400@godfreymillercenter.org
SUMMARY:Canasta
DESCRIPTION:All are welcome to come and play Canasta!
URL:https://godfreymillercenter.org/event/canasta-100/
LOCATION:Parlor
END:VEVENT
BEGIN:VEVENT
DTSTART;TZID=America/New_York:20240325T140000
DTEND;TZID=America/New_York:20240325T150000
DTSTAMP:20260425T092917
CREATED:20240227T182046Z
LAST-MODIFIED:20240227T182046Z
UID:5061-1711375200-1711378800@godfreymillercenter.org
SUMMARY:Exercise for Balance & Strength
DESCRIPTION:A low-impact program that includes joint check/warm-up\, range of motion/stretching\, strengthening\, cardiovascular endurance\, and joint check/cool down. Led by Sonna Russell. Ms. Russell is a gifted coach and was trained through the Arthritis Foundation. (Suggested donation – $3.00)
URL:https://godfreymillercenter.org/event/exercise-for-balance-strength-20/
LOCATION:Pavilion
END:VEVENT
BEGIN:VEVENT
DTSTART;TZID=America/New_York:20240325T123000
DTEND;TZID=America/New_York:20240325T133000
DTSTAMP:20260425T092917
CREATED:20240227T182046Z
LAST-MODIFIED:20240227T182347Z
UID:5060-1711369800-1711373400@godfreymillercenter.org
SUMMARY:Lunch
DESCRIPTION:***RSVP required\, call The Godfrey Miller Center office at 540-667-5869 to reserve your spot.\nTickets: $9.00 \nMarch 4: Baked Ziti\, Italian Chickpea Salad\, and Dessert\nMarch 11: Chicken Alfredo Pasta & Zucchini\, and Dessert\nMarch 18: Chicken Parmesan\, Pasta\, Broccoli\, and Dessert\nMarch 25: French Bread Pizza\, Italian Chopped Salad\, and Dessert
URL:https://godfreymillercenter.org/event/5060/
LOCATION:Pavilion
END:VEVENT
BEGIN:VEVENT
DTSTART;TZID=America/New_York:20240325T100000
DTEND;TZID=America/New_York:20240325T120000
DTSTAMP:20260425T092917
CREATED:20240227T182045Z
LAST-MODIFIED:20240227T182045Z
UID:5058-1711360800-1711368000@godfreymillercenter.org
SUMMARY:Art Studio
DESCRIPTION:Art Studio is an open time for individuals to gather and work on their various art projects.  This is a social opportunity for artists of all levels to help each other and work independently. Recurs on every Monday of the month.
URL:https://godfreymillercenter.org/event/art-studio-94/
LOCATION:Pavilion
END:VEVENT
BEGIN:VEVENT
DTSTART;TZID=America/New_York:20240325T100000
DTEND;TZID=America/New_York:20240325T110000
DTSTAMP:20260425T092917
CREATED:20240227T182045Z
LAST-MODIFIED:20240227T182045Z
UID:5057-1711360800-1711364400@godfreymillercenter.org
SUMMARY:Jigsaw Puzzles
DESCRIPTION:
URL:https://godfreymillercenter.org/event/jigsaw-puzzles-31/
LOCATION:Front Sitting Room/Puzzle Room
END:VEVENT
BEGIN:VEVENT
DTSTART;TZID=America/New_York:20240325T090000
DTEND;TZID=America/New_York:20240325T100000
DTSTAMP:20260425T092917
CREATED:20240227T182045Z
LAST-MODIFIED:20240227T182045Z
UID:5059-1711357200-1711360800@godfreymillercenter.org
SUMMARY:Walking Club
DESCRIPTION:
URL:https://godfreymillercenter.org/event/walking-club-67/
LOCATION:Courtyard
END:VEVENT
BEGIN:VEVENT
DTSTART;TZID=America/New_York:20240321T140000
DTEND;TZID=America/New_York:20240321T160000
DTSTAMP:20260425T092917
CREATED:20240227T182044Z
LAST-MODIFIED:20240227T182044Z
UID:5055-1711029600-1711036800@godfreymillercenter.org
SUMMARY:Bridge Class: Standard American Bidding System
DESCRIPTION:***RSVP to Milan at 434-406-3387 \nMilan Majarov\, an American Contract Bridge League certified teacher\, will be offering a beginner bridge course on the standard American bidding system.  The class will last for 10 consecutive weeks and each class is two hours long and is $15.  Please RSVP directly to Milan at 434-406-3387.
URL:https://godfreymillercenter.org/event/bridge-class-standard-american-bidding-system-12/
LOCATION:Parlor
END:VEVENT
BEGIN:VEVENT
DTSTART;TZID=America/New_York:20240321T140000
DTEND;TZID=America/New_York:20240321T150000
DTSTAMP:20260425T092917
CREATED:20240227T182044Z
LAST-MODIFIED:20240227T182044Z
UID:5056-1711029600-1711033200@godfreymillercenter.org
SUMMARY:Strength & Conditioning
DESCRIPTION:This class is designed to increase physical strength through resistance exercise. All major muscle groups are worked from head to toe. We finish with core conditioning\, breathing\, and stretching for a complete workout. Dumbbells are used for each class\, you can bring your own or use ours! Led by Program Coordinator Anna.
URL:https://godfreymillercenter.org/event/strength-conditioning-18/
LOCATION:Pavilion
END:VEVENT
BEGIN:VEVENT
DTSTART;TZID=America/New_York:20240321T123000
DTEND;TZID=America/New_York:20240321T133000
DTSTAMP:20260425T092917
CREATED:20240227T182041Z
LAST-MODIFIED:20240227T182434Z
UID:5054-1711024200-1711027800@godfreymillercenter.org
SUMMARY:Lunch
DESCRIPTION:***RSVP required\, call The Godfrey Miller Center office at 540-667-5869 to reserve your spot.\nTickets: $9.00 \nMarch 7: Shepherd’s Pie\, Green Beans\, and Dessert\nMarch 14: Meatloaf\, Mashed Potatoes\, Three Bean Salad\, and Dessert\nMarch 21: Salmon & Rice\, Roasted Brussel Sprouts\, and Dessert\nMarch 28: Jambalaya\, Cucumber Salad\, and Dessert
URL:https://godfreymillercenter.org/event/5054/
LOCATION:Pavilion
END:VEVENT
END:VCALENDAR