BEGIN:VCALENDAR
VERSION:2.0
PRODID:-//Godfrey Miller Center - ECPv6.15.20//NONSGML v1.0//EN
CALSCALE:GREGORIAN
METHOD:PUBLISH
X-WR-CALNAME:Godfrey Miller Center
X-ORIGINAL-URL:https://godfreymillercenter.org
X-WR-CALDESC:Events for Godfrey Miller Center
REFRESH-INTERVAL;VALUE=DURATION:PT1H
X-Robots-Tag:noindex
X-PUBLISHED-TTL:PT1H
BEGIN:VTIMEZONE
TZID:America/New_York
BEGIN:DAYLIGHT
TZOFFSETFROM:-0500
TZOFFSETTO:-0400
TZNAME:EDT
DTSTART:20230312T070000
END:DAYLIGHT
BEGIN:STANDARD
TZOFFSETFROM:-0400
TZOFFSETTO:-0500
TZNAME:EST
DTSTART:20231105T060000
END:STANDARD
BEGIN:DAYLIGHT
TZOFFSETFROM:-0500
TZOFFSETTO:-0400
TZNAME:EDT
DTSTART:20240310T070000
END:DAYLIGHT
BEGIN:STANDARD
TZOFFSETFROM:-0400
TZOFFSETTO:-0500
TZNAME:EST
DTSTART:20241103T060000
END:STANDARD
BEGIN:DAYLIGHT
TZOFFSETFROM:-0500
TZOFFSETTO:-0400
TZNAME:EDT
DTSTART:20250309T070000
END:DAYLIGHT
BEGIN:STANDARD
TZOFFSETFROM:-0400
TZOFFSETTO:-0500
TZNAME:EST
DTSTART:20251102T060000
END:STANDARD
END:VTIMEZONE
BEGIN:VEVENT
DTSTART;TZID=America/New_York:20240611T100000
DTEND;TZID=America/New_York:20240611T120000
DTSTAMP:20260425T082324
CREATED:20240515T204429Z
LAST-MODIFIED:20240515T204429Z
UID:5228-1718100000-1718107200@godfreymillercenter.org
SUMMARY:Art Class: Acrylic & Watercolor Painting
DESCRIPTION:***RSVP required\, call The Godfrey Miller Center office at 540-667-5869 to reserve your spot.   \nIn this course\, students will develop painting skills\, techniques\, and aesthetic sensibilities related to artistic expression in acrylic and/or watercolor mediums. Each week will focus on a different subject\, emphasizing color and composition\, and enabling students to expand and better define their unique style and technique. Taught by master artist Kate Williams. (Suggested donation: $15 per class)
URL:https://godfreymillercenter.org/event/art-class-acrylic-watercolor-painting-43/
LOCATION:Pavilion
END:VEVENT
BEGIN:VEVENT
DTSTART;TZID=America/New_York:20240611T100000
DTEND;TZID=America/New_York:20240611T120000
DTSTAMP:20260425T082324
CREATED:20240515T204429Z
LAST-MODIFIED:20240515T204429Z
UID:5229-1718100000-1718107200@godfreymillercenter.org
SUMMARY:Canasta
DESCRIPTION:All are welcome to come and play Canasta!
URL:https://godfreymillercenter.org/event/canasta-108/
LOCATION:Parlor
END:VEVENT
BEGIN:VEVENT
DTSTART;TZID=America/New_York:20240611T130000
DTEND;TZID=America/New_York:20240611T150000
DTSTAMP:20260425T082324
CREATED:20240515T204429Z
LAST-MODIFIED:20240515T204429Z
UID:5230-1718110800-1718118000@godfreymillercenter.org
SUMMARY:Art Class: Drawing
DESCRIPTION:***RSVP required\, call The Godfrey Miller Center office at 540-667-5869 to reserve your spot.   \nIn this course\, students will improve drawing skills through using a combination of mediums such as graphite\, charcoal\, pen\, and ink.  Students will have their choice of mediums to help define their styles. Taught by master artist Kate Williams. (Suggested donation: $15 per class)
URL:https://godfreymillercenter.org/event/art-class-drawing-43/
LOCATION:Parlor
END:VEVENT
BEGIN:VEVENT
DTSTART;TZID=America/New_York:20240612T123000
DTEND;TZID=America/New_York:20240612T133000
DTSTAMP:20260425T082324
CREATED:20240515T204429Z
LAST-MODIFIED:20240515T204429Z
UID:5231-1718195400-1718199000@godfreymillercenter.org
SUMMARY:Lunch
DESCRIPTION:***RSVP required\, call The Godfrey Miller Center office at 540-667-5869 to reserve your spot.\nTickets: $9.00
URL:https://godfreymillercenter.org/event/lunch-50/
LOCATION:Pavilion
END:VEVENT
BEGIN:VEVENT
DTSTART;TZID=America/New_York:20240612T140000
DTEND;TZID=America/New_York:20240612T150000
DTSTAMP:20260425T082324
CREATED:20240515T204429Z
LAST-MODIFIED:20240515T204429Z
UID:5232-1718200800-1718204400@godfreymillercenter.org
SUMMARY:Exercise for Balance & Strength
DESCRIPTION:A low-impact program that includes joint check/warm-up\, range of motion/stretching\, strengthening\, cardiovascular endurance\, and joint check/cool down. Led by Sonna Russell. Ms. Russell is a gifted coach and was trained through the Arthritis Foundation. (Suggested donation – $3.00)
URL:https://godfreymillercenter.org/event/exercise-for-balance-strength-38/
LOCATION:Pavilion
END:VEVENT
BEGIN:VEVENT
DTSTART;TZID=America/New_York:20240613T100000
DTEND;TZID=America/New_York:20240613T120000
DTSTAMP:20260425T082324
CREATED:20240515T204430Z
LAST-MODIFIED:20240515T204430Z
UID:5233-1718272800-1718280000@godfreymillercenter.org
SUMMARY:Mahjong
DESCRIPTION:All are welcome to come and play Mahjong!
URL:https://godfreymillercenter.org/event/mahjong-102/
LOCATION:Parlor
END:VEVENT
BEGIN:VEVENT
DTSTART;TZID=America/New_York:20240613T123000
DTEND;TZID=America/New_York:20240613T133000
DTSTAMP:20260425T082324
CREATED:20240515T204430Z
LAST-MODIFIED:20240515T204430Z
UID:5235-1718281800-1718285400@godfreymillercenter.org
SUMMARY:Lunch
DESCRIPTION:***RSVP required\, call The Godfrey Miller Center office at 540-667-5869 to reserve your spot.\nTickets: $9.00
URL:https://godfreymillercenter.org/event/lunch-51/
LOCATION:Pavilion
END:VEVENT
BEGIN:VEVENT
DTSTART;TZID=America/New_York:20240613T130000
DTEND;TZID=America/New_York:20240613T150000
DTSTAMP:20260425T082324
CREATED:20240515T204430Z
LAST-MODIFIED:20240515T204430Z
UID:5234-1718283600-1718290800@godfreymillercenter.org
SUMMARY:Movie Matinee: The Miracle Club
DESCRIPTION:This movie is set in 1967 in Ballygar\, Ireland.  For women of Ballygar\, there is one dream\, to taste freedom and escape the mundane future of domestic life. Come watch the exciting story of close friends\, Lily\, Eileen\, Dolly and her son Daniel as they win a ticket of a lifetime to the French town of Lourdes.  Movie Run time: 90 minutes.  Movie snacks provided.
URL:https://godfreymillercenter.org/event/movie-matinee-the-miracle-club/
LOCATION:Pavilion
END:VEVENT
BEGIN:VEVENT
DTSTART;TZID=America/New_York:20240617T090000
DTEND;TZID=America/New_York:20240617T100000
DTSTAMP:20260425T082324
CREATED:20240515T204430Z
LAST-MODIFIED:20240515T204430Z
UID:5237-1718614800-1718618400@godfreymillercenter.org
SUMMARY:Walking Club
DESCRIPTION:
URL:https://godfreymillercenter.org/event/walking-club-74/
LOCATION:Courtyard
END:VEVENT
BEGIN:VEVENT
DTSTART;TZID=America/New_York:20240617T100000
DTEND;TZID=America/New_York:20240617T110000
DTSTAMP:20260425T082324
CREATED:20240515T204430Z
LAST-MODIFIED:20240515T204430Z
UID:5239-1718618400-1718622000@godfreymillercenter.org
SUMMARY:Jigsaw Puzzles
DESCRIPTION:
URL:https://godfreymillercenter.org/event/jigsaw-puzzles-38/
LOCATION:Front Sitting Room/Puzzle Room
END:VEVENT
BEGIN:VEVENT
DTSTART;TZID=America/New_York:20240617T100000
DTEND;TZID=America/New_York:20240617T120000
DTSTAMP:20260425T082324
CREATED:20240515T204430Z
LAST-MODIFIED:20240515T204430Z
UID:5236-1718618400-1718625600@godfreymillercenter.org
SUMMARY:Art Studio
DESCRIPTION:Art Studio is an open time for individuals to gather and work on their various art projects.  This is a social opportunity for artists of all levels to help each other and work independently. Recurs on every Monday of the month.
URL:https://godfreymillercenter.org/event/art-studio-101/
LOCATION:Pavilion
END:VEVENT
BEGIN:VEVENT
DTSTART;TZID=America/New_York:20240617T103000
DTEND;TZID=America/New_York:20240617T113000
DTSTAMP:20260425T082324
CREATED:20240515T204430Z
LAST-MODIFIED:20240515T204430Z
UID:5238-1718620200-1718623800@godfreymillercenter.org
SUMMARY:iPhone Help Session
DESCRIPTION:Join Program Coordinator Anna for help with your smart phone.  Bring your device\, account passwords\, and any questions!
URL:https://godfreymillercenter.org/event/iphone-help-session-8/
LOCATION:Parlor
END:VEVENT
BEGIN:VEVENT
DTSTART;TZID=America/New_York:20240617T123000
DTEND;TZID=America/New_York:20240617T133000
DTSTAMP:20260425T082324
CREATED:20240515T204430Z
LAST-MODIFIED:20240515T204430Z
UID:5240-1718627400-1718631000@godfreymillercenter.org
SUMMARY:Lunch
DESCRIPTION:***RSVP required\, call The Godfrey Miller Center office at 540-667-5869 to reserve your spot.\nTickets: $9.00
URL:https://godfreymillercenter.org/event/lunch-52/
LOCATION:Pavilion
END:VEVENT
BEGIN:VEVENT
DTSTART;TZID=America/New_York:20240617T140000
DTEND;TZID=America/New_York:20240617T150000
DTSTAMP:20260425T082324
CREATED:20240515T204430Z
LAST-MODIFIED:20240515T204430Z
UID:5241-1718632800-1718636400@godfreymillercenter.org
SUMMARY:Exercise for Balance & Strength
DESCRIPTION:A low-impact program that includes joint check/warm-up\, range of motion/stretching\, strengthening\, cardiovascular endurance\, and joint check/cool down. Led by Sonna Russell. Ms. Russell is a gifted coach and was trained through the Arthritis Foundation. (Suggested donation – $3.00)
URL:https://godfreymillercenter.org/event/exercise-for-balance-strength-39/
LOCATION:Pavilion
END:VEVENT
BEGIN:VEVENT
DTSTART;TZID=America/New_York:20240618T100000
DTEND;TZID=America/New_York:20240618T120000
DTSTAMP:20260425T082324
CREATED:20240515T204431Z
LAST-MODIFIED:20240515T204431Z
UID:5242-1718704800-1718712000@godfreymillercenter.org
SUMMARY:Canasta
DESCRIPTION:All are welcome to come and play Canasta!
URL:https://godfreymillercenter.org/event/canasta-109/
LOCATION:Parlor
END:VEVENT
BEGIN:VEVENT
DTSTART;TZID=America/New_York:20240618T100000
DTEND;TZID=America/New_York:20240618T120000
DTSTAMP:20260425T082324
CREATED:20240515T204431Z
LAST-MODIFIED:20240515T204431Z
UID:5243-1718704800-1718712000@godfreymillercenter.org
SUMMARY:Art Class: Acrylic & Watercolor Painting
DESCRIPTION:***RSVP required\, call The Godfrey Miller Center office at 540-667-5869 to reserve your spot.   \nIn this course\, students will develop painting skills\, techniques\, and aesthetic sensibilities related to artistic expression in acrylic and/or watercolor mediums. Each week will focus on a different subject\, emphasizing color and composition\, and enabling students to expand and better define their unique style and technique. Taught by master artist Kate Williams. (Suggested donation: $15 per class)
URL:https://godfreymillercenter.org/event/art-class-acrylic-watercolor-painting-44/
LOCATION:Pavilion
END:VEVENT
BEGIN:VEVENT
DTSTART;TZID=America/New_York:20240618T130000
DTEND;TZID=America/New_York:20240618T150000
DTSTAMP:20260425T082324
CREATED:20240515T204431Z
LAST-MODIFIED:20240515T204431Z
UID:5244-1718715600-1718722800@godfreymillercenter.org
SUMMARY:Art Class: Drawing
DESCRIPTION:***RSVP required\, call The Godfrey Miller Center office at 540-667-5869 to reserve your spot.   \nIn this course\, students will improve drawing skills through using a combination of mediums such as graphite\, charcoal\, pen\, and ink.  Students will have their choice of mediums to help define their styles. Taught by master artist Kate Williams. (Suggested donation: $15 per class)
URL:https://godfreymillercenter.org/event/art-class-drawing-44/
LOCATION:Parlor
END:VEVENT
BEGIN:VEVENT
DTSTART;TZID=America/New_York:20240618T140000
DTEND;TZID=America/New_York:20240618T150000
DTSTAMP:20260425T082324
CREATED:20240515T204431Z
LAST-MODIFIED:20240515T204431Z
UID:5245-1718719200-1718722800@godfreymillercenter.org
SUMMARY:Strength & Conditioning
DESCRIPTION:This class is designed to increase physical strength through resistance exercise. All major muscle groups are worked from head to toe. We finish with core conditioning\, breathing\, and stretching for a complete workout. Dumbbells are used for each class\, you can bring your own or use ours! Led by Program Coordinator Anna.
URL:https://godfreymillercenter.org/event/strength-conditioning-36/
LOCATION:Pavilion
END:VEVENT
BEGIN:VEVENT
DTSTART;TZID=America/New_York:20240619T110000
DTEND;TZID=America/New_York:20240619T120000
DTSTAMP:20260425T082324
CREATED:20240515T204431Z
LAST-MODIFIED:20240515T204431Z
UID:5246-1718794800-1718798400@godfreymillercenter.org
SUMMARY:Presentation: Rogers & Hammerstein
DESCRIPTION:Come learn about the musicals of Rogers & Hammerstein\, such as Oklahoma!\, Sound of Music\, South Pacific\, and more.  Presented by Executive Director\, Jason Gottschalk.
URL:https://godfreymillercenter.org/event/presentation-rogers-hammerstein-2/
LOCATION:Parlor
END:VEVENT
BEGIN:VEVENT
DTSTART;TZID=America/New_York:20240619T123000
DTEND;TZID=America/New_York:20240619T133000
DTSTAMP:20260425T082324
CREATED:20240515T204431Z
LAST-MODIFIED:20240515T204431Z
UID:5247-1718800200-1718803800@godfreymillercenter.org
SUMMARY:Lunch
DESCRIPTION:***RSVP required\, call The Godfrey Miller Center office at 540-667-5869 to reserve your spot.\nTickets: $9.00
URL:https://godfreymillercenter.org/event/lunch-53/
LOCATION:Pavilion
END:VEVENT
BEGIN:VEVENT
DTSTART;TZID=America/New_York:20240619T140000
DTEND;TZID=America/New_York:20240619T150000
DTSTAMP:20260425T082324
CREATED:20240515T204431Z
LAST-MODIFIED:20240515T204431Z
UID:5248-1718805600-1718809200@godfreymillercenter.org
SUMMARY:Exercise for Balance & Strength
DESCRIPTION:A low-impact program that includes joint check/warm-up\, range of motion/stretching\, strengthening\, cardiovascular endurance\, and joint check/cool down. Led by Sonna Russell. Ms. Russell is a gifted coach and was trained through the Arthritis Foundation. (Suggested donation – $3.00)
URL:https://godfreymillercenter.org/event/exercise-for-balance-strength-40/
LOCATION:Pavilion
END:VEVENT
BEGIN:VEVENT
DTSTART;TZID=America/New_York:20240620T100000
DTEND;TZID=America/New_York:20240620T120000
DTSTAMP:20260425T082324
CREATED:20240515T204431Z
LAST-MODIFIED:20240515T204431Z
UID:5249-1718877600-1718884800@godfreymillercenter.org
SUMMARY:Mahjong
DESCRIPTION:All are welcome to come and play Mahjong!
URL:https://godfreymillercenter.org/event/mahjong-103/
LOCATION:Parlor
END:VEVENT
BEGIN:VEVENT
DTSTART;TZID=America/New_York:20240620T123000
DTEND;TZID=America/New_York:20240620T133000
DTSTAMP:20260425T082324
CREATED:20240515T204432Z
LAST-MODIFIED:20240515T204432Z
UID:5250-1718886600-1718890200@godfreymillercenter.org
SUMMARY:Lunch
DESCRIPTION:***RSVP required\, call The Godfrey Miller Center office at 540-667-5869 to reserve your spot.\nTickets: $9.00
URL:https://godfreymillercenter.org/event/lunch-54/
LOCATION:Pavilion
END:VEVENT
BEGIN:VEVENT
DTSTART;TZID=America/New_York:20240620T140000
DTEND;TZID=America/New_York:20240620T150000
DTSTAMP:20260425T082324
CREATED:20240515T204432Z
LAST-MODIFIED:20240515T204432Z
UID:5251-1718892000-1718895600@godfreymillercenter.org
SUMMARY:Strength & Conditioning
DESCRIPTION:This class is designed to increase physical strength through resistance exercise. All major muscle groups are worked from head to toe. We finish with core conditioning\, breathing\, and stretching for a complete workout. Dumbbells are used for each class\, you can bring your own or use ours! Led by Program Coordinator Anna.
URL:https://godfreymillercenter.org/event/strength-conditioning-37/
LOCATION:Pavilion
END:VEVENT
BEGIN:VEVENT
DTSTART;TZID=America/New_York:20240624T090000
DTEND;TZID=America/New_York:20240624T100000
DTSTAMP:20260425T082324
CREATED:20240515T204432Z
LAST-MODIFIED:20240515T204432Z
UID:5253-1719219600-1719223200@godfreymillercenter.org
SUMMARY:Walking Club
DESCRIPTION:
URL:https://godfreymillercenter.org/event/walking-club-75/
LOCATION:Courtyard
END:VEVENT
BEGIN:VEVENT
DTSTART;TZID=America/New_York:20240624T100000
DTEND;TZID=America/New_York:20240624T110000
DTSTAMP:20260425T082324
CREATED:20240515T204432Z
LAST-MODIFIED:20240515T204432Z
UID:5254-1719223200-1719226800@godfreymillercenter.org
SUMMARY:Jigsaw Puzzles
DESCRIPTION:
URL:https://godfreymillercenter.org/event/jigsaw-puzzles-39/
LOCATION:Front Sitting Room/Puzzle Room
END:VEVENT
BEGIN:VEVENT
DTSTART;TZID=America/New_York:20240624T100000
DTEND;TZID=America/New_York:20240624T120000
DTSTAMP:20260425T082324
CREATED:20240515T204432Z
LAST-MODIFIED:20240515T204432Z
UID:5252-1719223200-1719230400@godfreymillercenter.org
SUMMARY:Art Studio
DESCRIPTION:Art Studio is an open time for individuals to gather and work on their various art projects.  This is a social opportunity for artists of all levels to help each other and work independently. Recurs on every Monday of the month.
URL:https://godfreymillercenter.org/event/art-studio-102/
LOCATION:Pavilion
END:VEVENT
BEGIN:VEVENT
DTSTART;TZID=America/New_York:20240624T123000
DTEND;TZID=America/New_York:20240624T133000
DTSTAMP:20260425T082324
CREATED:20240515T204432Z
LAST-MODIFIED:20240515T204432Z
UID:5255-1719232200-1719235800@godfreymillercenter.org
SUMMARY:Lunch
DESCRIPTION:***RSVP required\, call The Godfrey Miller Center office at 540-667-5869 to reserve your spot.\nTickets: $9.00
URL:https://godfreymillercenter.org/event/lunch-55/
LOCATION:Pavilion
END:VEVENT
BEGIN:VEVENT
DTSTART;TZID=America/New_York:20240624T140000
DTEND;TZID=America/New_York:20240624T150000
DTSTAMP:20260425T082324
CREATED:20240515T204432Z
LAST-MODIFIED:20240515T204432Z
UID:5256-1719237600-1719241200@godfreymillercenter.org
SUMMARY:Exercise for Balance & Strength
DESCRIPTION:A low-impact program that includes joint check/warm-up\, range of motion/stretching\, strengthening\, cardiovascular endurance\, and joint check/cool down. Led by Sonna Russell. Ms. Russell is a gifted coach and was trained through the Arthritis Foundation. (Suggested donation – $3.00)
URL:https://godfreymillercenter.org/event/exercise-for-balance-strength-41/
LOCATION:Pavilion
END:VEVENT
BEGIN:VEVENT
DTSTART;TZID=America/New_York:20240625T100000
DTEND;TZID=America/New_York:20240625T120000
DTSTAMP:20260425T082324
CREATED:20240515T204432Z
LAST-MODIFIED:20240515T204432Z
UID:5257-1719309600-1719316800@godfreymillercenter.org
SUMMARY:Art Class: Acrylic & Watercolor Painting
DESCRIPTION:***RSVP required\, call The Godfrey Miller Center office at 540-667-5869 to reserve your spot.   \nIn this course\, students will develop painting skills\, techniques\, and aesthetic sensibilities related to artistic expression in acrylic and/or watercolor mediums. Each week will focus on a different subject\, emphasizing color and composition\, and enabling students to expand and better define their unique style and technique. Taught by master artist Kate Williams. (Suggested donation: $15 per class)
URL:https://godfreymillercenter.org/event/art-class-acrylic-watercolor-painting-45/
LOCATION:Pavilion
END:VEVENT
END:VCALENDAR