BEGIN:VCALENDAR
VERSION:2.0
PRODID:-//Godfrey Miller Center - ECPv6.15.20//NONSGML v1.0//EN
CALSCALE:GREGORIAN
METHOD:PUBLISH
X-ORIGINAL-URL:https://godfreymillercenter.org
X-WR-CALDESC:Events for Godfrey Miller Center
REFRESH-INTERVAL;VALUE=DURATION:PT1H
X-Robots-Tag:noindex
X-PUBLISHED-TTL:PT1H
BEGIN:VTIMEZONE
TZID:America/New_York
BEGIN:DAYLIGHT
TZOFFSETFROM:-0500
TZOFFSETTO:-0400
TZNAME:EDT
DTSTART:20230312T070000
END:DAYLIGHT
BEGIN:STANDARD
TZOFFSETFROM:-0400
TZOFFSETTO:-0500
TZNAME:EST
DTSTART:20231105T060000
END:STANDARD
BEGIN:DAYLIGHT
TZOFFSETFROM:-0500
TZOFFSETTO:-0400
TZNAME:EDT
DTSTART:20240310T070000
END:DAYLIGHT
BEGIN:STANDARD
TZOFFSETFROM:-0400
TZOFFSETTO:-0500
TZNAME:EST
DTSTART:20241103T060000
END:STANDARD
BEGIN:DAYLIGHT
TZOFFSETFROM:-0500
TZOFFSETTO:-0400
TZNAME:EDT
DTSTART:20250309T070000
END:DAYLIGHT
BEGIN:STANDARD
TZOFFSETFROM:-0400
TZOFFSETTO:-0500
TZNAME:EST
DTSTART:20251102T060000
END:STANDARD
END:VTIMEZONE
BEGIN:VEVENT
DTSTART;TZID=America/New_York:20240514T100000
DTEND;TZID=America/New_York:20240514T120000
DTSTAMP:20260425T101312
CREATED:20240429T235358Z
LAST-MODIFIED:20240429T235358Z
UID:5181-1715680800-1715688000@godfreymillercenter.org
SUMMARY:Canasta
DESCRIPTION:All are welcome to come and play Canasta!
URL:https://godfreymillercenter.org/event/canasta-105/
LOCATION:Parlor
END:VEVENT
BEGIN:VEVENT
DTSTART;TZID=America/New_York:20240514T140000
DTEND;TZID=America/New_York:20240514T150000
DTSTAMP:20260425T101312
CREATED:20240429T235358Z
LAST-MODIFIED:20240429T235358Z
UID:5182-1715695200-1715698800@godfreymillercenter.org
SUMMARY:Strength & Conditioning
DESCRIPTION:This class is designed to increase physical strength through resistance exercise. All major muscle groups are worked from head to toe. We finish with core conditioning\, breathing\, and stretching for a complete workout. Dumbbells are used for each class\, you can bring your own or use ours! Led by Program Coordinator Anna.
URL:https://godfreymillercenter.org/event/strength-conditioning-29/
LOCATION:Pavilion
END:VEVENT
BEGIN:VEVENT
DTSTART;TZID=America/New_York:20240515T103000
DTEND;TZID=America/New_York:20240515T120000
DTSTAMP:20260425T101312
CREATED:20240429T235358Z
LAST-MODIFIED:20240429T235358Z
UID:5183-1715769000-1715774400@godfreymillercenter.org
SUMMARY:Workshop: Birthday & Condolence Cards
DESCRIPTION:Join Lorraine for a birthday and condolences card workshop!  This workshop will guide you through making custom cards for you to share with your friends and family.  (Suggested Donation: $5) \n***RSVP required\, call The Godfrey Miller Center office at 540-667-5869 to reserve your spot.
URL:https://godfreymillercenter.org/event/workshop-birthday-condolence-cards/
LOCATION:Parlor
END:VEVENT
BEGIN:VEVENT
DTSTART;TZID=America/New_York:20240515T123000
DTEND;TZID=America/New_York:20240515T133000
DTSTAMP:20260425T101312
CREATED:20240429T235358Z
LAST-MODIFIED:20240429T235358Z
UID:5184-1715776200-1715779800@godfreymillercenter.org
SUMMARY:Lunch
DESCRIPTION:***RSVP required\, call The Godfrey Miller Center office at 540-667-5869 to reserve your spot.\nTickets: $9.00
URL:https://godfreymillercenter.org/event/lunch-42/
LOCATION:Pavilion
END:VEVENT
BEGIN:VEVENT
DTSTART;TZID=America/New_York:20240515T140000
DTEND;TZID=America/New_York:20240515T150000
DTSTAMP:20260425T101312
CREATED:20240429T235358Z
LAST-MODIFIED:20240429T235358Z
UID:5185-1715781600-1715785200@godfreymillercenter.org
SUMMARY:Exercise for Balance & Strength
DESCRIPTION:A low-impact program that includes joint check/warm-up\, range of motion/stretching\, strengthening\, cardiovascular endurance\, and joint check/cool down. Led by Sonna Russell. Ms. Russell is a gifted coach and was trained through the Arthritis Foundation. (Suggested donation – $3.00)
URL:https://godfreymillercenter.org/event/exercise-for-balance-strength-32/
LOCATION:Pavilion
END:VEVENT
BEGIN:VEVENT
DTSTART;TZID=America/New_York:20240516T100000
DTEND;TZID=America/New_York:20240516T120000
DTSTAMP:20260425T101312
CREATED:20240429T235358Z
LAST-MODIFIED:20240429T235358Z
UID:5186-1715853600-1715860800@godfreymillercenter.org
SUMMARY:Mahjong
DESCRIPTION:All are welcome to come and play Mahjong!
URL:https://godfreymillercenter.org/event/mahjong-99/
LOCATION:Parlor
END:VEVENT
BEGIN:VEVENT
DTSTART;TZID=America/New_York:20240516T123000
DTEND;TZID=America/New_York:20240516T133000
DTSTAMP:20260425T101312
CREATED:20240429T235358Z
LAST-MODIFIED:20240429T235358Z
UID:5187-1715862600-1715866200@godfreymillercenter.org
SUMMARY:Lunch
DESCRIPTION:***RSVP required\, call The Godfrey Miller Center office at 540-667-5869 to reserve your spot.\nTickets: $9.00
URL:https://godfreymillercenter.org/event/lunch-43/
LOCATION:Pavilion
END:VEVENT
BEGIN:VEVENT
DTSTART;TZID=America/New_York:20240516T140000
DTEND;TZID=America/New_York:20240516T150000
DTSTAMP:20260425T101312
CREATED:20240429T235358Z
LAST-MODIFIED:20240429T235358Z
UID:5188-1715868000-1715871600@godfreymillercenter.org
SUMMARY:Strength & Conditioning
DESCRIPTION:This class is designed to increase physical strength through resistance exercise. All major muscle groups are worked from head to toe. We finish with core conditioning\, breathing\, and stretching for a complete workout. Dumbbells are used for each class\, you can bring your own or use ours! Led by Program Coordinator Anna.
URL:https://godfreymillercenter.org/event/strength-conditioning-30/
LOCATION:Pavilion
END:VEVENT
BEGIN:VEVENT
DTSTART;TZID=America/New_York:20240518T170000
DTEND;TZID=America/New_York:20240518T203000
DTSTAMP:20260425T101312
CREATED:20240429T235359Z
LAST-MODIFIED:20240429T235359Z
UID:5189-1716051600-1716064200@godfreymillercenter.org
SUMMARY:Friends of Godfrey Annual Dinner & Silent Auction
DESCRIPTION:
URL:https://godfreymillercenter.org/event/friends-of-godfrey-annual-dinner-silent-auction/
END:VEVENT
BEGIN:VEVENT
DTSTART;TZID=America/New_York:20240520T090000
DTEND;TZID=America/New_York:20240520T100000
DTSTAMP:20260425T101312
CREATED:20240429T235359Z
LAST-MODIFIED:20240429T235359Z
UID:5191-1716195600-1716199200@godfreymillercenter.org
SUMMARY:Walking Club
DESCRIPTION:
URL:https://godfreymillercenter.org/event/walking-club-72/
LOCATION:Courtyard
END:VEVENT
BEGIN:VEVENT
DTSTART;TZID=America/New_York:20240520T100000
DTEND;TZID=America/New_York:20240520T110000
DTSTAMP:20260425T101312
CREATED:20240429T235359Z
LAST-MODIFIED:20240429T235359Z
UID:5190-1716199200-1716202800@godfreymillercenter.org
SUMMARY:Jigsaw Puzzles
DESCRIPTION:
URL:https://godfreymillercenter.org/event/jigsaw-puzzles-36/
LOCATION:Front Sitting Room/Puzzle Room
END:VEVENT
BEGIN:VEVENT
DTSTART;TZID=America/New_York:20240520T100000
DTEND;TZID=America/New_York:20240520T120000
DTSTAMP:20260425T101312
CREATED:20240429T235359Z
LAST-MODIFIED:20240429T235359Z
UID:5192-1716199200-1716206400@godfreymillercenter.org
SUMMARY:Art Studio
DESCRIPTION:Art Studio is an open time for individuals to gather and work on their various art projects.  This is a social opportunity for artists of all levels to help each other and work independently. Recurs on every Monday of the month.
URL:https://godfreymillercenter.org/event/art-studio-99/
LOCATION:Pavilion
END:VEVENT
BEGIN:VEVENT
DTSTART;TZID=America/New_York:20240520T110000
DTEND;TZID=America/New_York:20240520T120000
DTSTAMP:20260425T101312
CREATED:20240429T235359Z
LAST-MODIFIED:20240429T235359Z
UID:5193-1716202800-1716206400@godfreymillercenter.org
SUMMARY:Bingo
DESCRIPTION:Join us for a game of Bingo!  There will be many useful and fun prizes available for you to win. \n***RSVP required\, call The Godfrey Miller Center office at 540-667-5869 to reserve your spot.
URL:https://godfreymillercenter.org/event/bingo-6/
LOCATION:Parlor
END:VEVENT
BEGIN:VEVENT
DTSTART;TZID=America/New_York:20240520T123000
DTEND;TZID=America/New_York:20240520T133000
DTSTAMP:20260425T101312
CREATED:20240429T235359Z
LAST-MODIFIED:20240429T235359Z
UID:5194-1716208200-1716211800@godfreymillercenter.org
SUMMARY:Lunch
DESCRIPTION:***RSVP required\, call The Godfrey Miller Center office at 540-667-5869 to reserve your spot.\nTickets: $9.00
URL:https://godfreymillercenter.org/event/lunch-44/
LOCATION:Pavilion
END:VEVENT
BEGIN:VEVENT
DTSTART;TZID=America/New_York:20240520T140000
DTEND;TZID=America/New_York:20240520T150000
DTSTAMP:20260425T101312
CREATED:20240429T235359Z
LAST-MODIFIED:20240429T235359Z
UID:5195-1716213600-1716217200@godfreymillercenter.org
SUMMARY:Exercise for Balance & Strength
DESCRIPTION:A low-impact program that includes joint check/warm-up\, range of motion/stretching\, strengthening\, cardiovascular endurance\, and joint check/cool down. Led by Sonna Russell. Ms. Russell is a gifted coach and was trained through the Arthritis Foundation. (Suggested donation – $3.00)
URL:https://godfreymillercenter.org/event/exercise-for-balance-strength-33/
LOCATION:Pavilion
END:VEVENT
BEGIN:VEVENT
DTSTART;TZID=America/New_York:20240521T100000
DTEND;TZID=America/New_York:20240521T120000
DTSTAMP:20260425T101312
CREATED:20240429T235359Z
LAST-MODIFIED:20240429T235359Z
UID:5196-1716285600-1716292800@godfreymillercenter.org
SUMMARY:Art Class: Acrylic & Watercolor Painting
DESCRIPTION:***RSVP required\, call The Godfrey Miller Center office at 540-667-5869 to reserve your spot.   \nIn this course\, students will develop painting skills\, techniques\, and aesthetic sensibilities related to artistic expression in acrylic and/or watercolor mediums. Each week will focus on a different subject\, emphasizing color and composition\, and enabling students to expand and better define their unique style and technique. Taught by master artist Kate Williams. (Suggested donation: $15 per class)
URL:https://godfreymillercenter.org/event/art-class-acrylic-watercolor-painting-41/
LOCATION:Pavilion
END:VEVENT
BEGIN:VEVENT
DTSTART;TZID=America/New_York:20240521T100000
DTEND;TZID=America/New_York:20240521T120000
DTSTAMP:20260425T101312
CREATED:20240429T235359Z
LAST-MODIFIED:20240429T235359Z
UID:5197-1716285600-1716292800@godfreymillercenter.org
SUMMARY:Canasta
DESCRIPTION:All are welcome to come and play Canasta!
URL:https://godfreymillercenter.org/event/canasta-106/
LOCATION:Parlor
END:VEVENT
BEGIN:VEVENT
DTSTART;TZID=America/New_York:20240521T130000
DTEND;TZID=America/New_York:20240521T150000
DTSTAMP:20260425T101312
CREATED:20240429T235400Z
LAST-MODIFIED:20240429T235400Z
UID:5199-1716296400-1716303600@godfreymillercenter.org
SUMMARY:Art Class: Drawing
DESCRIPTION:***RSVP required\, call The Godfrey Miller Center office at 540-667-5869 to reserve your spot.   \nIn this course\, students will improve drawing skills through using a combination of mediums such as graphite\, charcoal\, pen\, and ink.  Students will have their choice of mediums to help define their styles. Taught by master artist Kate Williams. (Suggested donation: $15 per class)
URL:https://godfreymillercenter.org/event/art-class-drawing-41/
LOCATION:Parlor
END:VEVENT
BEGIN:VEVENT
DTSTART;TZID=America/New_York:20240521T140000
DTEND;TZID=America/New_York:20240521T150000
DTSTAMP:20260425T101312
CREATED:20240429T235359Z
LAST-MODIFIED:20240429T235359Z
UID:5198-1716300000-1716303600@godfreymillercenter.org
SUMMARY:Strength & Conditioning
DESCRIPTION:This class is designed to increase physical strength through resistance exercise. All major muscle groups are worked from head to toe. We finish with core conditioning\, breathing\, and stretching for a complete workout. Dumbbells are used for each class\, you can bring your own or use ours! Led by Program Coordinator Anna.
URL:https://godfreymillercenter.org/event/strength-conditioning-31/
LOCATION:Pavilion
END:VEVENT
BEGIN:VEVENT
DTSTART;TZID=America/New_York:20240522T103000
DTEND;TZID=America/New_York:20240522T113000
DTSTAMP:20260425T101312
CREATED:20240429T235400Z
LAST-MODIFIED:20240429T235400Z
UID:5200-1716373800-1716377400@godfreymillercenter.org
SUMMARY:Workshop: Diamond Art Bookmarks
DESCRIPTION:Come make a bookmark with diamonds!  Instructions and supplies are provided.  (Suggested Donation: $5) \n***RSVP required\, call The Godfrey Miller Center office at 540-667-5869 to reserve your spot.
URL:https://godfreymillercenter.org/event/workshop-diamond-art-bookmarks/
LOCATION:Parlor
END:VEVENT
BEGIN:VEVENT
DTSTART;TZID=America/New_York:20240522T123000
DTEND;TZID=America/New_York:20240522T133000
DTSTAMP:20260425T101312
CREATED:20240429T235400Z
LAST-MODIFIED:20240429T235400Z
UID:5201-1716381000-1716384600@godfreymillercenter.org
SUMMARY:Lunch
DESCRIPTION:***RSVP required\, call The Godfrey Miller Center office at 540-667-5869 to reserve your spot.\nTickets: $9.00
URL:https://godfreymillercenter.org/event/lunch-45/
LOCATION:Pavilion
END:VEVENT
BEGIN:VEVENT
DTSTART;TZID=America/New_York:20240522T140000
DTEND;TZID=America/New_York:20240522T150000
DTSTAMP:20260425T101312
CREATED:20240429T235400Z
LAST-MODIFIED:20240429T235400Z
UID:5202-1716386400-1716390000@godfreymillercenter.org
SUMMARY:Exercise for Balance & Strength
DESCRIPTION:A low-impact program that includes joint check/warm-up\, range of motion/stretching\, strengthening\, cardiovascular endurance\, and joint check/cool down. Led by Sonna Russell. Ms. Russell is a gifted coach and was trained through the Arthritis Foundation. (Suggested donation – $3.00)
URL:https://godfreymillercenter.org/event/exercise-for-balance-strength-34/
LOCATION:Pavilion
END:VEVENT
BEGIN:VEVENT
DTSTART;TZID=America/New_York:20240523T100000
DTEND;TZID=America/New_York:20240523T120000
DTSTAMP:20260425T101312
CREATED:20240429T235400Z
LAST-MODIFIED:20240429T235400Z
UID:5203-1716458400-1716465600@godfreymillercenter.org
SUMMARY:Mahjong
DESCRIPTION:All are welcome to come and play Mahjong!
URL:https://godfreymillercenter.org/event/mahjong-100/
LOCATION:Parlor
END:VEVENT
BEGIN:VEVENT
DTSTART;TZID=America/New_York:20240523T123000
DTEND;TZID=America/New_York:20240523T133000
DTSTAMP:20260425T101312
CREATED:20240429T235400Z
LAST-MODIFIED:20240429T235400Z
UID:5204-1716467400-1716471000@godfreymillercenter.org
SUMMARY:Lunch
DESCRIPTION:***RSVP required\, call The Godfrey Miller Center office at 540-667-5869 to reserve your spot.\nTickets: $9.00
URL:https://godfreymillercenter.org/event/lunch-46/
LOCATION:Pavilion
END:VEVENT
BEGIN:VEVENT
DTSTART;TZID=America/New_York:20240523T140000
DTEND;TZID=America/New_York:20240523T150000
DTSTAMP:20260425T101312
CREATED:20240429T235400Z
LAST-MODIFIED:20240429T235400Z
UID:5205-1716472800-1716476400@godfreymillercenter.org
SUMMARY:Strength & Conditioning
DESCRIPTION:This class is designed to increase physical strength through resistance exercise. All major muscle groups are worked from head to toe. We finish with core conditioning\, breathing\, and stretching for a complete workout. Dumbbells are used for each class\, you can bring your own or use ours! Led by Program Coordinator Anna.
URL:https://godfreymillercenter.org/event/strength-conditioning-32/
LOCATION:Pavilion
END:VEVENT
BEGIN:VEVENT
DTSTART;TZID=America/New_York:20240527T100000
DTEND;TZID=America/New_York:20240527T150000
DTSTAMP:20260425T101312
CREATED:20240429T235400Z
LAST-MODIFIED:20240429T235400Z
UID:5206-1716804000-1716822000@godfreymillercenter.org
SUMMARY:Closed for Memorial Day
DESCRIPTION:Godfrey Miller Center will be closed on Monday\, May 27 in recognition of Memorial Day.
URL:https://godfreymillercenter.org/event/closed-for-memorial-day/
END:VEVENT
BEGIN:VEVENT
DTSTART;TZID=America/New_York:20240528T100000
DTEND;TZID=America/New_York:20240528T120000
DTSTAMP:20260425T101312
CREATED:20240429T235400Z
LAST-MODIFIED:20240429T235400Z
UID:5207-1716890400-1716897600@godfreymillercenter.org
SUMMARY:Art Class: Acrylic & Watercolor Painting
DESCRIPTION:***RSVP required\, call The Godfrey Miller Center office at 540-667-5869 to reserve your spot.   \nIn this course\, students will develop painting skills\, techniques\, and aesthetic sensibilities related to artistic expression in acrylic and/or watercolor mediums. Each week will focus on a different subject\, emphasizing color and composition\, and enabling students to expand and better define their unique style and technique. Taught by master artist Kate Williams. (Suggested donation: $15 per class)
URL:https://godfreymillercenter.org/event/art-class-acrylic-watercolor-painting-42/
LOCATION:Pavilion
END:VEVENT
BEGIN:VEVENT
DTSTART;TZID=America/New_York:20240528T100000
DTEND;TZID=America/New_York:20240528T120000
DTSTAMP:20260425T101312
CREATED:20240429T235401Z
LAST-MODIFIED:20240429T235401Z
UID:5208-1716890400-1716897600@godfreymillercenter.org
SUMMARY:Canasta
DESCRIPTION:All are welcome to come and play Canasta!
URL:https://godfreymillercenter.org/event/canasta-107/
LOCATION:Parlor
END:VEVENT
BEGIN:VEVENT
DTSTART;TZID=America/New_York:20240528T130000
DTEND;TZID=America/New_York:20240528T150000
DTSTAMP:20260425T101312
CREATED:20240429T235401Z
LAST-MODIFIED:20240429T235401Z
UID:5209-1716901200-1716908400@godfreymillercenter.org
SUMMARY:Art Class: Drawing
DESCRIPTION:***RSVP required\, call The Godfrey Miller Center office at 540-667-5869 to reserve your spot.   \nIn this course\, students will improve drawing skills through using a combination of mediums such as graphite\, charcoal\, pen\, and ink.  Students will have their choice of mediums to help define their styles. Taught by master artist Kate Williams. (Suggested donation: $15 per class)
URL:https://godfreymillercenter.org/event/art-class-drawing-42/
LOCATION:Parlor
END:VEVENT
BEGIN:VEVENT
DTSTART;TZID=America/New_York:20240528T140000
DTEND;TZID=America/New_York:20240528T150000
DTSTAMP:20260425T101312
CREATED:20240429T235401Z
LAST-MODIFIED:20240429T235401Z
UID:5210-1716904800-1716908400@godfreymillercenter.org
SUMMARY:Strength & Conditioning
DESCRIPTION:This class is designed to increase physical strength through resistance exercise. All major muscle groups are worked from head to toe. We finish with core conditioning\, breathing\, and stretching for a complete workout. Dumbbells are used for each class\, you can bring your own or use ours! Led by Program Coordinator Anna.
URL:https://godfreymillercenter.org/event/strength-conditioning-33/
LOCATION:Pavilion
END:VEVENT
END:VCALENDAR