BEGIN:VCALENDAR
VERSION:2.0
PRODID:-//Godfrey Miller Center - ECPv6.15.20//NONSGML v1.0//EN
CALSCALE:GREGORIAN
METHOD:PUBLISH
X-WR-CALNAME:Godfrey Miller Center
X-ORIGINAL-URL:https://godfreymillercenter.org
X-WR-CALDESC:Events for Godfrey Miller Center
REFRESH-INTERVAL;VALUE=DURATION:PT1H
X-Robots-Tag:noindex
X-PUBLISHED-TTL:PT1H
BEGIN:VTIMEZONE
TZID:America/New_York
BEGIN:DAYLIGHT
TZOFFSETFROM:-0500
TZOFFSETTO:-0400
TZNAME:EDT
DTSTART:20240310T070000
END:DAYLIGHT
BEGIN:STANDARD
TZOFFSETFROM:-0400
TZOFFSETTO:-0500
TZNAME:EST
DTSTART:20241103T060000
END:STANDARD
BEGIN:DAYLIGHT
TZOFFSETFROM:-0500
TZOFFSETTO:-0400
TZNAME:EDT
DTSTART:20250309T070000
END:DAYLIGHT
BEGIN:STANDARD
TZOFFSETFROM:-0400
TZOFFSETTO:-0500
TZNAME:EST
DTSTART:20251102T060000
END:STANDARD
BEGIN:DAYLIGHT
TZOFFSETFROM:-0500
TZOFFSETTO:-0400
TZNAME:EDT
DTSTART:20260308T070000
END:DAYLIGHT
BEGIN:STANDARD
TZOFFSETFROM:-0400
TZOFFSETTO:-0500
TZNAME:EST
DTSTART:20261101T060000
END:STANDARD
END:VTIMEZONE
BEGIN:VEVENT
DTSTART;TZID=America/New_York:20250623T100000
DTEND;TZID=America/New_York:20250623T120000
DTSTAMP:20260424T081010
CREATED:20250529T143024Z
LAST-MODIFIED:20250529T143024Z
UID:6109-1750672800-1750680000@godfreymillercenter.org
SUMMARY:Art Studio
DESCRIPTION:Art Studio is an open time for individuals to gather and work on their various art projects.  This is a social opportunity for artists of all levels to help each other and work independently. Recurs on every Monday of the month.
URL:https://godfreymillercenter.org/event/art-studio-136/
LOCATION:Pavilion
END:VEVENT
BEGIN:VEVENT
DTSTART;TZID=America/New_York:20250623T100000
DTEND;TZID=America/New_York:20250623T110000
DTSTAMP:20260424T081010
CREATED:20250529T143024Z
LAST-MODIFIED:20250529T143024Z
UID:6108-1750672800-1750676400@godfreymillercenter.org
SUMMARY:Jigsaw Puzzles
DESCRIPTION:
URL:https://godfreymillercenter.org/event/jigsaw-puzzles-73/
LOCATION:Front Sitting Room/Puzzle Room
END:VEVENT
BEGIN:VEVENT
DTSTART;TZID=America/New_York:20250619T130000
DTEND;TZID=America/New_York:20250619T140000
DTSTAMP:20260424T081010
CREATED:20250529T143023Z
LAST-MODIFIED:20250529T161258Z
UID:6107-1750338000-1750341600@godfreymillercenter.org
SUMMARY:Summer Tea Party
DESCRIPTION:Join us for a charming Summer Tea Party\, where refreshing blends\, delicate treats\, and warm company come together in a beautifully cozy setting. Sip\, savor\, and celebrate the season in style with an afternoon of elegance and delight. \n***RSVP required\, call The Godfrey Miller Center office at 540-667-5869 to reserve your spot. \nTickets: $25
URL:https://godfreymillercenter.org/event/summer-tea-party/
LOCATION:VA
END:VEVENT
BEGIN:VEVENT
DTSTART;TZID=America/New_York:20250619T100000
DTEND;TZID=America/New_York:20250619T120000
DTSTAMP:20260424T081010
CREATED:20250529T143023Z
LAST-MODIFIED:20250529T143023Z
UID:6104-1750327200-1750334400@godfreymillercenter.org
SUMMARY:Mahjong
DESCRIPTION:
URL:https://godfreymillercenter.org/event/mahjong-140/
LOCATION:Parlor
END:VEVENT
BEGIN:VEVENT
DTSTART;TZID=America/New_York:20250618T140000
DTEND;TZID=America/New_York:20250618T150000
DTSTAMP:20260424T081010
CREATED:20250529T143023Z
LAST-MODIFIED:20250529T143023Z
UID:6103-1750255200-1750258800@godfreymillercenter.org
SUMMARY:Exercise for Balance & Strength
DESCRIPTION:A low-impact program that includes joint check/warm-up\, range of motion/stretching\, strengthening\, cardiovascular endurance\, and joint check/cool down. Led by Sonna Russell. Ms. Russell is a gifted coach and was trained through the Arthritis Foundation. (Suggested donation – $3.00)
URL:https://godfreymillercenter.org/event/exercise-for-balance-strength-124/
LOCATION:Pavilion
END:VEVENT
BEGIN:VEVENT
DTSTART;TZID=America/New_York:20250618T123000
DTEND;TZID=America/New_York:20250618T133000
DTSTAMP:20260424T081010
CREATED:20250529T143022Z
LAST-MODIFIED:20250529T143022Z
UID:6102-1750249800-1750253400@godfreymillercenter.org
SUMMARY:Lunch
DESCRIPTION:***RSVP required\, call The Godfrey Miller Center office at 540-667-5869 to reserve your spot.\nTickets: $10
URL:https://godfreymillercenter.org/event/lunch-159/
LOCATION:Pavilion
END:VEVENT
BEGIN:VEVENT
DTSTART;TZID=America/New_York:20250618T103000
DTEND;TZID=America/New_York:20250618T113000
DTSTAMP:20260424T081010
CREATED:20250529T143022Z
LAST-MODIFIED:20250529T143022Z
UID:6101-1750242600-1750246200@godfreymillercenter.org
SUMMARY:Workshop: Diamond Art
DESCRIPTION:Come make a unique diamond art craft!  Instructions and supplies are provided.  (Suggested Donation: $5) \n***RSVP required\, call The Godfrey Miller Center office at 540-667-5869 to reserve your spot.
URL:https://godfreymillercenter.org/event/workshop-diamond-art-4/
LOCATION:Parlor
END:VEVENT
BEGIN:VEVENT
DTSTART;TZID=America/New_York:20250617T140000
DTEND;TZID=America/New_York:20250617T150000
DTSTAMP:20260424T081010
CREATED:20250529T143022Z
LAST-MODIFIED:20250529T143022Z
UID:6099-1750168800-1750172400@godfreymillercenter.org
SUMMARY:Strength & Conditioning
DESCRIPTION:This class is designed to increase physical strength through resistance exercise. All major muscle groups are worked from head to toe. We finish with core conditioning\, breathing\, and stretching for a complete workout. Dumbbells are used for each class\, you can bring your own or use ours! Led by Program Coordinator Anna.
URL:https://godfreymillercenter.org/event/strength-conditioning-110/
LOCATION:Pavilion
END:VEVENT
BEGIN:VEVENT
DTSTART;TZID=America/New_York:20250617T130000
DTEND;TZID=America/New_York:20250617T150000
DTSTAMP:20260424T081010
CREATED:20250529T143022Z
LAST-MODIFIED:20250529T143022Z
UID:6098-1750165200-1750172400@godfreymillercenter.org
SUMMARY:Art Class: Drawing
DESCRIPTION:***RSVP required\, call The Godfrey Miller Center office at 540-667-5869 to reserve your spot.   \nIn this course\, students will improve drawing skills through using a combination of mediums such as graphite\, charcoal\, pen\, and ink.  Students will have their choice of mediums to help define their styles. Taught by Artist Tracy Burk. (Suggested donation: $15 per class)
URL:https://godfreymillercenter.org/event/art-class-drawing-68/
LOCATION:VA
END:VEVENT
BEGIN:VEVENT
DTSTART;TZID=America/New_York:20250617T130000
DTEND;TZID=America/New_York:20250617T140000
DTSTAMP:20260424T081010
CREATED:20250529T143022Z
LAST-MODIFIED:20250529T143022Z
UID:6100-1750165200-1750168800@godfreymillercenter.org
SUMMARY:Meditation
DESCRIPTION:Join Meditation Instructor Mercia for a guided meditation session.  It is a perfect midweek refresh!
URL:https://godfreymillercenter.org/event/meditation-6/
LOCATION:VA
END:VEVENT
BEGIN:VEVENT
DTSTART;TZID=America/New_York:20250617T100000
DTEND;TZID=America/New_York:20250617T120000
DTSTAMP:20260424T081010
CREATED:20250529T143022Z
LAST-MODIFIED:20250529T143022Z
UID:6096-1750154400-1750161600@godfreymillercenter.org
SUMMARY:Art Class: Acrylic & Watercolor Painting
DESCRIPTION:***RSVP required\, call The Godfrey Miller Center office at 540-667-5869 to reserve your spot.   \nIn this course\, students will develop painting skills\, techniques\, and aesthetic sensibilities related to artistic expression in acrylic and/or watercolor mediums. Taught by Artist Tracy Burk. (Suggested donation: $15 per class)
URL:https://godfreymillercenter.org/event/art-class-acrylic-watercolor-painting-65/
LOCATION:VA
END:VEVENT
BEGIN:VEVENT
DTSTART;TZID=America/New_York:20250617T100000
DTEND;TZID=America/New_York:20250617T120000
DTSTAMP:20260424T081010
CREATED:20250529T143022Z
LAST-MODIFIED:20250529T192929Z
UID:6097-1750154400-1750161600@godfreymillercenter.org
SUMMARY:Samba & Hand and Foot
DESCRIPTION:All are welcome to come and play cards!
URL:https://godfreymillercenter.org/event/samba-147/
LOCATION:Parlor
END:VEVENT
BEGIN:VEVENT
DTSTART;TZID=America/New_York:20250616T140000
DTEND;TZID=America/New_York:20250616T150000
DTSTAMP:20260424T081010
CREATED:20250529T143021Z
LAST-MODIFIED:20250529T143021Z
UID:6095-1750082400-1750086000@godfreymillercenter.org
SUMMARY:Exercise for Balance & Strength
DESCRIPTION:A low-impact program that includes joint check/warm-up\, range of motion/stretching\, strengthening\, cardiovascular endurance\, and joint check/cool down. Led by Sonna Russell. Ms. Russell is a gifted coach and was trained through the Arthritis Foundation. (Suggested donation – $3.00)
URL:https://godfreymillercenter.org/event/exercise-for-balance-strength-123/
LOCATION:Pavilion
END:VEVENT
BEGIN:VEVENT
DTSTART;TZID=America/New_York:20250616T123000
DTEND;TZID=America/New_York:20250616T133000
DTSTAMP:20260424T081010
CREATED:20250529T143021Z
LAST-MODIFIED:20250529T143021Z
UID:6094-1750077000-1750080600@godfreymillercenter.org
SUMMARY:Lunch
DESCRIPTION:***RSVP required\, call The Godfrey Miller Center office at 540-667-5869 to reserve your spot.\nTickets: $10
URL:https://godfreymillercenter.org/event/lunch-158/
LOCATION:Pavilion
END:VEVENT
BEGIN:VEVENT
DTSTART;TZID=America/New_York:20250616T110000
DTEND;TZID=America/New_York:20250616T120000
DTSTAMP:20260424T081010
CREATED:20250529T143021Z
LAST-MODIFIED:20250529T143021Z
UID:6093-1750071600-1750075200@godfreymillercenter.org
SUMMARY:Seated Yoga
DESCRIPTION:Join yoga instructor\, Debbie Coulson\, for a seated chair yoga session.  All are welcome – including beginners! (Suggested Donation: $3)
URL:https://godfreymillercenter.org/event/seated-yoga-7/
LOCATION:Parlor
END:VEVENT
BEGIN:VEVENT
DTSTART;TZID=America/New_York:20250616T100000
DTEND;TZID=America/New_York:20250616T120000
DTSTAMP:20260424T081010
CREATED:20250529T143021Z
LAST-MODIFIED:20250529T143021Z
UID:6091-1750068000-1750075200@godfreymillercenter.org
SUMMARY:Art Studio
DESCRIPTION:Art Studio is an open time for individuals to gather and work on their various art projects.  This is a social opportunity for artists of all levels to help each other and work independently. Recurs on every Monday of the month.
URL:https://godfreymillercenter.org/event/art-studio-135/
LOCATION:Pavilion
END:VEVENT
BEGIN:VEVENT
DTSTART;TZID=America/New_York:20250616T100000
DTEND;TZID=America/New_York:20250616T110000
DTSTAMP:20260424T081010
CREATED:20250529T143021Z
LAST-MODIFIED:20250529T143021Z
UID:6092-1750068000-1750071600@godfreymillercenter.org
SUMMARY:Jigsaw Puzzles
DESCRIPTION:
URL:https://godfreymillercenter.org/event/jigsaw-puzzles-72/
LOCATION:Front Sitting Room/Puzzle Room
END:VEVENT
BEGIN:VEVENT
DTSTART;TZID=America/New_York:20250612T140000
DTEND;TZID=America/New_York:20250612T150000
DTSTAMP:20260424T081010
CREATED:20250529T143021Z
LAST-MODIFIED:20250529T143021Z
UID:6090-1749736800-1749740400@godfreymillercenter.org
SUMMARY:Strength & Conditioning
DESCRIPTION:This class is designed to increase physical strength through resistance exercise. All major muscle groups are worked from head to toe. We finish with core conditioning\, breathing\, and stretching for a complete workout. Dumbbells are used for each class\, you can bring your own or use ours! Led by Program Coordinator Anna.
URL:https://godfreymillercenter.org/event/strength-conditioning-109/
LOCATION:Pavilion
END:VEVENT
BEGIN:VEVENT
DTSTART;TZID=America/New_York:20250612T123000
DTEND;TZID=America/New_York:20250612T133000
DTSTAMP:20260424T081010
CREATED:20250529T143021Z
LAST-MODIFIED:20250529T143021Z
UID:6089-1749731400-1749735000@godfreymillercenter.org
SUMMARY:Lunch
DESCRIPTION:***RSVP required\, call The Godfrey Miller Center office at 540-667-5869 to reserve your spot.\nTickets: $10
URL:https://godfreymillercenter.org/event/lunch-157/
LOCATION:Pavilion
END:VEVENT
BEGIN:VEVENT
DTSTART;TZID=America/New_York:20250612T103000
DTEND;TZID=America/New_York:20250612T113000
DTSTAMP:20260424T081010
CREATED:20250529T143020Z
LAST-MODIFIED:20250529T143020Z
UID:6088-1749724200-1749727800@godfreymillercenter.org
SUMMARY:Presentation: Senior Behavioral Health Outpatient Program
DESCRIPTION:Join us for an information session on the Senior Outpatient Program at Valley Health.  Jessica Fortin from Valley Health Outpatient Behavior Health will be here to answer all of your questions!
URL:https://godfreymillercenter.org/event/presentation-senior-behavioral-health-outpatient-program/
LOCATION:Pavilion
END:VEVENT
BEGIN:VEVENT
DTSTART;TZID=America/New_York:20250612T100000
DTEND;TZID=America/New_York:20250612T120000
DTSTAMP:20260424T081010
CREATED:20250529T143020Z
LAST-MODIFIED:20250529T143020Z
UID:6087-1749722400-1749729600@godfreymillercenter.org
SUMMARY:Mahjong
DESCRIPTION:
URL:https://godfreymillercenter.org/event/mahjong-139/
LOCATION:Parlor
END:VEVENT
BEGIN:VEVENT
DTSTART;TZID=America/New_York:20250611T140000
DTEND;TZID=America/New_York:20250611T150000
DTSTAMP:20260424T081010
CREATED:20250529T143020Z
LAST-MODIFIED:20250529T143020Z
UID:6086-1749650400-1749654000@godfreymillercenter.org
SUMMARY:Exercise for Balance & Strength
DESCRIPTION:A low-impact program that includes joint check/warm-up\, range of motion/stretching\, strengthening\, cardiovascular endurance\, and joint check/cool down. Led by Sonna Russell. Ms. Russell is a gifted coach and was trained through the Arthritis Foundation. (Suggested donation – $3.00)
URL:https://godfreymillercenter.org/event/exercise-for-balance-strength-122/
LOCATION:Pavilion
END:VEVENT
BEGIN:VEVENT
DTSTART;TZID=America/New_York:20250611T123000
DTEND;TZID=America/New_York:20250611T133000
DTSTAMP:20260424T081010
CREATED:20250529T143020Z
LAST-MODIFIED:20250529T143020Z
UID:6085-1749645000-1749648600@godfreymillercenter.org
SUMMARY:Lunch
DESCRIPTION:***RSVP required\, call The Godfrey Miller Center office at 540-667-5869 to reserve your spot.\nTickets: $10
URL:https://godfreymillercenter.org/event/lunch-156/
LOCATION:Pavilion
END:VEVENT
BEGIN:VEVENT
DTSTART;TZID=America/New_York:20250611T110000
DTEND;TZID=America/New_York:20250611T120000
DTSTAMP:20260424T081010
CREATED:20250529T143020Z
LAST-MODIFIED:20250529T143020Z
UID:6084-1749639600-1749643200@godfreymillercenter.org
SUMMARY:Practical Tai Chi
DESCRIPTION:Adrian’s Practical Tai Chi classes are a blend of tai chi and qigong\, meant to get the practitioner connected into their own body. The focus is on proper body structure and grounding\, while different series of movements are performed. Attendees can expect to feel more grounded\, relaxed\, and rejuvenated after each class. Limited-mobility friendly! (Suggested Donation: $3)
URL:https://godfreymillercenter.org/event/practical-tai-chi-11/
LOCATION:Pavilion
END:VEVENT
BEGIN:VEVENT
DTSTART;TZID=America/New_York:20250610T140000
DTEND;TZID=America/New_York:20250610T150000
DTSTAMP:20260424T081010
CREATED:20250529T143020Z
LAST-MODIFIED:20250529T143020Z
UID:6083-1749564000-1749567600@godfreymillercenter.org
SUMMARY:Strength & Conditioning
DESCRIPTION:This class is designed to increase physical strength through resistance exercise. All major muscle groups are worked from head to toe. We finish with core conditioning\, breathing\, and stretching for a complete workout. Dumbbells are used for each class\, you can bring your own or use ours! Led by Program Coordinator Anna.
URL:https://godfreymillercenter.org/event/strength-conditioning-108/
LOCATION:Pavilion
END:VEVENT
BEGIN:VEVENT
DTSTART;TZID=America/New_York:20250610T100000
DTEND;TZID=America/New_York:20250610T120000
DTSTAMP:20260424T081010
CREATED:20250529T143019Z
LAST-MODIFIED:20250529T193033Z
UID:6082-1749549600-1749556800@godfreymillercenter.org
SUMMARY:Samba & Hand and Foot
DESCRIPTION:All are welcome to come and play cards!
URL:https://godfreymillercenter.org/event/samba-146/
LOCATION:Parlor
END:VEVENT
BEGIN:VEVENT
DTSTART;TZID=America/New_York:20250609T140000
DTEND;TZID=America/New_York:20250609T150000
DTSTAMP:20260424T081010
CREATED:20250529T143019Z
LAST-MODIFIED:20250529T143019Z
UID:6081-1749477600-1749481200@godfreymillercenter.org
SUMMARY:Exercise for Balance & Strength
DESCRIPTION:A low-impact program that includes joint check/warm-up\, range of motion/stretching\, strengthening\, cardiovascular endurance\, and joint check/cool down. Led by Sonna Russell. Ms. Russell is a gifted coach and was trained through the Arthritis Foundation. (Suggested donation – $3.00)
URL:https://godfreymillercenter.org/event/exercise-for-balance-strength-121/
LOCATION:Pavilion
END:VEVENT
BEGIN:VEVENT
DTSTART;TZID=America/New_York:20250609T123000
DTEND;TZID=America/New_York:20250609T133000
DTSTAMP:20260424T081010
CREATED:20250529T143019Z
LAST-MODIFIED:20250529T143019Z
UID:6080-1749472200-1749475800@godfreymillercenter.org
SUMMARY:Lunch
DESCRIPTION:***RSVP required\, call The Godfrey Miller Center office at 540-667-5869 to reserve your spot.\nTickets: $10
URL:https://godfreymillercenter.org/event/lunch-155/
LOCATION:Pavilion
END:VEVENT
BEGIN:VEVENT
DTSTART;TZID=America/New_York:20250609T103000
DTEND;TZID=America/New_York:20250609T113000
DTSTAMP:20260424T081010
CREATED:20250529T143019Z
LAST-MODIFIED:20250529T143019Z
UID:6078-1749465000-1749468600@godfreymillercenter.org
SUMMARY:iPhone Help Session
DESCRIPTION:Join Program Coordinator Anna for help with your smart phone.  Bring your device\, account passwords\, and any questions!
URL:https://godfreymillercenter.org/event/iphone-help-session-19/
LOCATION:Parlor
END:VEVENT
BEGIN:VEVENT
DTSTART;TZID=America/New_York:20250609T100000
DTEND;TZID=America/New_York:20250609T120000
DTSTAMP:20260424T081010
CREATED:20250529T143019Z
LAST-MODIFIED:20250529T143019Z
UID:6077-1749463200-1749470400@godfreymillercenter.org
SUMMARY:Art Studio
DESCRIPTION:Art Studio is an open time for individuals to gather and work on their various art projects.  This is a social opportunity for artists of all levels to help each other and work independently. Recurs on every Monday of the month.
URL:https://godfreymillercenter.org/event/art-studio-134/
LOCATION:Pavilion
END:VEVENT
END:VCALENDAR