BEGIN:VCALENDAR
VERSION:2.0
PRODID:-//Godfrey Miller Center - ECPv6.15.20//NONSGML v1.0//EN
CALSCALE:GREGORIAN
METHOD:PUBLISH
X-WR-CALNAME:Godfrey Miller Center
X-ORIGINAL-URL:https://godfreymillercenter.org
X-WR-CALDESC:Events for Godfrey Miller Center
REFRESH-INTERVAL;VALUE=DURATION:PT1H
X-Robots-Tag:noindex
X-PUBLISHED-TTL:PT1H
BEGIN:VTIMEZONE
TZID:America/New_York
BEGIN:DAYLIGHT
TZOFFSETFROM:-0500
TZOFFSETTO:-0400
TZNAME:EDT
DTSTART:20230312T070000
END:DAYLIGHT
BEGIN:STANDARD
TZOFFSETFROM:-0400
TZOFFSETTO:-0500
TZNAME:EST
DTSTART:20231105T060000
END:STANDARD
BEGIN:DAYLIGHT
TZOFFSETFROM:-0500
TZOFFSETTO:-0400
TZNAME:EDT
DTSTART:20240310T070000
END:DAYLIGHT
BEGIN:STANDARD
TZOFFSETFROM:-0400
TZOFFSETTO:-0500
TZNAME:EST
DTSTART:20241103T060000
END:STANDARD
BEGIN:DAYLIGHT
TZOFFSETFROM:-0500
TZOFFSETTO:-0400
TZNAME:EDT
DTSTART:20250309T070000
END:DAYLIGHT
BEGIN:STANDARD
TZOFFSETFROM:-0400
TZOFFSETTO:-0500
TZNAME:EST
DTSTART:20251102T060000
END:STANDARD
END:VTIMEZONE
BEGIN:VEVENT
DTSTART;TZID=America/New_York:20240423T103000
DTEND;TZID=America/New_York:20240423T113000
DTSTAMP:20260425T115205
CREATED:20240325T184314Z
LAST-MODIFIED:20240325T184314Z
UID:5139-1713868200-1713871800@godfreymillercenter.org
SUMMARY:Bible Study
DESCRIPTION:Join Rev. Martha Miller Sims for a Bible study.  All are welcome!
URL:https://godfreymillercenter.org/event/bible-study-10/
LOCATION:Dining Room
END:VEVENT
BEGIN:VEVENT
DTSTART;TZID=America/New_York:20240423T130000
DTEND;TZID=America/New_York:20240423T150000
DTSTAMP:20260425T115205
CREATED:20240325T184314Z
LAST-MODIFIED:20240325T184314Z
UID:5140-1713877200-1713884400@godfreymillercenter.org
SUMMARY:Art Class: Drawing
DESCRIPTION:***RSVP required\, call The Godfrey Miller Center office at 540-667-5869 to reserve your spot.   \nIn this course\, students will improve drawing skills through using a combination of mediums such as graphite\, charcoal\, pen\, and ink.  Students will have their choice of mediums to help define their styles. Taught by master artist Kate Williams. (Suggested donation: $15 per class)
URL:https://godfreymillercenter.org/event/art-class-drawing-39/
LOCATION:Parlor
END:VEVENT
BEGIN:VEVENT
DTSTART;TZID=America/New_York:20240423T140000
DTEND;TZID=America/New_York:20240423T150000
DTSTAMP:20260425T115205
CREATED:20240325T184314Z
LAST-MODIFIED:20240325T184314Z
UID:5141-1713880800-1713884400@godfreymillercenter.org
SUMMARY:Strength & Conditioning
DESCRIPTION:This class is designed to increase physical strength through resistance exercise. All major muscle groups are worked from head to toe. We finish with core conditioning\, breathing\, and stretching for a complete workout. Dumbbells are used for each class\, you can bring your own or use ours! Led by Program Coordinator Anna.
URL:https://godfreymillercenter.org/event/strength-conditioning-25/
LOCATION:Pavilion
END:VEVENT
BEGIN:VEVENT
DTSTART;TZID=America/New_York:20240424T110000
DTEND;TZID=America/New_York:20240424T120000
DTSTAMP:20260425T115205
CREATED:20240325T184315Z
LAST-MODIFIED:20240325T184315Z
UID:5142-1713956400-1713960000@godfreymillercenter.org
SUMMARY:Presentation: Rogers & Hammerstein
DESCRIPTION:Come learn about the musicals of Rogers & Hammerstein\, such as Oklahoma!\, Sound of Music\, South Pacific\, and more.  Presented by Executive Director\, Jason Gottschalk.
URL:https://godfreymillercenter.org/event/presentation-rogers-hammerstein/
LOCATION:Parlor
END:VEVENT
BEGIN:VEVENT
DTSTART;TZID=America/New_York:20240424T123000
DTEND;TZID=America/New_York:20240424T133000
DTSTAMP:20260425T115205
CREATED:20240325T184315Z
LAST-MODIFIED:20240325T184315Z
UID:5143-1713961800-1713965400@godfreymillercenter.org
SUMMARY:Lunch
DESCRIPTION:***RSVP required\, call The Godfrey Miller Center office at 540-667-5869 to reserve your spot.\nTickets: $9.00
URL:https://godfreymillercenter.org/event/lunch-36/
LOCATION:Pavilion
END:VEVENT
BEGIN:VEVENT
DTSTART;TZID=America/New_York:20240424T140000
DTEND;TZID=America/New_York:20240424T150000
DTSTAMP:20260425T115205
CREATED:20240325T184315Z
LAST-MODIFIED:20240325T184315Z
UID:5144-1713967200-1713970800@godfreymillercenter.org
SUMMARY:Exercise for Balance & Strength
DESCRIPTION:A low-impact program that includes joint check/warm-up\, range of motion/stretching\, strengthening\, cardiovascular endurance\, and joint check/cool down. Led by Sonna Russell. Ms. Russell is a gifted coach and was trained through the Arthritis Foundation. (Suggested donation – $3.00)
URL:https://godfreymillercenter.org/event/exercise-for-balance-strength-27/
LOCATION:Pavilion
END:VEVENT
BEGIN:VEVENT
DTSTART;TZID=America/New_York:20240425T100000
DTEND;TZID=America/New_York:20240425T120000
DTSTAMP:20260425T115205
CREATED:20240325T184315Z
LAST-MODIFIED:20240325T184315Z
UID:5145-1714039200-1714046400@godfreymillercenter.org
SUMMARY:Mahjong
DESCRIPTION:All are welcome to come and play Mahjong!
URL:https://godfreymillercenter.org/event/mahjong-97/
LOCATION:Parlor
END:VEVENT
BEGIN:VEVENT
DTSTART;TZID=America/New_York:20240425T123000
DTEND;TZID=America/New_York:20240425T133000
DTSTAMP:20260425T115205
CREATED:20240325T184315Z
LAST-MODIFIED:20240325T184315Z
UID:5146-1714048200-1714051800@godfreymillercenter.org
SUMMARY:Lunch
DESCRIPTION:***RSVP required\, call The Godfrey Miller Center office at 540-667-5869 to reserve your spot.\nTickets: $9.00
URL:https://godfreymillercenter.org/event/lunch-37/
LOCATION:Pavilion
END:VEVENT
BEGIN:VEVENT
DTSTART;TZID=America/New_York:20240425T140000
DTEND;TZID=America/New_York:20240425T150000
DTSTAMP:20260425T115205
CREATED:20240325T184316Z
LAST-MODIFIED:20240325T184316Z
UID:5147-1714053600-1714057200@godfreymillercenter.org
SUMMARY:Strength & Conditioning
DESCRIPTION:This class is designed to increase physical strength through resistance exercise. All major muscle groups are worked from head to toe. We finish with core conditioning\, breathing\, and stretching for a complete workout. Dumbbells are used for each class\, you can bring your own or use ours! Led by Program Coordinator Anna.
URL:https://godfreymillercenter.org/event/strength-conditioning-26/
LOCATION:Pavilion
END:VEVENT
BEGIN:VEVENT
DTSTART;TZID=America/New_York:20240425T140000
DTEND;TZID=America/New_York:20240425T160000
DTSTAMP:20260425T115205
CREATED:20240325T184316Z
LAST-MODIFIED:20240325T184316Z
UID:5148-1714053600-1714060800@godfreymillercenter.org
SUMMARY:Bridge Class: Standard American Bidding System
DESCRIPTION:***RSVP to Milan at 434-406-3387 \nMilan Majarov\, an American Contract Bridge League certified teacher\, will be offering a beginner bridge course on the standard American bidding system.  The class will last for 10 consecutive weeks and each class is two hours long and is $15.  Please RSVP directly to Milan at 434-406-3387.
URL:https://godfreymillercenter.org/event/bridge-class-standard-american-bidding-system-16/
LOCATION:Parlor
END:VEVENT
BEGIN:VEVENT
DTSTART;TZID=America/New_York:20240428T140000
DTEND;TZID=America/New_York:20240428T160000
DTSTAMP:20260425T115205
CREATED:20240325T184316Z
LAST-MODIFIED:20240325T184316Z
UID:5149-1714312800-1714320000@godfreymillercenter.org
SUMMARY:Sunday Stitch-In
DESCRIPTION:The Winchester Chapter of the Embroiderers’ Guild of America\, in cooperation with Godfrey Miller Center (GMC)\, is hosting “Sunday Stitch-In.” at 2:00 PM. The stitch-ins are for anyone who loves stitching and wants to learn the ins and outs of embroidery. All skill levels are welcome.  For questions contact us at 703-946-0191 or winchesterega@gmail.com  .
URL:https://godfreymillercenter.org/event/sunday-stitch-in-5/
LOCATION:VA
END:VEVENT
BEGIN:VEVENT
DTSTART;TZID=America/New_York:20240429T090000
DTEND;TZID=America/New_York:20240429T100000
DTSTAMP:20260425T115205
CREATED:20240325T184316Z
LAST-MODIFIED:20240325T184316Z
UID:5151-1714381200-1714384800@godfreymillercenter.org
SUMMARY:Walking Club
DESCRIPTION:
URL:https://godfreymillercenter.org/event/walking-club-70/
LOCATION:Courtyard
END:VEVENT
BEGIN:VEVENT
DTSTART;TZID=America/New_York:20240429T100000
DTEND;TZID=America/New_York:20240429T110000
DTSTAMP:20260425T115205
CREATED:20240325T184317Z
LAST-MODIFIED:20240325T184317Z
UID:5152-1714384800-1714388400@godfreymillercenter.org
SUMMARY:Jigsaw Puzzles
DESCRIPTION:
URL:https://godfreymillercenter.org/event/jigsaw-puzzles-34/
LOCATION:Front Sitting Room/Puzzle Room
END:VEVENT
BEGIN:VEVENT
DTSTART;TZID=America/New_York:20240429T100000
DTEND;TZID=America/New_York:20240429T120000
DTSTAMP:20260425T115205
CREATED:20240325T184316Z
LAST-MODIFIED:20240325T184316Z
UID:5150-1714384800-1714392000@godfreymillercenter.org
SUMMARY:Art Studio
DESCRIPTION:Art Studio is an open time for individuals to gather and work on their various art projects.  This is a social opportunity for artists of all levels to help each other and work independently. Recurs on every Monday of the month.
URL:https://godfreymillercenter.org/event/art-studio-97/
LOCATION:Pavilion
END:VEVENT
BEGIN:VEVENT
DTSTART;TZID=America/New_York:20240429T123000
DTEND;TZID=America/New_York:20240429T133000
DTSTAMP:20260425T115205
CREATED:20240325T184317Z
LAST-MODIFIED:20240325T184317Z
UID:5153-1714393800-1714397400@godfreymillercenter.org
SUMMARY:Lunch
DESCRIPTION:***RSVP required\, call The Godfrey Miller Center office at 540-667-5869 to reserve your spot.\nTickets: $9.00
URL:https://godfreymillercenter.org/event/lunch-38/
LOCATION:Pavilion
END:VEVENT
BEGIN:VEVENT
DTSTART;TZID=America/New_York:20240429T140000
DTEND;TZID=America/New_York:20240429T150000
DTSTAMP:20260425T115205
CREATED:20240325T184317Z
LAST-MODIFIED:20240325T184317Z
UID:5154-1714399200-1714402800@godfreymillercenter.org
SUMMARY:Exercise for Balance & Strength
DESCRIPTION:A low-impact program that includes joint check/warm-up\, range of motion/stretching\, strengthening\, cardiovascular endurance\, and joint check/cool down. Led by Sonna Russell. Ms. Russell is a gifted coach and was trained through the Arthritis Foundation. (Suggested donation – $3.00)
URL:https://godfreymillercenter.org/event/exercise-for-balance-strength-28/
LOCATION:Pavilion
END:VEVENT
BEGIN:VEVENT
DTSTART;TZID=America/New_York:20240430T100000
DTEND;TZID=America/New_York:20240430T120000
DTSTAMP:20260425T115205
CREATED:20240325T184317Z
LAST-MODIFIED:20240325T184317Z
UID:5155-1714471200-1714478400@godfreymillercenter.org
SUMMARY:Art Class: Acrylic & Watercolor Painting
DESCRIPTION:***RSVP required\, call The Godfrey Miller Center office at 540-667-5869 to reserve your spot.   \nIn this course\, students will develop painting skills\, techniques\, and aesthetic sensibilities related to artistic expression in acrylic and/or watercolor mediums. Each week will focus on a different subject\, emphasizing color and composition\, and enabling students to expand and better define their unique style and technique. Taught by master artist Kate Williams. (Suggested donation: $15 per class)
URL:https://godfreymillercenter.org/event/art-class-acrylic-watercolor-painting-40/
LOCATION:Pavilion
END:VEVENT
BEGIN:VEVENT
DTSTART;TZID=America/New_York:20240430T100000
DTEND;TZID=America/New_York:20240430T120000
DTSTAMP:20260425T115205
CREATED:20240325T184317Z
LAST-MODIFIED:20240325T184317Z
UID:5156-1714471200-1714478400@godfreymillercenter.org
SUMMARY:Canasta
DESCRIPTION:All are welcome to come and play Canasta!
URL:https://godfreymillercenter.org/event/canasta-104/
LOCATION:Parlor
END:VEVENT
BEGIN:VEVENT
DTSTART;TZID=America/New_York:20240430T130000
DTEND;TZID=America/New_York:20240430T150000
DTSTAMP:20260425T115205
CREATED:20240325T184318Z
LAST-MODIFIED:20240325T184318Z
UID:5157-1714482000-1714489200@godfreymillercenter.org
SUMMARY:Art Class: Drawing
DESCRIPTION:***RSVP required\, call The Godfrey Miller Center office at 540-667-5869 to reserve your spot.   \nIn this course\, students will improve drawing skills through using a combination of mediums such as graphite\, charcoal\, pen\, and ink.  Students will have their choice of mediums to help define their styles. Taught by master artist Kate Williams. (Suggested donation: $15 per class)
URL:https://godfreymillercenter.org/event/art-class-drawing-40/
LOCATION:Parlor
END:VEVENT
BEGIN:VEVENT
DTSTART;TZID=America/New_York:20240430T130000
DTEND;TZID=America/New_York:20240430T153000
DTSTAMP:20260425T115205
CREATED:20240325T184318Z
LAST-MODIFIED:20240325T184318Z
UID:5158-1714482000-1714491000@godfreymillercenter.org
SUMMARY:Movie Matinee: The Color Purple
DESCRIPTION:Based on the novel and Broadway musical\, this is a  tale of one woman’s journey to independence filled with love and resilience.  Although she faced many obstacles\, Celie finds extraordinary strength and hope in the unbreakable bonds of sisterhood.  This movie is 2 hours and 21 minutes long.  Movie snacks and beverages provided.
URL:https://godfreymillercenter.org/event/movie-matinee-the-color-purple/
LOCATION:Pavilion
END:VEVENT
BEGIN:VEVENT
DTSTART;TZID=America/New_York:20240505T140000
DTEND;TZID=America/New_York:20240505T150000
DTSTAMP:20260425T115205
CREATED:20240429T235354Z
LAST-MODIFIED:20240429T235354Z
UID:5166-1714917600-1714921200@godfreymillercenter.org
SUMMARY:Sunday Stitch-In
DESCRIPTION:The Winchester Chapter of the Embroiderers’ Guild of America\, in cooperation with Godfrey Miller Center (GMC)\, is hosting “Sunday Stitch-In.” at 2:00 PM. The stitch-ins are for anyone who loves stitching and wants to learn the ins and outs of embroidery. All skill levels are welcome.  For questions contact us at 703-946-0191 or winchesterega@gmail.com  .
URL:https://godfreymillercenter.org/event/sunday-stitch-in-6/
LOCATION:VA
END:VEVENT
BEGIN:VEVENT
DTSTART;TZID=America/New_York:20240506T103000
DTEND;TZID=America/New_York:20240506T113000
DTSTAMP:20260425T115205
CREATED:20240429T235355Z
LAST-MODIFIED:20240429T235355Z
UID:5167-1714991400-1714995000@godfreymillercenter.org
SUMMARY:Android Smart Phone Help Session
DESCRIPTION:Join Program Coordinator Anna for help with your smart phone.  Bring your device\, account passwords\, and any questions!
URL:https://godfreymillercenter.org/event/android-smart-phone-help-session-6/
LOCATION:Parlor
END:VEVENT
BEGIN:VEVENT
DTSTART;TZID=America/New_York:20240506T140000
DTEND;TZID=America/New_York:20240506T150000
DTSTAMP:20260425T115205
CREATED:20240429T235355Z
LAST-MODIFIED:20240429T235355Z
UID:5168-1715004000-1715007600@godfreymillercenter.org
SUMMARY:Exercise for Balance & Strength
DESCRIPTION:A low-impact program that includes joint check/warm-up\, range of motion/stretching\, strengthening\, cardiovascular endurance\, and joint check/cool down. Led by Sonna Russell. Ms. Russell is a gifted coach and was trained through the Arthritis Foundation. (Suggested donation – $3.00)
URL:https://godfreymillercenter.org/event/exercise-for-balance-strength-29/
LOCATION:Pavilion
END:VEVENT
BEGIN:VEVENT
DTSTART;TZID=America/New_York:20240507T140000
DTEND;TZID=America/New_York:20240507T150000
DTSTAMP:20260425T115205
CREATED:20240429T235356Z
LAST-MODIFIED:20240429T235356Z
UID:5169-1715090400-1715094000@godfreymillercenter.org
SUMMARY:Strength & Conditioning
DESCRIPTION:This class is designed to increase physical strength through resistance exercise. All major muscle groups are worked from head to toe. We finish with core conditioning\, breathing\, and stretching for a complete workout. Dumbbells are used for each class\, you can bring your own or use ours! Led by Program Coordinator Anna.
URL:https://godfreymillercenter.org/event/strength-conditioning-27/
LOCATION:Pavilion
END:VEVENT
BEGIN:VEVENT
DTSTART;TZID=America/New_York:20240508T123000
DTEND;TZID=America/New_York:20240508T133000
DTSTAMP:20260425T115205
CREATED:20240429T235356Z
LAST-MODIFIED:20240429T235356Z
UID:5170-1715171400-1715175000@godfreymillercenter.org
SUMMARY:Lunch
DESCRIPTION:***RSVP required\, call The Godfrey Miller Center office at 540-667-5869 to reserve your spot.\nTickets: $9.00
URL:https://godfreymillercenter.org/event/lunch-39/
LOCATION:Pavilion
END:VEVENT
BEGIN:VEVENT
DTSTART;TZID=America/New_York:20240508T140000
DTEND;TZID=America/New_York:20240508T150000
DTSTAMP:20260425T115205
CREATED:20240429T235356Z
LAST-MODIFIED:20240429T235356Z
UID:5171-1715176800-1715180400@godfreymillercenter.org
SUMMARY:Exercise for Balance & Strength
DESCRIPTION:A low-impact program that includes joint check/warm-up\, range of motion/stretching\, strengthening\, cardiovascular endurance\, and joint check/cool down. Led by Sonna Russell. Ms. Russell is a gifted coach and was trained through the Arthritis Foundation. (Suggested donation – $3.00)
URL:https://godfreymillercenter.org/event/exercise-for-balance-strength-30/
LOCATION:Pavilion
END:VEVENT
BEGIN:VEVENT
DTSTART;TZID=America/New_York:20240509T100000
DTEND;TZID=America/New_York:20240509T120000
DTSTAMP:20260425T115205
CREATED:20240429T235356Z
LAST-MODIFIED:20240429T235356Z
UID:5172-1715248800-1715256000@godfreymillercenter.org
SUMMARY:Mahjong
DESCRIPTION:All are welcome to come and play Mahjong!
URL:https://godfreymillercenter.org/event/mahjong-98/
LOCATION:Parlor
END:VEVENT
BEGIN:VEVENT
DTSTART;TZID=America/New_York:20240509T123000
DTEND;TZID=America/New_York:20240509T133000
DTSTAMP:20260425T115205
CREATED:20240429T235356Z
LAST-MODIFIED:20240429T235356Z
UID:5173-1715257800-1715261400@godfreymillercenter.org
SUMMARY:Lunch
DESCRIPTION:***RSVP required\, call The Godfrey Miller Center office at 540-667-5869 to reserve your spot.\nTickets: $9.00
URL:https://godfreymillercenter.org/event/lunch-40/
LOCATION:Pavilion
END:VEVENT
BEGIN:VEVENT
DTSTART;TZID=America/New_York:20240509T140000
DTEND;TZID=America/New_York:20240509T150000
DTSTAMP:20260425T115205
CREATED:20240429T235356Z
LAST-MODIFIED:20240429T235356Z
UID:5174-1715263200-1715266800@godfreymillercenter.org
SUMMARY:Strength & Conditioning
DESCRIPTION:This class is designed to increase physical strength through resistance exercise. All major muscle groups are worked from head to toe. We finish with core conditioning\, breathing\, and stretching for a complete workout. Dumbbells are used for each class\, you can bring your own or use ours! Led by Program Coordinator Anna.
URL:https://godfreymillercenter.org/event/strength-conditioning-28/
LOCATION:Pavilion
END:VEVENT
BEGIN:VEVENT
DTSTART;TZID=America/New_York:20240513T090000
DTEND;TZID=America/New_York:20240513T100000
DTSTAMP:20260425T115205
CREATED:20240429T235356Z
LAST-MODIFIED:20240429T235356Z
UID:5175-1715590800-1715594400@godfreymillercenter.org
SUMMARY:Walking Club
DESCRIPTION:
URL:https://godfreymillercenter.org/event/walking-club-71/
LOCATION:Courtyard
END:VEVENT
END:VCALENDAR