BEGIN:VCALENDAR
VERSION:2.0
PRODID:-//Godfrey Miller Center - ECPv6.15.20//NONSGML v1.0//EN
CALSCALE:GREGORIAN
METHOD:PUBLISH
X-WR-CALNAME:Godfrey Miller Center
X-ORIGINAL-URL:https://godfreymillercenter.org
X-WR-CALDESC:Events for Godfrey Miller Center
REFRESH-INTERVAL;VALUE=DURATION:PT1H
X-Robots-Tag:noindex
X-PUBLISHED-TTL:PT1H
BEGIN:VTIMEZONE
TZID:America/New_York
BEGIN:DAYLIGHT
TZOFFSETFROM:-0500
TZOFFSETTO:-0400
TZNAME:EDT
DTSTART:20230312T070000
END:DAYLIGHT
BEGIN:STANDARD
TZOFFSETFROM:-0400
TZOFFSETTO:-0500
TZNAME:EST
DTSTART:20231105T060000
END:STANDARD
BEGIN:DAYLIGHT
TZOFFSETFROM:-0500
TZOFFSETTO:-0400
TZNAME:EDT
DTSTART:20240310T070000
END:DAYLIGHT
BEGIN:STANDARD
TZOFFSETFROM:-0400
TZOFFSETTO:-0500
TZNAME:EST
DTSTART:20241103T060000
END:STANDARD
BEGIN:DAYLIGHT
TZOFFSETFROM:-0500
TZOFFSETTO:-0400
TZNAME:EDT
DTSTART:20250309T070000
END:DAYLIGHT
BEGIN:STANDARD
TZOFFSETFROM:-0400
TZOFFSETTO:-0500
TZNAME:EST
DTSTART:20251102T060000
END:STANDARD
END:VTIMEZONE
BEGIN:VEVENT
DTSTART;TZID=America/New_York:20241120T123000
DTEND;TZID=America/New_York:20241120T133000
DTSTAMP:20260425T123257
CREATED:20241024T160618Z
LAST-MODIFIED:20241024T160618Z
UID:5574-1732105800-1732109400@godfreymillercenter.org
SUMMARY:Lunch
DESCRIPTION:***RSVP required\, call The Godfrey Miller Center office at 540-667-5869 to reserve your spot.\nTickets: $9.00
URL:https://godfreymillercenter.org/event/lunch-101/
LOCATION:Pavilion
END:VEVENT
BEGIN:VEVENT
DTSTART;TZID=America/New_York:20241120T140000
DTEND;TZID=America/New_York:20241120T150000
DTSTAMP:20260425T123257
CREATED:20241024T160618Z
LAST-MODIFIED:20241024T160618Z
UID:5575-1732111200-1732114800@godfreymillercenter.org
SUMMARY:Exercise for Balance & Strength
DESCRIPTION:A low-impact program that includes joint check/warm-up\, range of motion/stretching\, strengthening\, cardiovascular endurance\, and joint check/cool down. Led by Sonna Russell. Ms. Russell is a gifted coach and was trained through the Arthritis Foundation. (Suggested donation – $3.00)
URL:https://godfreymillercenter.org/event/exercise-for-balance-strength-78/
LOCATION:Pavilion
END:VEVENT
BEGIN:VEVENT
DTSTART;TZID=America/New_York:20241121T100000
DTEND;TZID=America/New_York:20241121T120000
DTSTAMP:20260425T123257
CREATED:20241024T160618Z
LAST-MODIFIED:20241024T160618Z
UID:5576-1732183200-1732190400@godfreymillercenter.org
SUMMARY:Mahjong
DESCRIPTION:
URL:https://godfreymillercenter.org/event/mahjong-120/
LOCATION:Parlor
END:VEVENT
BEGIN:VEVENT
DTSTART;TZID=America/New_York:20241121T123000
DTEND;TZID=America/New_York:20241121T133000
DTSTAMP:20260425T123257
CREATED:20241024T160619Z
LAST-MODIFIED:20241024T160619Z
UID:5577-1732192200-1732195800@godfreymillercenter.org
SUMMARY:Lunch
DESCRIPTION:***RSVP required\, call The Godfrey Miller Center office at 540-667-5869 to reserve your spot.\nTickets: $9.00
URL:https://godfreymillercenter.org/event/lunch-102/
LOCATION:Pavilion
END:VEVENT
BEGIN:VEVENT
DTSTART;TZID=America/New_York:20241121T140000
DTEND;TZID=America/New_York:20241121T150000
DTSTAMP:20260425T123257
CREATED:20241024T160619Z
LAST-MODIFIED:20241024T160619Z
UID:5578-1732197600-1732201200@godfreymillercenter.org
SUMMARY:Strength & Conditioning
DESCRIPTION:This class is designed to increase physical strength through resistance exercise. All major muscle groups are worked from head to toe. We finish with core conditioning\, breathing\, and stretching for a complete workout. Dumbbells are used for each class\, you can bring your own or use ours! Led by Program Coordinator Anna.
URL:https://godfreymillercenter.org/event/strength-conditioning-66/
LOCATION:Pavilion
END:VEVENT
BEGIN:VEVENT
DTSTART;TZID=America/New_York:20241124T133000
DTEND;TZID=America/New_York:20241124T160000
DTSTAMP:20260425T123257
CREATED:20241024T160619Z
LAST-MODIFIED:20241024T160619Z
UID:5579-1732455000-1732464000@godfreymillercenter.org
SUMMARY:Sunday Stitch-In
DESCRIPTION:
URL:https://godfreymillercenter.org/event/sunday-stitch-in-8/
LOCATION:Pavilion
END:VEVENT
BEGIN:VEVENT
DTSTART;TZID=America/New_York:20241124T160000
DTEND;TZID=America/New_York:20241124T170000
DTSTAMP:20260425T123257
CREATED:20241024T160619Z
LAST-MODIFIED:20241024T160619Z
UID:5581-1732464000-1732467600@godfreymillercenter.org
SUMMARY:Fall Concert Series
DESCRIPTION:
URL:https://godfreymillercenter.org/event/fall-concert-series-2/
LOCATION:Sanctuary
END:VEVENT
BEGIN:VEVENT
DTSTART;TZID=America/New_York:20241125T090000
DTEND;TZID=America/New_York:20241125T100000
DTSTAMP:20260425T123257
CREATED:20241024T160619Z
LAST-MODIFIED:20241024T160619Z
UID:5582-1732525200-1732528800@godfreymillercenter.org
SUMMARY:Walking Club
DESCRIPTION:
URL:https://godfreymillercenter.org/event/walking-club-91/
LOCATION:Courtyard
END:VEVENT
BEGIN:VEVENT
DTSTART;TZID=America/New_York:20241125T100000
DTEND;TZID=America/New_York:20241125T110000
DTSTAMP:20260425T123257
CREATED:20241024T160619Z
LAST-MODIFIED:20241024T160619Z
UID:5584-1732528800-1732532400@godfreymillercenter.org
SUMMARY:Jigsaw Puzzles
DESCRIPTION:
URL:https://godfreymillercenter.org/event/jigsaw-puzzles-55/
LOCATION:Front Sitting Room/Puzzle Room
END:VEVENT
BEGIN:VEVENT
DTSTART;TZID=America/New_York:20241125T100000
DTEND;TZID=America/New_York:20241125T120000
DTSTAMP:20260425T123257
CREATED:20241024T160619Z
LAST-MODIFIED:20241024T160619Z
UID:5583-1732528800-1732536000@godfreymillercenter.org
SUMMARY:Art Studio
DESCRIPTION:Art Studio is an open time for individuals to gather and work on their various art projects.  This is a social opportunity for artists of all levels to help each other and work independently. Recurs on every Monday of the month.
URL:https://godfreymillercenter.org/event/art-studio-118/
LOCATION:Pavilion
END:VEVENT
BEGIN:VEVENT
DTSTART;TZID=America/New_York:20241125T103000
DTEND;TZID=America/New_York:20241125T113000
DTSTAMP:20260425T123257
CREATED:20241028T211838Z
LAST-MODIFIED:20241028T211838Z
UID:5596-1732530600-1732534200@godfreymillercenter.org
SUMMARY:iPhone Help Session
DESCRIPTION:Join Program Coordinator Anna for help with your smart phone. Bring your device\, account passwords\, and any questions!
URL:https://godfreymillercenter.org/event/iphone-help-session-13/
END:VEVENT
BEGIN:VEVENT
DTSTART;TZID=America/New_York:20241125T123000
DTEND;TZID=America/New_York:20241125T133000
DTSTAMP:20260425T123257
CREATED:20241024T160619Z
LAST-MODIFIED:20241024T160619Z
UID:5585-1732537800-1732541400@godfreymillercenter.org
SUMMARY:Lunch
DESCRIPTION:***RSVP required\, call The Godfrey Miller Center office at 540-667-5869 to reserve your spot.\nTickets: $9.00
URL:https://godfreymillercenter.org/event/lunch-103/
LOCATION:Pavilion
END:VEVENT
BEGIN:VEVENT
DTSTART;TZID=America/New_York:20241125T140000
DTEND;TZID=America/New_York:20241125T150000
DTSTAMP:20260425T123257
CREATED:20241024T160619Z
LAST-MODIFIED:20241024T160619Z
UID:5586-1732543200-1732546800@godfreymillercenter.org
SUMMARY:Exercise for Balance & Strength
DESCRIPTION:A low-impact program that includes joint check/warm-up\, range of motion/stretching\, strengthening\, cardiovascular endurance\, and joint check/cool down. Led by Sonna Russell. Ms. Russell is a gifted coach and was trained through the Arthritis Foundation. (Suggested donation – $3.00)
URL:https://godfreymillercenter.org/event/exercise-for-balance-strength-79/
LOCATION:Pavilion
END:VEVENT
BEGIN:VEVENT
DTSTART;TZID=America/New_York:20241126T100000
DTEND;TZID=America/New_York:20241126T120000
DTSTAMP:20260425T123257
CREATED:20241024T160619Z
LAST-MODIFIED:20241024T160619Z
UID:5587-1732615200-1732622400@godfreymillercenter.org
SUMMARY:Canasta
DESCRIPTION:All are welcome to come and play Canasta!
URL:https://godfreymillercenter.org/event/canasta-127/
LOCATION:Parlor
END:VEVENT
BEGIN:VEVENT
DTSTART;TZID=America/New_York:20241126T100000
DTEND;TZID=America/New_York:20241126T120000
DTSTAMP:20260425T123257
CREATED:20241024T160619Z
LAST-MODIFIED:20241024T160619Z
UID:5588-1732615200-1732622400@godfreymillercenter.org
SUMMARY:Art Class: Acrylic & Watercolor Painting
DESCRIPTION:***RSVP required\, call The Godfrey Miller Center office at 540-667-5869 to reserve your spot.   \nIn this course\, students will develop painting skills\, techniques\, and aesthetic sensibilities related to artistic expression in acrylic and/or watercolor mediums. Taught by Artist Tracy Burk. (Suggested donation: $15 per class)
URL:https://godfreymillercenter.org/event/art-class-acrylic-watercolor-painting-52/
END:VEVENT
BEGIN:VEVENT
DTSTART;TZID=America/New_York:20241126T130000
DTEND;TZID=America/New_York:20241126T143000
DTSTAMP:20260425T123257
CREATED:20241024T160620Z
LAST-MODIFIED:20241024T160620Z
UID:5589-1732626000-1732631400@godfreymillercenter.org
SUMMARY:Greens Workshop
DESCRIPTION:***RSVP required\, call The Godfrey Miller Center office at 540-667-5869 to reserve your spot.   \nJoin T. Shafferman for a holiday greens workshop.  This centerpiece will be perfect for Thanksgiving and all through the upcoming holiday season.  All supplies will be provided\, but please bring a pair of clippers if you have some.  (Suggested Donation: $10)
URL:https://godfreymillercenter.org/event/greens-workshop-2/
END:VEVENT
BEGIN:VEVENT
DTSTART;TZID=America/New_York:20241126T130000
DTEND;TZID=America/New_York:20241126T150000
DTSTAMP:20260425T123257
CREATED:20241024T160620Z
LAST-MODIFIED:20241024T160620Z
UID:5590-1732626000-1732633200@godfreymillercenter.org
SUMMARY:Art Class: Drawing
DESCRIPTION:***RSVP required\, call The Godfrey Miller Center office at 540-667-5869 to reserve your spot.   \nIn this course\, students will improve drawing skills through using a combination of mediums such as graphite\, charcoal\, pen\, and ink.  Students will have their choice of mediums to help define their styles. Taught by Artist Tracy Burk. (Suggested donation: $15 per class)
URL:https://godfreymillercenter.org/event/art-class-drawing-55/
END:VEVENT
BEGIN:VEVENT
DTSTART;TZID=America/New_York:20241127T123000
DTEND;TZID=America/New_York:20241127T133000
DTSTAMP:20260425T123257
CREATED:20241024T160620Z
LAST-MODIFIED:20241024T160620Z
UID:5591-1732710600-1732714200@godfreymillercenter.org
SUMMARY:Lunch
DESCRIPTION:***RSVP required\, call The Godfrey Miller Center office at 540-667-5869 to reserve your spot.\nTickets: $9.00
URL:https://godfreymillercenter.org/event/lunch-104/
LOCATION:Pavilion
END:VEVENT
BEGIN:VEVENT
DTSTART;TZID=America/New_York:20241127T140000
DTEND;TZID=America/New_York:20241127T150000
DTSTAMP:20260425T123257
CREATED:20241024T160620Z
LAST-MODIFIED:20241024T160620Z
UID:5592-1732716000-1732719600@godfreymillercenter.org
SUMMARY:Exercise for Balance & Strength
DESCRIPTION:A low-impact program that includes joint check/warm-up\, range of motion/stretching\, strengthening\, cardiovascular endurance\, and joint check/cool down. Led by Sonna Russell. Ms. Russell is a gifted coach and was trained through the Arthritis Foundation. (Suggested donation – $3.00)
URL:https://godfreymillercenter.org/event/exercise-for-balance-strength-80/
LOCATION:Pavilion
END:VEVENT
BEGIN:VEVENT
DTSTART;TZID=America/New_York:20241128T100000
DTEND;TZID=America/New_York:20241128T150000
DTSTAMP:20260425T123257
CREATED:20241024T160620Z
LAST-MODIFIED:20241024T160620Z
UID:5593-1732788000-1732806000@godfreymillercenter.org
SUMMARY:Closed for Thanksgiving
DESCRIPTION:
URL:https://godfreymillercenter.org/event/closed-for-thanksgiving-2/
END:VEVENT
BEGIN:VEVENT
DTSTART;TZID=America/New_York:20241202T103000
DTEND;TZID=America/New_York:20241202T113000
DTSTAMP:20260425T123257
CREATED:20241120T185207Z
LAST-MODIFIED:20241120T185207Z
UID:5624-1733135400-1733139000@godfreymillercenter.org
SUMMARY:Android Smart Phone Help Session
DESCRIPTION:Join Program Coordinator Anna for help with your smart phone.  Bring your device\, account passwords\, and any questions!
URL:https://godfreymillercenter.org/event/android-smart-phone-help-session-12/
END:VEVENT
BEGIN:VEVENT
DTSTART;TZID=America/New_York:20241203T130000
DTEND;TZID=America/New_York:20241203T140000
DTSTAMP:20260425T123257
CREATED:20241120T185208Z
LAST-MODIFIED:20241120T185208Z
UID:5625-1733230800-1733234400@godfreymillercenter.org
SUMMARY:Guided Meditation
DESCRIPTION:Join Meditation Instructor Mercia for a guided meditation session.  It is a perfect midweek refresh!
URL:https://godfreymillercenter.org/event/guided-meditation/
END:VEVENT
BEGIN:VEVENT
DTSTART;TZID=America/New_York:20241204T103000
DTEND;TZID=America/New_York:20241204T113000
DTSTAMP:20260425T123257
CREATED:20241120T185208Z
LAST-MODIFIED:20241120T185208Z
UID:5626-1733308200-1733311800@godfreymillercenter.org
SUMMARY:Workshop: Christmas Diamond Art
DESCRIPTION:Come make a unique Christmas diamond art craft!  Instructions and supplies are provided.  (Suggested Donation: $5) \n***RSVP required\, call The Godfrey Miller Center office at 540-667-5869 to reserve your spot.
URL:https://godfreymillercenter.org/event/workshop-christmas-diamond-art-2/
END:VEVENT
BEGIN:VEVENT
DTSTART;TZID=America/New_York:20241204T140000
DTEND;TZID=America/New_York:20241204T150000
DTSTAMP:20260425T123257
CREATED:20241120T185209Z
LAST-MODIFIED:20241120T185209Z
UID:5627-1733320800-1733324400@godfreymillercenter.org
SUMMARY:Exercise for Balance & Strength
DESCRIPTION:A low-impact program that includes joint check/warm-up\, range of motion/stretching\, strengthening\, cardiovascular endurance\, and joint check/cool down. Led by Sonna Russell. Ms. Russell is a gifted coach and was trained through the Arthritis Foundation. (Suggested donation – $3.00)
URL:https://godfreymillercenter.org/event/exercise-for-balance-strength-81/
LOCATION:Pavilion
END:VEVENT
BEGIN:VEVENT
DTSTART;TZID=America/New_York:20241205T103000
DTEND;TZID=America/New_York:20241205T113000
DTSTAMP:20260425T123257
CREATED:20241120T185209Z
LAST-MODIFIED:20241120T185209Z
UID:5628-1733394600-1733398200@godfreymillercenter.org
SUMMARY:Workshop: Sugar Scrubs
DESCRIPTION:This DIY sugar scrub will make a perfect gift for the upcoming holiday season.  In this workshop\, participants will make a custom sugar scrub with all natural ingredients.  All supplies provided.  (Suggested Donation: $8) \n***RSVP required\, call The Godfrey Miller Center office at 540-667-5869 to reserve your spot.
URL:https://godfreymillercenter.org/event/workshop-sugar-scrubs/
LOCATION:Pavilion
END:VEVENT
BEGIN:VEVENT
DTSTART;TZID=America/New_York:20241205T140000
DTEND;TZID=America/New_York:20241205T150000
DTSTAMP:20260425T123257
CREATED:20241120T185209Z
LAST-MODIFIED:20241120T185209Z
UID:5629-1733407200-1733410800@godfreymillercenter.org
SUMMARY:Strength & Conditioning
DESCRIPTION:This class is designed to increase physical strength through resistance exercise. All major muscle groups are worked from head to toe. We finish with core conditioning\, breathing\, and stretching for a complete workout. Dumbbells are used for each class\, you can bring your own or use ours! Led by Program Coordinator Anna.
URL:https://godfreymillercenter.org/event/strength-conditioning-67/
LOCATION:Pavilion
END:VEVENT
BEGIN:VEVENT
DTSTART;TZID=America/New_York:20241208T160000
DTEND;TZID=America/New_York:20241208T170000
DTSTAMP:20260425T123257
CREATED:20241120T185209Z
LAST-MODIFIED:20241120T185209Z
UID:5630-1733673600-1733677200@godfreymillercenter.org
SUMMARY:Fall Concert Series: Windsong Community Chorus Holiday Concert
DESCRIPTION:Windsong is a group of fun-loving energetic women from all walks of life with one common goal of singing simply for the joy of singing! Our repertoire consists of familiar\, popular songs that make us tap our toes and recreate a special memory.  Freewill offering benefits the mission and ministry of the Godfrey Miller Center. \nConcert is held at Grace Lutheran Church (26 W. Boscawen St.)
URL:https://godfreymillercenter.org/event/fall-concert-series-windsong-community-chorus-holiday-concert/
LOCATION:Sanctuary
END:VEVENT
BEGIN:VEVENT
DTSTART;TZID=America/New_York:20241209T100000
DTEND;TZID=America/New_York:20241209T110000
DTSTAMP:20260425T123257
CREATED:20241120T185210Z
LAST-MODIFIED:20241120T185210Z
UID:5633-1733738400-1733742000@godfreymillercenter.org
SUMMARY:Jigsaw Puzzles
DESCRIPTION:
URL:https://godfreymillercenter.org/event/jigsaw-puzzles-56/
LOCATION:Front Sitting Room/Puzzle Room
END:VEVENT
BEGIN:VEVENT
DTSTART;TZID=America/New_York:20241209T100000
DTEND;TZID=America/New_York:20241209T120000
DTSTAMP:20260425T123257
CREATED:20241120T185209Z
LAST-MODIFIED:20241120T185209Z
UID:5632-1733738400-1733745600@godfreymillercenter.org
SUMMARY:Art Studio
DESCRIPTION:Art Studio is an open time for individuals to gather and work on their various art projects.  This is a social opportunity for artists of all levels to help each other and work independently. Recurs on every Monday of the month.
URL:https://godfreymillercenter.org/event/art-studio-119/
LOCATION:Pavilion
END:VEVENT
BEGIN:VEVENT
DTSTART;TZID=America/New_York:20241209T103000
DTEND;TZID=America/New_York:20241209T113000
DTSTAMP:20260425T123257
CREATED:20241120T185209Z
LAST-MODIFIED:20241120T185209Z
UID:5631-1733740200-1733743800@godfreymillercenter.org
SUMMARY:iPhone Help Session
DESCRIPTION:Join Program Coordinator Anna for help with your smart phone.  Bring your device\, account passwords\, and any questions!
URL:https://godfreymillercenter.org/event/iphone-help-session-14/
END:VEVENT
END:VCALENDAR