BEGIN:VCALENDAR
VERSION:2.0
PRODID:-//Godfrey Miller Center - ECPv6.15.20//NONSGML v1.0//EN
CALSCALE:GREGORIAN
METHOD:PUBLISH
X-WR-CALNAME:Godfrey Miller Center
X-ORIGINAL-URL:https://godfreymillercenter.org
X-WR-CALDESC:Events for Godfrey Miller Center
REFRESH-INTERVAL;VALUE=DURATION:PT1H
X-Robots-Tag:noindex
X-PUBLISHED-TTL:PT1H
BEGIN:VTIMEZONE
TZID:America/New_York
BEGIN:DAYLIGHT
TZOFFSETFROM:-0500
TZOFFSETTO:-0400
TZNAME:EDT
DTSTART:20230312T070000
END:DAYLIGHT
BEGIN:STANDARD
TZOFFSETFROM:-0400
TZOFFSETTO:-0500
TZNAME:EST
DTSTART:20231105T060000
END:STANDARD
BEGIN:DAYLIGHT
TZOFFSETFROM:-0500
TZOFFSETTO:-0400
TZNAME:EDT
DTSTART:20240310T070000
END:DAYLIGHT
BEGIN:STANDARD
TZOFFSETFROM:-0400
TZOFFSETTO:-0500
TZNAME:EST
DTSTART:20241103T060000
END:STANDARD
BEGIN:DAYLIGHT
TZOFFSETFROM:-0500
TZOFFSETTO:-0400
TZNAME:EDT
DTSTART:20250309T070000
END:DAYLIGHT
BEGIN:STANDARD
TZOFFSETFROM:-0400
TZOFFSETTO:-0500
TZNAME:EST
DTSTART:20251102T060000
END:STANDARD
BEGIN:DAYLIGHT
TZOFFSETFROM:-0500
TZOFFSETTO:-0400
TZNAME:EDT
DTSTART:20260308T070000
END:DAYLIGHT
BEGIN:STANDARD
TZOFFSETFROM:-0400
TZOFFSETTO:-0500
TZNAME:EST
DTSTART:20261101T060000
END:STANDARD
END:VTIMEZONE
BEGIN:VEVENT
DTSTART;TZID=America/New_York:20241216T123000
DTEND;TZID=America/New_York:20241216T133000
DTSTAMP:20260425T070524
CREATED:20241120T185211Z
LAST-MODIFIED:20241120T185211Z
UID:5647-1734352200-1734355800@godfreymillercenter.org
SUMMARY:Lunch
DESCRIPTION:***RSVP required\, call The Godfrey Miller Center office at 540-667-5869 to reserve your spot.\nTickets: $9.00
URL:https://godfreymillercenter.org/event/lunch-107/
LOCATION:Pavilion
END:VEVENT
BEGIN:VEVENT
DTSTART;TZID=America/New_York:20241216T140000
DTEND;TZID=America/New_York:20241216T150000
DTSTAMP:20260425T070524
CREATED:20241120T185211Z
LAST-MODIFIED:20241120T185211Z
UID:5648-1734357600-1734361200@godfreymillercenter.org
SUMMARY:Exercise for Balance & Strength
DESCRIPTION:A low-impact program that includes joint check/warm-up\, range of motion/stretching\, strengthening\, cardiovascular endurance\, and joint check/cool down. Led by Sonna Russell. Ms. Russell is a gifted coach and was trained through the Arthritis Foundation. (Suggested donation – $3.00)
URL:https://godfreymillercenter.org/event/exercise-for-balance-strength-84/
LOCATION:Pavilion
END:VEVENT
BEGIN:VEVENT
DTSTART;TZID=America/New_York:20241217T100000
DTEND;TZID=America/New_York:20241217T120000
DTSTAMP:20260425T070524
CREATED:20241120T185212Z
LAST-MODIFIED:20241120T185212Z
UID:5649-1734429600-1734436800@godfreymillercenter.org
SUMMARY:Art Class: Acrylic & Watercolor Painting
DESCRIPTION:***RSVP required\, call The Godfrey Miller Center office at 540-667-5869 to reserve your spot.   \nIn this course\, students will develop painting skills\, techniques\, and aesthetic sensibilities related to artistic expression in acrylic and/or watercolor mediums. Taught by Artist Tracy Burk. (Suggested donation: $15 per class)
URL:https://godfreymillercenter.org/event/art-class-acrylic-watercolor-painting-54/
END:VEVENT
BEGIN:VEVENT
DTSTART;TZID=America/New_York:20241217T100000
DTEND;TZID=America/New_York:20241217T120000
DTSTAMP:20260425T070524
CREATED:20241120T185212Z
LAST-MODIFIED:20241120T185212Z
UID:5650-1734429600-1734436800@godfreymillercenter.org
SUMMARY:Canasta
DESCRIPTION:All are welcome to come and play Canasta!
URL:https://godfreymillercenter.org/event/canasta-129/
LOCATION:Parlor
END:VEVENT
BEGIN:VEVENT
DTSTART;TZID=America/New_York:20241217T130000
DTEND;TZID=America/New_York:20241217T140000
DTSTAMP:20260425T070524
CREATED:20241120T185212Z
LAST-MODIFIED:20241120T185212Z
UID:5653-1734440400-1734444000@godfreymillercenter.org
SUMMARY:Guided Meditation
DESCRIPTION:Join Meditation Instructor Mercia for a guided meditation session.  It is a perfect midweek refresh!
URL:https://godfreymillercenter.org/event/guided-meditation-2/
END:VEVENT
BEGIN:VEVENT
DTSTART;TZID=America/New_York:20241217T130000
DTEND;TZID=America/New_York:20241217T150000
DTSTAMP:20260425T070524
CREATED:20241120T185212Z
LAST-MODIFIED:20241120T185212Z
UID:5651-1734440400-1734447600@godfreymillercenter.org
SUMMARY:Art Class: Drawing
DESCRIPTION:***RSVP required\, call The Godfrey Miller Center office at 540-667-5869 to reserve your spot.   \nIn this course\, students will improve drawing skills through using a combination of mediums such as graphite\, charcoal\, pen\, and ink.  Students will have their choice of mediums to help define their styles. Taught by Artist Tracy Burk. (Suggested donation: $15 per class)
URL:https://godfreymillercenter.org/event/art-class-drawing-57/
END:VEVENT
BEGIN:VEVENT
DTSTART;TZID=America/New_York:20241217T140000
DTEND;TZID=America/New_York:20241217T150000
DTSTAMP:20260425T070524
CREATED:20241120T185212Z
LAST-MODIFIED:20241120T185212Z
UID:5652-1734444000-1734447600@godfreymillercenter.org
SUMMARY:Strength & Conditioning
DESCRIPTION:This class is designed to increase physical strength through resistance exercise. All major muscle groups are worked from head to toe. We finish with core conditioning\, breathing\, and stretching for a complete workout. Dumbbells are used for each class\, you can bring your own or use ours! Led by Program Coordinator Anna.
URL:https://godfreymillercenter.org/event/strength-conditioning-69/
LOCATION:Pavilion
END:VEVENT
BEGIN:VEVENT
DTSTART;TZID=America/New_York:20241218T103000
DTEND;TZID=America/New_York:20241218T113000
DTSTAMP:20260425T070524
CREATED:20241120T185212Z
LAST-MODIFIED:20241120T185212Z
UID:5654-1734517800-1734521400@godfreymillercenter.org
SUMMARY:Workshop: Christmas Cards
DESCRIPTION:Join Lorraine for a Christmas craft workshop!  This workshop will guide you through making custom Christmas gift tags\, treat boxes\, ornaments\, and more.  (Suggested Donation: $6) \n***RSVP required\, call The Godfrey Miller Center office at 540-667-5869 to reserve your spot.
URL:https://godfreymillercenter.org/event/workshop-christmas-cards-2/
LOCATION:Parlor
END:VEVENT
BEGIN:VEVENT
DTSTART;TZID=America/New_York:20241218T123000
DTEND;TZID=America/New_York:20241218T133000
DTSTAMP:20260425T070524
CREATED:20241120T185212Z
LAST-MODIFIED:20241120T185212Z
UID:5655-1734525000-1734528600@godfreymillercenter.org
SUMMARY:Lunch
DESCRIPTION:***RSVP required\, call The Godfrey Miller Center office at 540-667-5869 to reserve your spot.\nTickets: $9.00
URL:https://godfreymillercenter.org/event/lunch-108/
LOCATION:Pavilion
END:VEVENT
BEGIN:VEVENT
DTSTART;TZID=America/New_York:20241218T133000
DTEND;TZID=America/New_York:20241218T143000
DTSTAMP:20260425T070524
CREATED:20241120T185213Z
LAST-MODIFIED:20241120T185213Z
UID:5657-1734528600-1734532200@godfreymillercenter.org
SUMMARY:Workshop: Christmas Crafts
DESCRIPTION:Join Lorraine for a Christmas craft workshop!  This workshop will guide you through making custom Christmas gift tags\, treat boxes\, ornaments\, and more.  (Suggested Donation: $6) \n***RSVP required\, call The Godfrey Miller Center office at 540-667-5869 to reserve your spot.
URL:https://godfreymillercenter.org/event/workshop-christmas-crafts-2/
LOCATION:Parlor
END:VEVENT
BEGIN:VEVENT
DTSTART;TZID=America/New_York:20241218T140000
DTEND;TZID=America/New_York:20241218T150000
DTSTAMP:20260425T070524
CREATED:20241120T185212Z
LAST-MODIFIED:20241120T185212Z
UID:5656-1734530400-1734534000@godfreymillercenter.org
SUMMARY:Exercise for Balance & Strength
DESCRIPTION:A low-impact program that includes joint check/warm-up\, range of motion/stretching\, strengthening\, cardiovascular endurance\, and joint check/cool down. Led by Sonna Russell. Ms. Russell is a gifted coach and was trained through the Arthritis Foundation. (Suggested donation – $3.00)
URL:https://godfreymillercenter.org/event/exercise-for-balance-strength-85/
LOCATION:Pavilion
END:VEVENT
BEGIN:VEVENT
DTSTART;TZID=America/New_York:20241219T100000
DTEND;TZID=America/New_York:20241219T120000
DTSTAMP:20260425T070524
CREATED:20241120T185213Z
LAST-MODIFIED:20241120T185213Z
UID:5658-1734602400-1734609600@godfreymillercenter.org
SUMMARY:Mahjong
DESCRIPTION:
URL:https://godfreymillercenter.org/event/mahjong-122/
LOCATION:Parlor
END:VEVENT
BEGIN:VEVENT
DTSTART;TZID=America/New_York:20241219T123000
DTEND;TZID=America/New_York:20241219T133000
DTSTAMP:20260425T070524
CREATED:20241120T185213Z
LAST-MODIFIED:20241120T185213Z
UID:5659-1734611400-1734615000@godfreymillercenter.org
SUMMARY:Lunch
DESCRIPTION:
URL:https://godfreymillercenter.org/event/lunch-109/
LOCATION:Pavilion
END:VEVENT
BEGIN:VEVENT
DTSTART;TZID=America/New_York:20241219T140000
DTEND;TZID=America/New_York:20241219T150000
DTSTAMP:20260425T070524
CREATED:20241120T185213Z
LAST-MODIFIED:20241120T185213Z
UID:5660-1734616800-1734620400@godfreymillercenter.org
SUMMARY:Strength & Conditioning
DESCRIPTION:
URL:https://godfreymillercenter.org/event/strength-conditioning-70/
LOCATION:Pavilion
END:VEVENT
BEGIN:VEVENT
DTSTART;TZID=America/New_York:20241222T133000
DTEND;TZID=America/New_York:20241222T160000
DTSTAMP:20260425T070524
CREATED:20241120T185213Z
LAST-MODIFIED:20241120T185213Z
UID:5661-1734874200-1734883200@godfreymillercenter.org
SUMMARY:Sunday Stitch-In
DESCRIPTION:
URL:https://godfreymillercenter.org/event/sunday-stitch-in-9/
LOCATION:Pavilion
END:VEVENT
BEGIN:VEVENT
DTSTART;TZID=America/New_York:20241223T100000
DTEND;TZID=America/New_York:20241223T150000
DTSTAMP:20260425T070524
CREATED:20241120T185213Z
LAST-MODIFIED:20241120T185213Z
UID:5662-1734948000-1734966000@godfreymillercenter.org
SUMMARY:Closed
DESCRIPTION:
URL:https://godfreymillercenter.org/event/closed/
END:VEVENT
BEGIN:VEVENT
DTSTART;TZID=America/New_York:20241224T100000
DTEND;TZID=America/New_York:20241224T150000
DTSTAMP:20260425T070524
CREATED:20241120T185213Z
LAST-MODIFIED:20241120T185213Z
UID:5663-1735034400-1735052400@godfreymillercenter.org
SUMMARY:Closed
DESCRIPTION:
URL:https://godfreymillercenter.org/event/closed-3/
END:VEVENT
BEGIN:VEVENT
DTSTART;TZID=America/New_York:20241225T100000
DTEND;TZID=America/New_York:20241225T150000
DTSTAMP:20260425T070524
CREATED:20241120T185213Z
LAST-MODIFIED:20241120T185213Z
UID:5664-1735120800-1735138800@godfreymillercenter.org
SUMMARY:Closed
DESCRIPTION:
URL:https://godfreymillercenter.org/event/closed-4/
END:VEVENT
BEGIN:VEVENT
DTSTART;TZID=America/New_York:20241226T100000
DTEND;TZID=America/New_York:20241226T150000
DTSTAMP:20260425T070524
CREATED:20241120T185213Z
LAST-MODIFIED:20241120T185213Z
UID:5665-1735207200-1735225200@godfreymillercenter.org
SUMMARY:Closed
DESCRIPTION:
URL:https://godfreymillercenter.org/event/closed-5/
END:VEVENT
BEGIN:VEVENT
DTSTART;TZID=America/New_York:20241230T100000
DTEND;TZID=America/New_York:20241230T150000
DTSTAMP:20260425T070524
CREATED:20241120T185213Z
LAST-MODIFIED:20241120T185213Z
UID:5666-1735552800-1735570800@godfreymillercenter.org
SUMMARY:Closed
DESCRIPTION:
URL:https://godfreymillercenter.org/event/closed-6/
END:VEVENT
BEGIN:VEVENT
DTSTART;TZID=America/New_York:20241231T100000
DTEND;TZID=America/New_York:20241231T150000
DTSTAMP:20260425T070524
CREATED:20241120T185214Z
LAST-MODIFIED:20241120T185214Z
UID:5667-1735639200-1735657200@godfreymillercenter.org
SUMMARY:Closed
DESCRIPTION:
URL:https://godfreymillercenter.org/event/closed-7/
END:VEVENT
BEGIN:VEVENT
DTSTART;TZID=America/New_York:20250101T100000
DTEND;TZID=America/New_York:20250101T150000
DTSTAMP:20260425T070524
CREATED:20241120T185214Z
LAST-MODIFIED:20241120T185214Z
UID:5668-1735725600-1735743600@godfreymillercenter.org
SUMMARY:Closed
DESCRIPTION:
URL:https://godfreymillercenter.org/event/closed-8/
END:VEVENT
BEGIN:VEVENT
DTSTART;TZID=America/New_York:20250102T100000
DTEND;TZID=America/New_York:20250102T150000
DTSTAMP:20260425T070524
CREATED:20241120T185214Z
LAST-MODIFIED:20241120T185214Z
UID:5669-1735812000-1735830000@godfreymillercenter.org
SUMMARY:Closed
DESCRIPTION:
URL:https://godfreymillercenter.org/event/closed-9/
END:VEVENT
BEGIN:VEVENT
DTSTART;TZID=America/New_York:20250106T103000
DTEND;TZID=America/New_York:20250106T113000
DTSTAMP:20260425T070524
CREATED:20241227T192623Z
LAST-MODIFIED:20241227T192623Z
UID:5678-1736159400-1736163000@godfreymillercenter.org
SUMMARY:Android Smart Phone Help Session
DESCRIPTION:Join Program Coordinator Anna for help with your smart phone.  Bring your device\, account passwords\, and any questions!
URL:https://godfreymillercenter.org/event/android-smart-phone-help-session-13/
END:VEVENT
BEGIN:VEVENT
DTSTART;TZID=America/New_York:20250107T100000
DTEND;TZID=America/New_York:20250107T120000
DTSTAMP:20260425T070524
CREATED:20241227T192623Z
LAST-MODIFIED:20241227T192623Z
UID:5679-1736244000-1736251200@godfreymillercenter.org
SUMMARY:Still Life Art Studio
DESCRIPTION:Each Tuesday in January there will be a different still life subject set up for artists to come and paint or draw.  This is a great opportunity to practice your artistic skills with friends!  All supplies are provided\, but you are welcome to bring your own as well.  (Suggested Donation: $5)
URL:https://godfreymillercenter.org/event/still-life-art-studio-11/
LOCATION:Pavilion
END:VEVENT
BEGIN:VEVENT
DTSTART;TZID=America/New_York:20250108T103000
DTEND;TZID=America/New_York:20250108T113000
DTSTAMP:20260425T070524
CREATED:20241227T192623Z
LAST-MODIFIED:20241227T192623Z
UID:5680-1736332200-1736335800@godfreymillercenter.org
SUMMARY:Workshop: Winter Diamond Art
DESCRIPTION:Come make a unique snowflake diamond art craft!  Instructions and supplies are provided.  (Suggested Donation: $5) \n***RSVP required\, call The Godfrey Miller Center office at 540-667-5869 to reserve your spot.
URL:https://godfreymillercenter.org/event/workshop-winter-diamond-art/
LOCATION:Parlor
END:VEVENT
BEGIN:VEVENT
DTSTART;TZID=America/New_York:20250108T140000
DTEND;TZID=America/New_York:20250108T150000
DTSTAMP:20260425T070524
CREATED:20241227T192624Z
LAST-MODIFIED:20241227T192624Z
UID:5681-1736344800-1736348400@godfreymillercenter.org
SUMMARY:Exercise for Balance & Strength
DESCRIPTION:A low-impact program that includes joint check/warm-up\, range of motion/stretching\, strengthening\, cardiovascular endurance\, and joint check/cool down. Led by Sonna Russell. Ms. Russell is a gifted coach and was trained through the Arthritis Foundation. (Suggested donation – $3.00)
URL:https://godfreymillercenter.org/event/exercise-for-balance-strength-86/
LOCATION:Pavilion
END:VEVENT
BEGIN:VEVENT
DTSTART;TZID=America/New_York:20250109T140000
DTEND;TZID=America/New_York:20250109T150000
DTSTAMP:20260425T070524
CREATED:20241227T192624Z
LAST-MODIFIED:20241227T192624Z
UID:5682-1736431200-1736434800@godfreymillercenter.org
SUMMARY:Strength & Conditioning
DESCRIPTION:This class is designed to increase physical strength through resistance exercise. All major muscle groups are worked from head to toe. We finish with core conditioning\, breathing\, and stretching for a complete workout. Dumbbells are used for each class\, you can bring your own or use ours! Led by Program Coordinator Anna.
URL:https://godfreymillercenter.org/event/strength-conditioning-71/
LOCATION:Pavilion
END:VEVENT
BEGIN:VEVENT
DTSTART;TZID=America/New_York:20250113T100000
DTEND;TZID=America/New_York:20250113T110000
DTSTAMP:20260425T070524
CREATED:20241227T192624Z
LAST-MODIFIED:20241227T192624Z
UID:5685-1736762400-1736766000@godfreymillercenter.org
SUMMARY:Jigsaw Puzzles
DESCRIPTION:
URL:https://godfreymillercenter.org/event/jigsaw-puzzles-58/
LOCATION:Front Sitting Room/Puzzle Room
END:VEVENT
BEGIN:VEVENT
DTSTART;TZID=America/New_York:20250113T100000
DTEND;TZID=America/New_York:20250113T120000
DTSTAMP:20260425T070524
CREATED:20241227T192624Z
LAST-MODIFIED:20241227T192624Z
UID:5684-1736762400-1736769600@godfreymillercenter.org
SUMMARY:Art Studio
DESCRIPTION:Art Studio is an open time for individuals to gather and work on their various art projects.  This is a social opportunity for artists of all levels to help each other and work independently. Recurs on every Monday of the month.
URL:https://godfreymillercenter.org/event/art-studio-121/
LOCATION:Pavilion
END:VEVENT
END:VCALENDAR