BEGIN:VCALENDAR
VERSION:2.0
PRODID:-//Godfrey Miller Center - ECPv6.15.20//NONSGML v1.0//EN
CALSCALE:GREGORIAN
METHOD:PUBLISH
X-ORIGINAL-URL:https://godfreymillercenter.org
X-WR-CALDESC:Events for Godfrey Miller Center
REFRESH-INTERVAL;VALUE=DURATION:PT1H
X-Robots-Tag:noindex
X-PUBLISHED-TTL:PT1H
BEGIN:VTIMEZONE
TZID:America/New_York
BEGIN:DAYLIGHT
TZOFFSETFROM:-0500
TZOFFSETTO:-0400
TZNAME:EDT
DTSTART:20230312T070000
END:DAYLIGHT
BEGIN:STANDARD
TZOFFSETFROM:-0400
TZOFFSETTO:-0500
TZNAME:EST
DTSTART:20231105T060000
END:STANDARD
BEGIN:DAYLIGHT
TZOFFSETFROM:-0500
TZOFFSETTO:-0400
TZNAME:EDT
DTSTART:20240310T070000
END:DAYLIGHT
BEGIN:STANDARD
TZOFFSETFROM:-0400
TZOFFSETTO:-0500
TZNAME:EST
DTSTART:20241103T060000
END:STANDARD
BEGIN:DAYLIGHT
TZOFFSETFROM:-0500
TZOFFSETTO:-0400
TZNAME:EDT
DTSTART:20250309T070000
END:DAYLIGHT
BEGIN:STANDARD
TZOFFSETFROM:-0400
TZOFFSETTO:-0500
TZNAME:EST
DTSTART:20251102T060000
END:STANDARD
END:VTIMEZONE
BEGIN:VEVENT
DTSTART;TZID=America/New_York:20241008T140000
DTEND;TZID=America/New_York:20241008T150000
DTSTAMP:20260425T114138
CREATED:20240926T235437Z
LAST-MODIFIED:20240926T235437Z
UID:5463-1728396000-1728399600@godfreymillercenter.org
SUMMARY:Strength & Conditioning
DESCRIPTION:This class is designed to increase physical strength through resistance exercise. All major muscle groups are worked from head to toe. We finish with core conditioning\, breathing\, and stretching for a complete workout. Dumbbells are used for each class\, you can bring your own or use ours! Led by Program Coordinator Anna.
URL:https://godfreymillercenter.org/event/strength-conditioning-57/
LOCATION:Pavilion
END:VEVENT
BEGIN:VEVENT
DTSTART;TZID=America/New_York:20241009T103000
DTEND;TZID=America/New_York:20241009T113000
DTSTAMP:20260425T114138
CREATED:20240926T235437Z
LAST-MODIFIED:20240926T235437Z
UID:5464-1728469800-1728473400@godfreymillercenter.org
SUMMARY:Workshop: Diamond Art Pumpkin Magnets
DESCRIPTION:***RSVP required\, call The Godfrey Miller Center office at 540-667-5869 to reserve your spot. \nCome make a pumpkin succulent magnet perfect for the Fall season!  Instructions and supplies are provided.  (Suggested Donation: $5)
URL:https://godfreymillercenter.org/event/workshop-diamond-art-pumpkin-magnets/
END:VEVENT
BEGIN:VEVENT
DTSTART;TZID=America/New_York:20241009T123000
DTEND;TZID=America/New_York:20241009T133000
DTSTAMP:20260425T114138
CREATED:20240926T235437Z
LAST-MODIFIED:20240926T235437Z
UID:5465-1728477000-1728480600@godfreymillercenter.org
SUMMARY:Lunch
DESCRIPTION:***RSVP required\, call The Godfrey Miller Center office at 540-667-5869 to reserve your spot.\nTickets: $9.00
URL:https://godfreymillercenter.org/event/lunch-86/
LOCATION:Pavilion
END:VEVENT
BEGIN:VEVENT
DTSTART;TZID=America/New_York:20241009T140000
DTEND;TZID=America/New_York:20241009T150000
DTSTAMP:20260425T114138
CREATED:20240926T235437Z
LAST-MODIFIED:20240926T235437Z
UID:5466-1728482400-1728486000@godfreymillercenter.org
SUMMARY:Exercise for Balance & Strength
DESCRIPTION:A low-impact program that includes joint check/warm-up\, range of motion/stretching\, strengthening\, cardiovascular endurance\, and joint check/cool down. Led by Sonna Russell. Ms. Russell is a gifted coach and was trained through the Arthritis Foundation. (Suggested donation – $3.00)
URL:https://godfreymillercenter.org/event/exercise-for-balance-strength-67/
LOCATION:Pavilion
END:VEVENT
BEGIN:VEVENT
DTSTART;TZID=America/New_York:20241010T100000
DTEND;TZID=America/New_York:20241010T120000
DTSTAMP:20260425T114138
CREATED:20240926T235437Z
LAST-MODIFIED:20240926T235437Z
UID:5467-1728554400-1728561600@godfreymillercenter.org
SUMMARY:Mahjong
DESCRIPTION:
URL:https://godfreymillercenter.org/event/mahjong-115/
LOCATION:Parlor
END:VEVENT
BEGIN:VEVENT
DTSTART;TZID=America/New_York:20241010T123000
DTEND;TZID=America/New_York:20241010T133000
DTSTAMP:20260425T114138
CREATED:20240926T235437Z
LAST-MODIFIED:20240926T235437Z
UID:5468-1728563400-1728567000@godfreymillercenter.org
SUMMARY:Lunch
DESCRIPTION:***RSVP required\, call The Godfrey Miller Center office at 540-667-5869 to reserve your spot.\nTickets: $9.00
URL:https://godfreymillercenter.org/event/lunch-87/
LOCATION:Pavilion
END:VEVENT
BEGIN:VEVENT
DTSTART;TZID=America/New_York:20241010T140000
DTEND;TZID=America/New_York:20241010T150000
DTSTAMP:20260425T114138
CREATED:20240926T235438Z
LAST-MODIFIED:20240926T235438Z
UID:5469-1728568800-1728572400@godfreymillercenter.org
SUMMARY:Strength & Conditioning
DESCRIPTION:This class is designed to increase physical strength through resistance exercise. All major muscle groups are worked from head to toe. We finish with core conditioning\, breathing\, and stretching for a complete workout. Dumbbells are used for each class\, you can bring your own or use ours! Led by Program Coordinator Anna.
URL:https://godfreymillercenter.org/event/strength-conditioning-58/
LOCATION:Pavilion
END:VEVENT
BEGIN:VEVENT
DTSTART;TZID=America/New_York:20241014T090000
DTEND;TZID=America/New_York:20241014T100000
DTSTAMP:20260425T114138
CREATED:20240926T235438Z
LAST-MODIFIED:20240926T235438Z
UID:5472-1728896400-1728900000@godfreymillercenter.org
SUMMARY:Walking Club
DESCRIPTION:
URL:https://godfreymillercenter.org/event/walking-club-86/
LOCATION:Courtyard
END:VEVENT
BEGIN:VEVENT
DTSTART;TZID=America/New_York:20241014T100000
DTEND;TZID=America/New_York:20241014T110000
DTSTAMP:20260425T114138
CREATED:20240926T235438Z
LAST-MODIFIED:20240926T235438Z
UID:5470-1728900000-1728903600@godfreymillercenter.org
SUMMARY:Jigsaw Puzzles
DESCRIPTION:
URL:https://godfreymillercenter.org/event/jigsaw-puzzles-50/
LOCATION:Front Sitting Room/Puzzle Room
END:VEVENT
BEGIN:VEVENT
DTSTART;TZID=America/New_York:20241014T100000
DTEND;TZID=America/New_York:20241014T120000
DTSTAMP:20260425T114138
CREATED:20240926T235438Z
LAST-MODIFIED:20240926T235438Z
UID:5471-1728900000-1728907200@godfreymillercenter.org
SUMMARY:Art Studio
DESCRIPTION:Art Studio is an open time for individuals to gather and work on their various art projects.  This is a social opportunity for artists of all levels to help each other and work independently. Recurs on every Monday of the month.
URL:https://godfreymillercenter.org/event/art-studio-113/
LOCATION:Pavilion
END:VEVENT
BEGIN:VEVENT
DTSTART;TZID=America/New_York:20241014T123000
DTEND;TZID=America/New_York:20241014T133000
DTSTAMP:20260425T114138
CREATED:20240926T235438Z
LAST-MODIFIED:20240926T235438Z
UID:5473-1728909000-1728912600@godfreymillercenter.org
SUMMARY:Lunch
DESCRIPTION:***RSVP required\, call The Godfrey Miller Center office at 540-667-5869 to reserve your spot.\nTickets: $9.00
URL:https://godfreymillercenter.org/event/lunch-88/
LOCATION:Pavilion
END:VEVENT
BEGIN:VEVENT
DTSTART;TZID=America/New_York:20241014T140000
DTEND;TZID=America/New_York:20241014T150000
DTSTAMP:20260425T114138
CREATED:20240926T235438Z
LAST-MODIFIED:20240926T235438Z
UID:5474-1728914400-1728918000@godfreymillercenter.org
SUMMARY:Exercise for Balance & Strength
DESCRIPTION:A low-impact program that includes joint check/warm-up\, range of motion/stretching\, strengthening\, cardiovascular endurance\, and joint check/cool down. Led by Sonna Russell. Ms. Russell is a gifted coach and was trained through the Arthritis Foundation. (Suggested donation – $3.00)
URL:https://godfreymillercenter.org/event/exercise-for-balance-strength-68/
LOCATION:Pavilion
END:VEVENT
BEGIN:VEVENT
DTSTART;TZID=America/New_York:20241015T100000
DTEND;TZID=America/New_York:20241015T120000
DTSTAMP:20260425T114138
CREATED:20240926T235439Z
LAST-MODIFIED:20240926T235439Z
UID:5475-1728986400-1728993600@godfreymillercenter.org
SUMMARY:Canasta
DESCRIPTION:All are welcome to come and play Canasta!
URL:https://godfreymillercenter.org/event/canasta-122/
LOCATION:Parlor
END:VEVENT
BEGIN:VEVENT
DTSTART;TZID=America/New_York:20241015T100000
DTEND;TZID=America/New_York:20241015T120000
DTSTAMP:20260425T114138
CREATED:20240926T235439Z
LAST-MODIFIED:20240926T235439Z
UID:5476-1728986400-1728993600@godfreymillercenter.org
SUMMARY:Still Life Art Studio
DESCRIPTION:Each Tuesday in August there will be a different still life subject set up for artists to come and paint or draw.  This is a great opportunity to practice your artistic skills with friends!  All supplies are provided\, but you are welcome to bring your own as well.  (Suggested Donation: $5) \n***RSVP required\, call The Godfrey Miller Center office at 540-667-5869 to reserve your spot.
URL:https://godfreymillercenter.org/event/still-life-art-studio-10/
LOCATION:Pavilion
END:VEVENT
BEGIN:VEVENT
DTSTART;TZID=America/New_York:20241015T130000
DTEND;TZID=America/New_York:20241015T143000
DTSTAMP:20260425T114138
CREATED:20240926T235439Z
LAST-MODIFIED:20240926T235439Z
UID:5477-1728997200-1729002600@godfreymillercenter.org
SUMMARY:Medicare Presentation
DESCRIPTION:As you may know\, there are an incredible amount of changes happening with your Medicare 2025 plans.  With the Medicare Annual Enrollment Period upon us\, we recognize that just the Prescription Plans\, alone\, can be overwhelming!  Winchester resident\, Curtis Griffith\, from Blue Ridge Agents Insurance\, will be here\, with a Qualified Medicare Expert on hand\, to help you navigate through all of the changes and answer any questions you may have.  This is an open event\, so please feel free to invite anyone you like!  Blue Ridge Agents is a local agency specializing in Medicare plans from all providers.
URL:https://godfreymillercenter.org/event/medicare-presentation/
LOCATION:Pavilion
END:VEVENT
BEGIN:VEVENT
DTSTART;TZID=America/New_York:20241016T103000
DTEND;TZID=America/New_York:20241016T113000
DTSTAMP:20260425T114138
CREATED:20240926T235439Z
LAST-MODIFIED:20240926T235439Z
UID:5478-1729074600-1729078200@godfreymillercenter.org
SUMMARY:Workshop: Halloween & Fall Greeting Cards & Treat Holders
DESCRIPTION:***RSVP required\, call The Godfrey Miller Center office at 540-667-5869 to reserve your spot.   \nThis month master paper crafter\, Lorraine\, will be holding two workshops!  Each workshop will be the same; creating custom Halloween and Fall greeting cards for you to share with your family and friends. (Suggested Donation: $6)
URL:https://godfreymillercenter.org/event/workshop-halloween-fall-greeting-cards-treat-holders/
END:VEVENT
BEGIN:VEVENT
DTSTART;TZID=America/New_York:20241016T123000
DTEND;TZID=America/New_York:20241016T133000
DTSTAMP:20260425T114138
CREATED:20240926T235439Z
LAST-MODIFIED:20240926T235439Z
UID:5479-1729081800-1729085400@godfreymillercenter.org
SUMMARY:Lunch
DESCRIPTION:***RSVP required\, call The Godfrey Miller Center office at 540-667-5869 to reserve your spot.\nTickets: $9.00
URL:https://godfreymillercenter.org/event/lunch-89/
LOCATION:Pavilion
END:VEVENT
BEGIN:VEVENT
DTSTART;TZID=America/New_York:20241016T133000
DTEND;TZID=America/New_York:20241016T143000
DTSTAMP:20260425T114138
CREATED:20240926T235439Z
LAST-MODIFIED:20240926T235439Z
UID:5481-1729085400-1729089000@godfreymillercenter.org
SUMMARY:Workshop: Halloween & Fall Greeting Cards & Treat Holders
DESCRIPTION:***RSVP required\, call The Godfrey Miller Center office at 540-667-5869 to reserve your spot.   \nThis month master paper crafter\, Lorraine\, will be holding two workshops!  Each workshop will be the same; creating custom Halloween and Fall greeting cards for you to share with your family and friends. (Suggested Donation: $6)
URL:https://godfreymillercenter.org/event/workshop-halloween-fall-greeting-cards-treat-holders-2/
END:VEVENT
BEGIN:VEVENT
DTSTART;TZID=America/New_York:20241016T140000
DTEND;TZID=America/New_York:20241016T150000
DTSTAMP:20260425T114138
CREATED:20240926T235439Z
LAST-MODIFIED:20240926T235439Z
UID:5480-1729087200-1729090800@godfreymillercenter.org
SUMMARY:Exercise for Balance & Strength
DESCRIPTION:A low-impact program that includes joint check/warm-up\, range of motion/stretching\, strengthening\, cardiovascular endurance\, and joint check/cool down. Led by Sonna Russell. Ms. Russell is a gifted coach and was trained through the Arthritis Foundation. (Suggested donation – $3.00)
URL:https://godfreymillercenter.org/event/exercise-for-balance-strength-69/
LOCATION:Pavilion
END:VEVENT
BEGIN:VEVENT
DTSTART;TZID=America/New_York:20241017T100000
DTEND;TZID=America/New_York:20241017T120000
DTSTAMP:20260425T114138
CREATED:20240926T235439Z
LAST-MODIFIED:20240926T235439Z
UID:5482-1729159200-1729166400@godfreymillercenter.org
SUMMARY:Mahjong
DESCRIPTION:
URL:https://godfreymillercenter.org/event/mahjong-116/
LOCATION:Parlor
END:VEVENT
BEGIN:VEVENT
DTSTART;TZID=America/New_York:20241017T123000
DTEND;TZID=America/New_York:20241017T133000
DTSTAMP:20260425T114138
CREATED:20240926T235440Z
LAST-MODIFIED:20240926T235440Z
UID:5483-1729168200-1729171800@godfreymillercenter.org
SUMMARY:Lunch
DESCRIPTION:***RSVP required\, call The Godfrey Miller Center office at 540-667-5869 to reserve your spot.\nTickets: $9.00
URL:https://godfreymillercenter.org/event/lunch-90/
LOCATION:Pavilion
END:VEVENT
BEGIN:VEVENT
DTSTART;TZID=America/New_York:20241021T090000
DTEND;TZID=America/New_York:20241021T100000
DTSTAMP:20260425T114138
CREATED:20240926T235440Z
LAST-MODIFIED:20240926T235440Z
UID:5486-1729501200-1729504800@godfreymillercenter.org
SUMMARY:Walking Club
DESCRIPTION:
URL:https://godfreymillercenter.org/event/walking-club-87/
LOCATION:Courtyard
END:VEVENT
BEGIN:VEVENT
DTSTART;TZID=America/New_York:20241021T100000
DTEND;TZID=America/New_York:20241021T110000
DTSTAMP:20260425T114138
CREATED:20240926T235440Z
LAST-MODIFIED:20240926T235440Z
UID:5484-1729504800-1729508400@godfreymillercenter.org
SUMMARY:Jigsaw Puzzles
DESCRIPTION:
URL:https://godfreymillercenter.org/event/jigsaw-puzzles-51/
LOCATION:Front Sitting Room/Puzzle Room
END:VEVENT
BEGIN:VEVENT
DTSTART;TZID=America/New_York:20241021T100000
DTEND;TZID=America/New_York:20241021T120000
DTSTAMP:20260425T114138
CREATED:20240926T235440Z
LAST-MODIFIED:20240926T235440Z
UID:5485-1729504800-1729512000@godfreymillercenter.org
SUMMARY:Art Studio
DESCRIPTION:Art Studio is an open time for individuals to gather and work on their various art projects.  This is a social opportunity for artists of all levels to help each other and work independently. Recurs on every Monday of the month.
URL:https://godfreymillercenter.org/event/art-studio-114/
LOCATION:Pavilion
END:VEVENT
BEGIN:VEVENT
DTSTART;TZID=America/New_York:20241021T103000
DTEND;TZID=America/New_York:20241021T113000
DTSTAMP:20260425T114138
CREATED:20240926T235440Z
LAST-MODIFIED:20240926T235440Z
UID:5487-1729506600-1729510200@godfreymillercenter.org
SUMMARY:iPhone Help Session
DESCRIPTION:Join Program Coordinator Anna for help with your smart phone.  Bring your device\, account passwords\, and any questions!
URL:https://godfreymillercenter.org/event/iphone-help-session-12/
END:VEVENT
BEGIN:VEVENT
DTSTART;TZID=America/New_York:20241021T123000
DTEND;TZID=America/New_York:20241021T133000
DTSTAMP:20260425T114138
CREATED:20240926T235440Z
LAST-MODIFIED:20240926T235440Z
UID:5488-1729513800-1729517400@godfreymillercenter.org
SUMMARY:Lunch
DESCRIPTION:***RSVP required\, call The Godfrey Miller Center office at 540-667-5869 to reserve your spot.\nTickets: $9.00
URL:https://godfreymillercenter.org/event/lunch-91/
LOCATION:Pavilion
END:VEVENT
BEGIN:VEVENT
DTSTART;TZID=America/New_York:20241021T140000
DTEND;TZID=America/New_York:20241021T150000
DTSTAMP:20260425T114138
CREATED:20240926T235440Z
LAST-MODIFIED:20240926T235440Z
UID:5489-1729519200-1729522800@godfreymillercenter.org
SUMMARY:Exercise for Balance & Strength
DESCRIPTION:A low-impact program that includes joint check/warm-up\, range of motion/stretching\, strengthening\, cardiovascular endurance\, and joint check/cool down. Led by Sonna Russell. Ms. Russell is a gifted coach and was trained through the Arthritis Foundation. (Suggested donation – $3.00)
URL:https://godfreymillercenter.org/event/exercise-for-balance-strength-70/
LOCATION:Pavilion
END:VEVENT
BEGIN:VEVENT
DTSTART;TZID=America/New_York:20241022T100000
DTEND;TZID=America/New_York:20241022T120000
DTSTAMP:20260425T114138
CREATED:20240926T235441Z
LAST-MODIFIED:20240926T235441Z
UID:5491-1729591200-1729598400@godfreymillercenter.org
SUMMARY:Canasta
DESCRIPTION:All are welcome to come and play Canasta!
URL:https://godfreymillercenter.org/event/canasta-123/
LOCATION:Parlor
END:VEVENT
BEGIN:VEVENT
DTSTART;TZID=America/New_York:20241022T130000
DTEND;TZID=America/New_York:20241022T153000
DTSTAMP:20260425T114138
CREATED:20240926T235441Z
LAST-MODIFIED:20240926T235441Z
UID:5492-1729602000-1729611000@godfreymillercenter.org
SUMMARY:Movie Matinee: Fly Me to the Moon
DESCRIPTION:Starring Scarlett Johansson and Channing Tatum\, Fly Me to the Moon\, tells the story between marketing specialist Kelly Jones and the NASA launch director Cole Davis as they are tasked with creating a fictionalized version of the Apollo 11 mission in case the actual one does not succeed.  Movie snacks and drinks provided.  Movie run time: 2 hours and 11 minutes.
URL:https://godfreymillercenter.org/event/movie-matinee-fly-me-to-the-moon/
LOCATION:Pavilion
END:VEVENT
BEGIN:VEVENT
DTSTART;TZID=America/New_York:20241023T123000
DTEND;TZID=America/New_York:20241023T133000
DTSTAMP:20260425T114138
CREATED:20240926T235441Z
LAST-MODIFIED:20240926T235441Z
UID:5494-1729686600-1729690200@godfreymillercenter.org
SUMMARY:Lunch
DESCRIPTION:***RSVP required\, call The Godfrey Miller Center office at 540-667-5869 to reserve your spot.\nTickets: $9.00
URL:https://godfreymillercenter.org/event/lunch-92/
LOCATION:Pavilion
END:VEVENT
END:VCALENDAR