BEGIN:VCALENDAR
VERSION:2.0
PRODID:-//Godfrey Miller Center - ECPv6.15.20//NONSGML v1.0//EN
CALSCALE:GREGORIAN
METHOD:PUBLISH
X-ORIGINAL-URL:https://godfreymillercenter.org
X-WR-CALDESC:Events for Godfrey Miller Center
REFRESH-INTERVAL;VALUE=DURATION:PT1H
X-Robots-Tag:noindex
X-PUBLISHED-TTL:PT1H
BEGIN:VTIMEZONE
TZID:America/New_York
BEGIN:DAYLIGHT
TZOFFSETFROM:-0500
TZOFFSETTO:-0400
TZNAME:EDT
DTSTART:20220313T070000
END:DAYLIGHT
BEGIN:STANDARD
TZOFFSETFROM:-0400
TZOFFSETTO:-0500
TZNAME:EST
DTSTART:20221106T060000
END:STANDARD
BEGIN:DAYLIGHT
TZOFFSETFROM:-0500
TZOFFSETTO:-0400
TZNAME:EDT
DTSTART:20230312T070000
END:DAYLIGHT
BEGIN:STANDARD
TZOFFSETFROM:-0400
TZOFFSETTO:-0500
TZNAME:EST
DTSTART:20231105T060000
END:STANDARD
BEGIN:DAYLIGHT
TZOFFSETFROM:-0500
TZOFFSETTO:-0400
TZNAME:EDT
DTSTART:20240310T070000
END:DAYLIGHT
BEGIN:STANDARD
TZOFFSETFROM:-0400
TZOFFSETTO:-0500
TZNAME:EST
DTSTART:20241103T060000
END:STANDARD
END:VTIMEZONE
BEGIN:VEVENT
DTSTART;TZID=America/New_York:20230401T170000
DTEND;TZID=America/New_York:20230401T210000
DTSTAMP:20260425T220046
CREATED:20230327T180831Z
LAST-MODIFIED:20230327T180831Z
UID:4151-1680368400-1680382800@godfreymillercenter.org
SUMMARY:Friends of Godfrey Dinner
DESCRIPTION:
URL:https://godfreymillercenter.org/event/friends-of-godfrey-dinner/
END:VEVENT
BEGIN:VEVENT
DTSTART;TZID=America/New_York:20230405T140000
DTEND;TZID=America/New_York:20230405T150000
DTSTAMP:20260425T220046
CREATED:20230327T180839Z
LAST-MODIFIED:20230327T180839Z
UID:4154-1680703200-1680706800@godfreymillercenter.org
SUMMARY:Exercise for Balance and Strength
DESCRIPTION:A low-impact program that includes joint check/warm-up\, range of motion/stretching\, strengthening\, cardiovascular endurance\, and joint check/cool down. Led by Sonna Russell. Ms. Russell is a gifted coach and was trained through the Arthritis Foundation. (Suggested donation – $3.00)
URL:https://godfreymillercenter.org/event/exercise-for-balance-and-strength-118/
LOCATION:Pavilion
END:VEVENT
BEGIN:VEVENT
DTSTART;TZID=America/New_York:20230406T100000
DTEND;TZID=America/New_York:20230406T110000
DTSTAMP:20260425T220046
CREATED:20221220T153340Z
LAST-MODIFIED:20230327T180839Z
UID:3927-1680775200-1680778800@godfreymillercenter.org
SUMMARY:Party Bridge
DESCRIPTION:Join your friends and neighbors for a fun game of party Bridge in the Parlor.  All are welcome!
URL:https://godfreymillercenter.org/event/party-bridge-17/
LOCATION:Front Sitting Room
END:VEVENT
BEGIN:VEVENT
DTSTART;TZID=America/New_York:20230406T140000
DTEND;TZID=America/New_York:20230406T150000
DTSTAMP:20260425T220046
CREATED:20230327T180841Z
LAST-MODIFIED:20230327T180841Z
UID:4155-1680789600-1680793200@godfreymillercenter.org
SUMMARY:Strength and Conditioning Class
DESCRIPTION:This class is designed to increase physical strength through resistance exercise. All major muscle groups are worked from head to toe. We finish with core conditioning\, breathing\, and stretching for a complete workout. Dumbbells are used for each class\, you can bring your own or use ours! Led by Program Coordinator Anna.
URL:https://godfreymillercenter.org/event/strength-and-conditioning-class-60/
LOCATION:Pavilion
END:VEVENT
BEGIN:VEVENT
DTSTART;TZID=America/New_York:20230410T080000
DTEND;TZID=America/New_York:20230410T083000
DTSTAMP:20260425T220046
CREATED:20230327T180842Z
LAST-MODIFIED:20230327T180842Z
UID:4156-1681113600-1681115400@godfreymillercenter.org
SUMMARY:Walking Club
DESCRIPTION:Meet in the courtyard of Godfrey Miller Center to walk and socialize around downtown Winchester.
URL:https://godfreymillercenter.org/event/walking-club-31/
END:VEVENT
BEGIN:VEVENT
DTSTART;TZID=America/New_York:20230410T100000
DTEND;TZID=America/New_York:20230410T120000
DTSTAMP:20260425T220046
CREATED:20230327T180842Z
LAST-MODIFIED:20230327T180842Z
UID:4157-1681120800-1681128000@godfreymillercenter.org
SUMMARY:Art Studio
DESCRIPTION:Art Studio is an open time for individuals to gather and work on their various art projects.  This is a social opportunity for artists of all levels to help each other and work independently. Recurs on every Monday of the month.
URL:https://godfreymillercenter.org/event/art-studio-58/
LOCATION:Pavilion
END:VEVENT
BEGIN:VEVENT
DTSTART;TZID=America/New_York:20230410T100000
DTEND;TZID=America/New_York:20230410T120000
DTSTAMP:20260425T220046
CREATED:20230327T180842Z
LAST-MODIFIED:20230327T180842Z
UID:4158-1681120800-1681128000@godfreymillercenter.org
SUMMARY:Samba
DESCRIPTION:Samba is a card game variation of Canasta.  All are invited to come\, learn and play!
URL:https://godfreymillercenter.org/event/samba-23/
LOCATION:Parlor
END:VEVENT
BEGIN:VEVENT
DTSTART;TZID=America/New_York:20230410T123000
DTEND;TZID=America/New_York:20230410T133000
DTSTAMP:20260425T220046
CREATED:20230327T180842Z
LAST-MODIFIED:20230327T181329Z
UID:4159-1681129800-1681133400@godfreymillercenter.org
SUMMARY:Lunch
DESCRIPTION:***RSVP Required by the preceding Thursday. Tickets are $8.50 and available in the Godfrey Miller Center office. \nMenu: Sausage with Sauerkraut\, Roasted Potatoes\, and Dessert
URL:https://godfreymillercenter.org/event/4159/
LOCATION:Pavilion
END:VEVENT
BEGIN:VEVENT
DTSTART;TZID=America/New_York:20230410T140000
DTEND;TZID=America/New_York:20230410T150000
DTSTAMP:20260425T220046
CREATED:20230327T180842Z
LAST-MODIFIED:20230327T180842Z
UID:4160-1681135200-1681138800@godfreymillercenter.org
SUMMARY:Exercise for Balance and Strength
DESCRIPTION:A low-impact program that includes joint check/warm-up\, range of motion/stretching\, strengthening\, cardiovascular endurance\, and joint check/cool down. Led by Sonna Russell. Ms. Russell is a gifted coach and was trained through the Arthritis Foundation. (Suggested donation – $3.00)
URL:https://godfreymillercenter.org/event/exercise-for-balance-and-strength-119/
LOCATION:Pavilion
END:VEVENT
BEGIN:VEVENT
DTSTART;TZID=America/New_York:20230411T100000
DTEND;TZID=America/New_York:20230411T120000
DTSTAMP:20260425T220046
CREATED:20230327T180843Z
LAST-MODIFIED:20230327T180843Z
UID:4161-1681207200-1681214400@godfreymillercenter.org
SUMMARY:Canasta
DESCRIPTION:
URL:https://godfreymillercenter.org/event/canasta-63/
LOCATION:Parlor
END:VEVENT
BEGIN:VEVENT
DTSTART;TZID=America/New_York:20230411T140000
DTEND;TZID=America/New_York:20230411T150000
DTSTAMP:20260425T220046
CREATED:20230327T180843Z
LAST-MODIFIED:20230327T180843Z
UID:4163-1681221600-1681225200@godfreymillercenter.org
SUMMARY:Strength and Conditioning Class
DESCRIPTION:This class is designed to increase physical strength through resistance exercise. All major muscle groups are worked from head to toe. We finish with core conditioning\, breathing\, and stretching for a complete workout. Dumbbells are used for each class\, you can bring your own or use ours! Led by Program Coordinator Anna.
URL:https://godfreymillercenter.org/event/strength-and-conditioning-class-61/
LOCATION:Pavilion
END:VEVENT
BEGIN:VEVENT
DTSTART;TZID=America/New_York:20230412T100000
DTEND;TZID=America/New_York:20230412T120000
DTSTAMP:20260425T220046
CREATED:20230327T180844Z
LAST-MODIFIED:20230327T180844Z
UID:4166-1681293600-1681300800@godfreymillercenter.org
SUMMARY:Pinochle
DESCRIPTION:
URL:https://godfreymillercenter.org/event/pinochle-52/
LOCATION:Parlor or Dining Room
END:VEVENT
BEGIN:VEVENT
DTSTART;TZID=America/New_York:20230412T103000
DTEND;TZID=America/New_York:20230412T120000
DTSTAMP:20260425T220046
CREATED:20230327T180843Z
LAST-MODIFIED:20230327T180843Z
UID:4165-1681295400-1681300800@godfreymillercenter.org
SUMMARY:Workshop: Spring Door Sign
DESCRIPTION:***RSVP required\, call The Godfrey Miller Center office at 540-667-5869 to reserve your spot.\nCome spend a morning crafting with friends!  We will be making a custom spring door sign.  No experience necessary\, all are welcome! (Suggested Donation: $5)
URL:https://godfreymillercenter.org/event/workshop-spring-door-sign/
LOCATION:Parlor
END:VEVENT
BEGIN:VEVENT
DTSTART;TZID=America/New_York:20230412T123000
DTEND;TZID=America/New_York:20230412T133000
DTSTAMP:20260425T220046
CREATED:20230327T180844Z
LAST-MODIFIED:20230327T181115Z
UID:4167-1681302600-1681306200@godfreymillercenter.org
SUMMARY:Lunch
DESCRIPTION:***RSVP Required by the preceding Monday. Tickets are $8.50 and available in the Godfrey Miller Center office. \nMenu: Chicken and Cheese Enchiladas\, Rice\, Guacamole\, and Dessert
URL:https://godfreymillercenter.org/event/4167/
LOCATION:Pavilion
END:VEVENT
BEGIN:VEVENT
DTSTART;TZID=America/New_York:20230412T140000
DTEND;TZID=America/New_York:20230412T150000
DTSTAMP:20260425T220046
CREATED:20230327T180844Z
LAST-MODIFIED:20230327T180844Z
UID:4168-1681308000-1681311600@godfreymillercenter.org
SUMMARY:Exercise for Balance and Strength
DESCRIPTION:A low-impact program that includes joint check/warm-up\, range of motion/stretching\, strengthening\, cardiovascular endurance\, and joint check/cool down. Led by Sonna Russell. Ms. Russell is a gifted coach and was trained through the Arthritis Foundation. (Suggested donation – $3.00)
URL:https://godfreymillercenter.org/event/exercise-for-balance-and-strength-120/
LOCATION:Pavilion
END:VEVENT
BEGIN:VEVENT
DTSTART;TZID=America/New_York:20230413T100000
DTEND;TZID=America/New_York:20230413T110000
DTSTAMP:20260425T220046
CREATED:20230327T180844Z
LAST-MODIFIED:20230327T180844Z
UID:4169-1681380000-1681383600@godfreymillercenter.org
SUMMARY:Party Bridge
DESCRIPTION:Join your friends and neighbors for a fun game of party Bridge in the Parlor.  All are welcome!
URL:https://godfreymillercenter.org/event/party-bridge-28/
LOCATION:Front Sitting Room
END:VEVENT
BEGIN:VEVENT
DTSTART;TZID=America/New_York:20230413T100000
DTEND;TZID=America/New_York:20230413T120000
DTSTAMP:20260425T220046
CREATED:20230327T180844Z
LAST-MODIFIED:20230327T180844Z
UID:4171-1681380000-1681387200@godfreymillercenter.org
SUMMARY:Mahjong
DESCRIPTION:
URL:https://godfreymillercenter.org/event/mahjong-57/
LOCATION:Parlor
END:VEVENT
BEGIN:VEVENT
DTSTART;TZID=America/New_York:20230413T103000
DTEND;TZID=America/New_York:20230413T113000
DTSTAMP:20260425T220046
CREATED:20230327T180844Z
LAST-MODIFIED:20230327T180844Z
UID:4170-1681381800-1681385400@godfreymillercenter.org
SUMMARY:Caring for Your House Plants Presentation - Master Gardeners
DESCRIPTION:Join Master Gardener\, Dottie Brown\, for a presentation about how to care for your house plants.  You are invited (not required) to bring either a plant that you have that is doing well\, or a plant that is not doing well\, and we see if we can give it first aid.
URL:https://godfreymillercenter.org/event/caring-for-your-house-plants-presentation-master-gardeners/
LOCATION:Pavilion
END:VEVENT
BEGIN:VEVENT
DTSTART;TZID=America/New_York:20230413T140000
DTEND;TZID=America/New_York:20230413T150000
DTSTAMP:20260425T220046
CREATED:20230327T180845Z
LAST-MODIFIED:20230327T180845Z
UID:4172-1681394400-1681398000@godfreymillercenter.org
SUMMARY:Strength and Conditioning Class
DESCRIPTION:This class is designed to increase physical strength through resistance exercise. All major muscle groups are worked from head to toe. We finish with core conditioning\, breathing\, and stretching for a complete workout. Dumbbells are used for each class\, you can bring your own or use ours! Led by Program Coordinator Anna.
URL:https://godfreymillercenter.org/event/strength-and-conditioning-class-62/
LOCATION:Pavilion
END:VEVENT
BEGIN:VEVENT
DTSTART;TZID=America/New_York:20230415T100000
DTEND;TZID=America/New_York:20230415T120000
DTSTAMP:20260425T220046
CREATED:20230327T180845Z
LAST-MODIFIED:20230327T180845Z
UID:4173-1681552800-1681560000@godfreymillercenter.org
SUMMARY:Spring Health Fair
DESCRIPTION:The Spring Health Fair is brought to you by the Godfrey Miller Center in partnership with the Christian Pharmacists Fellowship International and the Shenandoah University Bernard J. Dunn School of Pharmacy. Information on many health topics will be available\, including tooth health\, sun health\, fall risks\, blood pressure\, and more!  At 11:00 AM there will be a presentation on Mediation Adherence and Schedules. Blood pressure checks\, BMI calculations\, and private medication consults will be offered. In preparation\, bring a list of your current medications.  There will also be lots of GIVEAWAYS!
URL:https://godfreymillercenter.org/event/spring-health-fair/
END:VEVENT
BEGIN:VEVENT
DTSTART;TZID=America/New_York:20230417T080000
DTEND;TZID=America/New_York:20230417T083000
DTSTAMP:20260425T220046
CREATED:20230327T180845Z
LAST-MODIFIED:20230327T180845Z
UID:4175-1681718400-1681720200@godfreymillercenter.org
SUMMARY:Walking Club
DESCRIPTION:Meet in the courtyard of Godfrey Miller Center to walk and socialize around downtown Winchester.
URL:https://godfreymillercenter.org/event/walking-club-32/
END:VEVENT
BEGIN:VEVENT
DTSTART;TZID=America/New_York:20230417T100000
DTEND;TZID=America/New_York:20230417T120000
DTSTAMP:20260425T220046
CREATED:20230327T180845Z
LAST-MODIFIED:20230327T180845Z
UID:4176-1681725600-1681732800@godfreymillercenter.org
SUMMARY:Art Studio
DESCRIPTION:Art Studio is an open time for individuals to gather and work on their various art projects.  This is a social opportunity for artists of all levels to help each other and work independently. Recurs on every Monday of the month.
URL:https://godfreymillercenter.org/event/art-studio-59/
LOCATION:Pavilion
END:VEVENT
BEGIN:VEVENT
DTSTART;TZID=America/New_York:20230417T100000
DTEND;TZID=America/New_York:20230417T120000
DTSTAMP:20260425T220046
CREATED:20230327T180846Z
LAST-MODIFIED:20230327T180846Z
UID:4177-1681725600-1681732800@godfreymillercenter.org
SUMMARY:Samba
DESCRIPTION:Samba is a card game variation of Canasta.  All are invited to come\, learn and play!
URL:https://godfreymillercenter.org/event/samba-24/
LOCATION:Parlor
END:VEVENT
BEGIN:VEVENT
DTSTART;TZID=America/New_York:20230417T123000
DTEND;TZID=America/New_York:20230417T133000
DTSTAMP:20260425T220046
CREATED:20230327T180846Z
LAST-MODIFIED:20230327T181439Z
UID:4178-1681734600-1681738200@godfreymillercenter.org
SUMMARY:Lunch
DESCRIPTION:***RSVP Required by the preceding Thursday. Tickets are $8.50 and available in the Godfrey Miller Center office. \nMenu: French Onion Soup\, Baguette\, Roasted Vegetables\, and Dessert
URL:https://godfreymillercenter.org/event/4178/
LOCATION:Pavilion
END:VEVENT
BEGIN:VEVENT
DTSTART;TZID=America/New_York:20230417T140000
DTEND;TZID=America/New_York:20230417T150000
DTSTAMP:20260425T220046
CREATED:20230327T180846Z
LAST-MODIFIED:20230327T180846Z
UID:4179-1681740000-1681743600@godfreymillercenter.org
SUMMARY:Exercise for Balance and Strength
DESCRIPTION:A low-impact program that includes joint check/warm-up\, range of motion/stretching\, strengthening\, cardiovascular endurance\, and joint check/cool down. Led by Sonna Russell. Ms. Russell is a gifted coach and was trained through the Arthritis Foundation. (Suggested donation – $3.00)
URL:https://godfreymillercenter.org/event/exercise-for-balance-and-strength-121/
LOCATION:Pavilion
END:VEVENT
BEGIN:VEVENT
DTSTART;TZID=America/New_York:20230418T100000
DTEND;TZID=America/New_York:20230418T120000
DTSTAMP:20260425T220046
CREATED:20230327T180847Z
LAST-MODIFIED:20230327T180847Z
UID:4181-1681812000-1681819200@godfreymillercenter.org
SUMMARY:Art Class: Acrylic & Watercolor Painting
DESCRIPTION:In this course\, students will develop painting skills\, techniques\, and aesthetic sensibilities related to artistic expression in acrylic and/or watercolor mediums. Each week will focus on a different subject\, emphasizing color and composition\, and enabling students to expand and better define their unique style and technique. Taught by Kate Williams. (Suggested donation – $15 per class)  \n***RSVP required\, call The Godfrey Miller Center office at 540-667-5869 to reserve your spot.
URL:https://godfreymillercenter.org/event/art-class-acrylic-watercolor-painting-5/
END:VEVENT
BEGIN:VEVENT
DTSTART;TZID=America/New_York:20230418T100000
DTEND;TZID=America/New_York:20230418T120000
DTSTAMP:20260425T220046
CREATED:20230327T180847Z
LAST-MODIFIED:20230327T180847Z
UID:4180-1681812000-1681819200@godfreymillercenter.org
SUMMARY:Canasta
DESCRIPTION:
URL:https://godfreymillercenter.org/event/canasta-64/
LOCATION:Parlor
END:VEVENT
BEGIN:VEVENT
DTSTART;TZID=America/New_York:20230418T130000
DTEND;TZID=America/New_York:20230418T150000
DTSTAMP:20260425T220046
CREATED:20230327T180848Z
LAST-MODIFIED:20230327T180848Z
UID:4183-1681822800-1681830000@godfreymillercenter.org
SUMMARY:Art Class: Drawing
DESCRIPTION:In this course\, students will improve drawing skills by capturing scenes of Winchester.  Through a combination of landscapes\, buildings\, and people we will explore different drawing techniques such as graphite\, charcoal\, and pen and ink.  Students will have their choice of mediums to help define their styles. Taught by master artist Kate Williams. (Suggested donation – $15 per class)  \n***RSVP required\, call The Godfrey Miller Center office at 540-667-5869 to reserve your spot.
URL:https://godfreymillercenter.org/event/art-class-drawing-5/
END:VEVENT
BEGIN:VEVENT
DTSTART;TZID=America/New_York:20230418T140000
DTEND;TZID=America/New_York:20230418T150000
DTSTAMP:20260425T220046
CREATED:20230327T180847Z
LAST-MODIFIED:20230327T180847Z
UID:4182-1681826400-1681830000@godfreymillercenter.org
SUMMARY:Strength and Conditioning Class
DESCRIPTION:This class is designed to increase physical strength through resistance exercise. All major muscle groups are worked from head to toe. We finish with core conditioning\, breathing\, and stretching for a complete workout. Dumbbells are used for each class\, you can bring your own or use ours! Led by Program Coordinator Anna.
URL:https://godfreymillercenter.org/event/strength-and-conditioning-class-63/
LOCATION:Pavilion
END:VEVENT
BEGIN:VEVENT
DTSTART;TZID=America/New_York:20230419T100000
DTEND;TZID=America/New_York:20230419T120000
DTSTAMP:20260425T220046
CREATED:20230327T180848Z
LAST-MODIFIED:20230327T180848Z
UID:4184-1681898400-1681905600@godfreymillercenter.org
SUMMARY:Pinochle
DESCRIPTION:
URL:https://godfreymillercenter.org/event/pinochle-53/
LOCATION:Parlor or Dining Room
END:VEVENT
END:VCALENDAR