BEGIN:VCALENDAR
VERSION:2.0
PRODID:-//Godfrey Miller Center - ECPv6.15.20//NONSGML v1.0//EN
CALSCALE:GREGORIAN
METHOD:PUBLISH
X-ORIGINAL-URL:https://godfreymillercenter.org
X-WR-CALDESC:Events for Godfrey Miller Center
REFRESH-INTERVAL;VALUE=DURATION:PT1H
X-Robots-Tag:noindex
X-PUBLISHED-TTL:PT1H
BEGIN:VTIMEZONE
TZID:America/New_York
BEGIN:DAYLIGHT
TZOFFSETFROM:-0500
TZOFFSETTO:-0400
TZNAME:EDT
DTSTART:20220313T070000
END:DAYLIGHT
BEGIN:STANDARD
TZOFFSETFROM:-0400
TZOFFSETTO:-0500
TZNAME:EST
DTSTART:20221106T060000
END:STANDARD
BEGIN:DAYLIGHT
TZOFFSETFROM:-0500
TZOFFSETTO:-0400
TZNAME:EDT
DTSTART:20230312T070000
END:DAYLIGHT
BEGIN:STANDARD
TZOFFSETFROM:-0400
TZOFFSETTO:-0500
TZNAME:EST
DTSTART:20231105T060000
END:STANDARD
BEGIN:DAYLIGHT
TZOFFSETFROM:-0500
TZOFFSETTO:-0400
TZNAME:EDT
DTSTART:20240310T070000
END:DAYLIGHT
BEGIN:STANDARD
TZOFFSETFROM:-0400
TZOFFSETTO:-0500
TZNAME:EST
DTSTART:20241103T060000
END:STANDARD
END:VTIMEZONE
BEGIN:VEVENT
DTSTART;TZID=America/New_York:20231001T160000
DTEND;TZID=America/New_York:20231001T170000
DTSTAMP:20260425T114816
CREATED:20230927T234326Z
LAST-MODIFIED:20230927T234326Z
UID:4634-1696176000-1696179600@godfreymillercenter.org
SUMMARY:Fall Concert Series: Project Locrea
DESCRIPTION:Fall Concert Series: Project Locrea\, World Folk Fusion – Sunday\, October 1\, 4:00 PM at Grace Lutheran Church (Tickets: $15)\nProject Locrea is a world music fusion ensemble created by flutist Yana Nikol\, dedicated to creating and performing original compositions and contemporary arrangements inspired by the folk music of different countries. Combining sound and instrumentation of world folk traditions with classical\, jazz and contemporary music conventions\, the project’s focus is to bring a better understanding and deeper connection between cultures.
URL:https://godfreymillercenter.org/event/fall-concert-series-project-locrea/
END:VEVENT
BEGIN:VEVENT
DTSTART;TZID=America/New_York:20231002T123000
DTEND;TZID=America/New_York:20231002T133000
DTSTAMP:20260425T114816
CREATED:20230327T180833Z
LAST-MODIFIED:20230927T234326Z
UID:4152-1696249800-1696253400@godfreymillercenter.org
SUMMARY:Lunch
DESCRIPTION:***RSVP Required by the preceding Thursday.  Tickets are $8.50 and available in the Godfrey Miller Center office. \nMenu:
URL:https://godfreymillercenter.org/event/lunch-20/
LOCATION:Pavilion
END:VEVENT
BEGIN:VEVENT
DTSTART;TZID=America/New_York:20231004T123000
DTEND;TZID=America/New_York:20231004T133000
DTSTAMP:20260425T114816
CREATED:20221220T153342Z
LAST-MODIFIED:20230927T234327Z
UID:3941-1696422600-1696426200@godfreymillercenter.org
SUMMARY:Lunch
DESCRIPTION:***RSVP Required by the preceding Monday.  Tickets are $8.50 and available in the Godfrey Miller Center office. \nMenu:
URL:https://godfreymillercenter.org/event/lunch-19/
LOCATION:Pavilion
END:VEVENT
BEGIN:VEVENT
DTSTART;TZID=America/New_York:20231004T140000
DTEND;TZID=America/New_York:20231004T150000
DTSTAMP:20260425T114816
CREATED:20230927T234327Z
LAST-MODIFIED:20230927T234327Z
UID:4638-1696428000-1696431600@godfreymillercenter.org
SUMMARY:Exercise for Balance and Strength
DESCRIPTION:A low-impact program that includes joint check/warm-up\, range of motion/stretching\, strengthening\, cardiovascular endurance\, and joint check/cool down. Led by Sonna Russell. Ms. Russell is a gifted coach and was trained through the Arthritis Foundation. (Suggested donation – $3.00)
URL:https://godfreymillercenter.org/event/exercise-for-balance-and-strength-164/
LOCATION:Pavilion
END:VEVENT
BEGIN:VEVENT
DTSTART;TZID=America/New_York:20231005T140000
DTEND;TZID=America/New_York:20231005T150000
DTSTAMP:20260425T114816
CREATED:20230927T234327Z
LAST-MODIFIED:20230927T234327Z
UID:4639-1696514400-1696518000@godfreymillercenter.org
SUMMARY:Strength and Conditioning Class
DESCRIPTION:This class is designed to increase physical strength through resistance exercise. All major muscle groups are worked from head to toe. We finish with core conditioning\, breathing\, and stretching for a complete workout. Dumbbells are used for each class\, you can bring your own or use ours! Led by Program Coordinator Anna.
URL:https://godfreymillercenter.org/event/strength-and-conditioning-class-94/
LOCATION:Pavilion
END:VEVENT
BEGIN:VEVENT
DTSTART;TZID=America/New_York:20231009T080000
DTEND;TZID=America/New_York:20231009T083000
DTSTAMP:20260425T114816
CREATED:20230927T234328Z
LAST-MODIFIED:20230927T234328Z
UID:4640-1696838400-1696840200@godfreymillercenter.org
SUMMARY:Walking Club
DESCRIPTION:Meet in the courtyard of Godfrey Miller Center to walk and socialize around downtown Winchester.
URL:https://godfreymillercenter.org/event/walking-club-50/
END:VEVENT
BEGIN:VEVENT
DTSTART;TZID=America/New_York:20231009T100000
DTEND;TZID=America/New_York:20231009T120000
DTSTAMP:20260425T114816
CREATED:20230927T234328Z
LAST-MODIFIED:20230927T234328Z
UID:4642-1696845600-1696852800@godfreymillercenter.org
SUMMARY:Jigsaw Puzzles
DESCRIPTION:Escape the heat with and enjoy the air conditioning while working on a jigsaw puzzle with others.  Fresh coffee provided!
URL:https://godfreymillercenter.org/event/jigsaw-puzzles-14/
END:VEVENT
BEGIN:VEVENT
DTSTART;TZID=America/New_York:20231009T100000
DTEND;TZID=America/New_York:20231009T120000
DTSTAMP:20260425T114816
CREATED:20230927T234328Z
LAST-MODIFIED:20230927T234328Z
UID:4643-1696845600-1696852800@godfreymillercenter.org
SUMMARY:Art Studio
DESCRIPTION:Art Studio is an open time for individuals to gather and work on their various art projects.  This is a social opportunity for artists of all levels to help each other and work independently. Recurs on every Monday of the month.
URL:https://godfreymillercenter.org/event/art-studio-77/
LOCATION:Pavilion
END:VEVENT
BEGIN:VEVENT
DTSTART;TZID=America/New_York:20231009T103000
DTEND;TZID=America/New_York:20231009T113000
DTSTAMP:20260425T114816
CREATED:20230927T234328Z
LAST-MODIFIED:20230927T234328Z
UID:4641-1696847400-1696851000@godfreymillercenter.org
SUMMARY:Smart Phone Help Session
DESCRIPTION:Join Program Coordinator Anna for help with your smart phone.  Bring your device\, account passwords\, and any questions!
URL:https://godfreymillercenter.org/event/smart-phone-help-session-9/
END:VEVENT
BEGIN:VEVENT
DTSTART;TZID=America/New_York:20231009T123000
DTEND;TZID=America/New_York:20231009T133000
DTSTAMP:20260425T114816
CREATED:20230927T234329Z
LAST-MODIFIED:20230927T234624Z
UID:4644-1696854600-1696858200@godfreymillercenter.org
SUMMARY:Lunch
DESCRIPTION:***RSVP Required by the preceding Thursday. Tickets are $8.50 and available in the Godfrey Miller Center office.\n* October 2: Maple Mustard Chicken\, Steamed Carrots\, Potatoes\, and Dessert\n* October 9: Shepherd’s Pie\, Green Beans\, Bread\, and Dessert\n* October 16: Baked Marsala Chicken\, Roasted Sweet Potatoes and Onions\, Peas\, and Dessert\n* October 23: Butternut Squash Soup\, Fall Salad\, Bread\, and Dessert\n* October 30: Roast Beef\, Mashed Potatoes\, Broccoli and Cauliflower\, and Dessert
URL:https://godfreymillercenter.org/event/4644/
LOCATION:Pavilion
END:VEVENT
BEGIN:VEVENT
DTSTART;TZID=America/New_York:20231009T140000
DTEND;TZID=America/New_York:20231009T150000
DTSTAMP:20260425T114816
CREATED:20230927T234329Z
LAST-MODIFIED:20230927T234329Z
UID:4645-1696860000-1696863600@godfreymillercenter.org
SUMMARY:Exercise for Balance and Strength
DESCRIPTION:A low-impact program that includes joint check/warm-up\, range of motion/stretching\, strengthening\, cardiovascular endurance\, and joint check/cool down. Led by Sonna Russell. Ms. Russell is a gifted coach and was trained through the Arthritis Foundation. (Suggested donation – $3.00)
URL:https://godfreymillercenter.org/event/exercise-for-balance-and-strength-165/
LOCATION:Pavilion
END:VEVENT
BEGIN:VEVENT
DTSTART;TZID=America/New_York:20231010T100000
DTEND;TZID=America/New_York:20231010T120000
DTSTAMP:20260425T114816
CREATED:20230927T234329Z
LAST-MODIFIED:20230927T234329Z
UID:4646-1696932000-1696939200@godfreymillercenter.org
SUMMARY:Art Class: Acrylic & Watercolor Painting
DESCRIPTION:In this course\, students will develop painting skills\, techniques\, and aesthetic sensibilities related to artistic expression in acrylic and/or watercolor mediums. Each week will focus on a different subject\, emphasizing color and composition\, and enabling students to expand and better define their unique style and technique. Taught by master artist Kate Williams. (Suggested donation: $15 per class) \n***RSVP required\, call The Godfrey Miller Center office at 540-667-5869 to reserve your spot.
URL:https://godfreymillercenter.org/event/art-class-acrylic-watercolor-painting-20/
END:VEVENT
BEGIN:VEVENT
DTSTART;TZID=America/New_York:20231010T100000
DTEND;TZID=America/New_York:20231010T120000
DTSTAMP:20260425T114816
CREATED:20230927T234329Z
LAST-MODIFIED:20230927T234329Z
UID:4647-1696932000-1696939200@godfreymillercenter.org
SUMMARY:Canasta
DESCRIPTION:
URL:https://godfreymillercenter.org/event/canasta-82/
LOCATION:Parlor
END:VEVENT
BEGIN:VEVENT
DTSTART;TZID=America/New_York:20231010T130000
DTEND;TZID=America/New_York:20231010T150000
DTSTAMP:20260425T114816
CREATED:20230927T234329Z
LAST-MODIFIED:20230927T234329Z
UID:4649-1696942800-1696950000@godfreymillercenter.org
SUMMARY:Art Class: Drawing
DESCRIPTION:In this course\, students will improve drawing skills through using a combination of mediums such as graphite\, charcoal\, and pen and ink.  Students will have their choice of mediums to help define their styles. Taught by master artist Kate Williams. (Suggested donation: $15 per class) \n***RSVP required\, call The Godfrey Miller Center office at 540-667-5869 to reserve your spot.
URL:https://godfreymillercenter.org/event/art-class-drawing-20/
END:VEVENT
BEGIN:VEVENT
DTSTART;TZID=America/New_York:20231010T140000
DTEND;TZID=America/New_York:20231010T150000
DTSTAMP:20260425T114816
CREATED:20230927T234329Z
LAST-MODIFIED:20230927T234329Z
UID:4648-1696946400-1696950000@godfreymillercenter.org
SUMMARY:Strength and Conditioning Class
DESCRIPTION:This class is designed to increase physical strength through resistance exercise. All major muscle groups are worked from head to toe. We finish with core conditioning\, breathing\, and stretching for a complete workout. Dumbbells are used for each class\, you can bring your own or use ours! Led by Program Coordinator Anna.
URL:https://godfreymillercenter.org/event/strength-and-conditioning-class-95/
LOCATION:Pavilion
END:VEVENT
BEGIN:VEVENT
DTSTART;TZID=America/New_York:20231011T100000
DTEND;TZID=America/New_York:20231011T120000
DTSTAMP:20260425T114816
CREATED:20230927T234330Z
LAST-MODIFIED:20230927T234330Z
UID:4651-1697018400-1697025600@godfreymillercenter.org
SUMMARY:Pinochle
DESCRIPTION:
URL:https://godfreymillercenter.org/event/pinochle-72/
LOCATION:Parlor or Dining Room
END:VEVENT
BEGIN:VEVENT
DTSTART;TZID=America/New_York:20231011T103000
DTEND;TZID=America/New_York:20231011T113000
DTSTAMP:20260425T114816
CREATED:20230927T234329Z
LAST-MODIFIED:20230927T234329Z
UID:4650-1697020200-1697023800@godfreymillercenter.org
SUMMARY:Presentation: Sounds of Horror
DESCRIPTION:Come explore the spine chilling music that make movies scary with Jason Gottschalk.
URL:https://godfreymillercenter.org/event/presentation-sounds-of-horror/
LOCATION:Parlor
END:VEVENT
BEGIN:VEVENT
DTSTART;TZID=America/New_York:20231011T123000
DTEND;TZID=America/New_York:20231011T133000
DTSTAMP:20260425T114816
CREATED:20230927T234330Z
LAST-MODIFIED:20230927T234558Z
UID:4652-1697027400-1697031000@godfreymillercenter.org
SUMMARY:Lunch
DESCRIPTION:***RSVP Required by the preceding Monday.  Tickets are $8.50 and available in the Godfrey Miller Center office.\n*	October 4: Pumpkin Tomato Soup\, Grilled Ham & Cheese\, and Dessert\n*	October 11: Lemon & Thyme Chicken\, Roasted Potatoes with Feta\, Creamed Spinach\, and Dessert\n*	October 18: Beef Stroganoff over Noodles\, Green Beans\, and Dessert\n*	October 25: Creamy Chicken & Gnocchi\, Garlic Butter Spinach\, Bread\, and Dessert
URL:https://godfreymillercenter.org/event/4652/
LOCATION:Pavilion
END:VEVENT
BEGIN:VEVENT
DTSTART;TZID=America/New_York:20231011T140000
DTEND;TZID=America/New_York:20231011T150000
DTSTAMP:20260425T114816
CREATED:20230927T234330Z
LAST-MODIFIED:20230927T234330Z
UID:4653-1697032800-1697036400@godfreymillercenter.org
SUMMARY:Exercise for Balance and Strength
DESCRIPTION:A low-impact program that includes joint check/warm-up\, range of motion/stretching\, strengthening\, cardiovascular endurance\, and joint check/cool down. Led by Sonna Russell. Ms. Russell is a gifted coach and was trained through the Arthritis Foundation. (Suggested donation – $3.00)
URL:https://godfreymillercenter.org/event/exercise-for-balance-and-strength-166/
LOCATION:Pavilion
END:VEVENT
BEGIN:VEVENT
DTSTART;TZID=America/New_York:20231011T140000
DTEND;TZID=America/New_York:20231011T160000
DTSTAMP:20260425T114816
CREATED:20230927T234330Z
LAST-MODIFIED:20230927T234330Z
UID:4654-1697032800-1697040000@godfreymillercenter.org
SUMMARY:Bridge Class: Standard American Bidding System
DESCRIPTION:Bridge Class: Standard American Bidding System – Wednesdays\, September 6\, 13\, 20\, & 27\, 2:00-4:00 PM ***RSVP to Milan at 434-406-3387 \nMilan Majarov\, an American Contract Bridge League certified teacher\, will be offering a beginner bridge course on the standard American bidding system.  Each class is two hours long\, and the course will run for 10 weeks and each class is $15.  Please RSVP directly to Milan at 434-406-3387.
URL:https://godfreymillercenter.org/event/bridge-class-standard-american-bidding-system-5/
END:VEVENT
BEGIN:VEVENT
DTSTART;TZID=America/New_York:20231012T100000
DTEND;TZID=America/New_York:20231012T120000
DTSTAMP:20260425T114816
CREATED:20230927T234330Z
LAST-MODIFIED:20230927T234330Z
UID:4655-1697104800-1697112000@godfreymillercenter.org
SUMMARY:Mahjong
DESCRIPTION:
URL:https://godfreymillercenter.org/event/mahjong-77/
LOCATION:Parlor
END:VEVENT
BEGIN:VEVENT
DTSTART;TZID=America/New_York:20231012T140000
DTEND;TZID=America/New_York:20231012T150000
DTSTAMP:20260425T114816
CREATED:20230927T234330Z
LAST-MODIFIED:20230927T234330Z
UID:4656-1697119200-1697122800@godfreymillercenter.org
SUMMARY:Strength and Conditioning Class
DESCRIPTION:This class is designed to increase physical strength through resistance exercise. All major muscle groups are worked from head to toe. We finish with core conditioning\, breathing\, and stretching for a complete workout. Dumbbells are used for each class\, you can bring your own or use ours! Led by Program Coordinator Anna.
URL:https://godfreymillercenter.org/event/strength-and-conditioning-class-96/
LOCATION:Pavilion
END:VEVENT
BEGIN:VEVENT
DTSTART;TZID=America/New_York:20231016T080000
DTEND;TZID=America/New_York:20231016T083000
DTSTAMP:20260425T114816
CREATED:20230927T234330Z
LAST-MODIFIED:20230927T234330Z
UID:4657-1697443200-1697445000@godfreymillercenter.org
SUMMARY:Walking Club
DESCRIPTION:Meet in the courtyard of Godfrey Miller Center to walk and socialize around downtown Winchester.
URL:https://godfreymillercenter.org/event/walking-club-51/
END:VEVENT
BEGIN:VEVENT
DTSTART;TZID=America/New_York:20231016T100000
DTEND;TZID=America/New_York:20231016T120000
DTSTAMP:20260425T114816
CREATED:20230927T234330Z
LAST-MODIFIED:20230927T234330Z
UID:4658-1697450400-1697457600@godfreymillercenter.org
SUMMARY:Jigsaw Puzzles
DESCRIPTION:Escape the heat with and enjoy the air conditioning while working on a jigsaw puzzle with others.  Fresh coffee provided!
URL:https://godfreymillercenter.org/event/jigsaw-puzzles-15/
END:VEVENT
BEGIN:VEVENT
DTSTART;TZID=America/New_York:20231016T100000
DTEND;TZID=America/New_York:20231016T120000
DTSTAMP:20260425T114816
CREATED:20230927T234331Z
LAST-MODIFIED:20230927T234331Z
UID:4661-1697450400-1697457600@godfreymillercenter.org
SUMMARY:Art Studio
DESCRIPTION:Art Studio is an open time for individuals to gather and work on their various art projects.  This is a social opportunity for artists of all levels to help each other and work independently. Recurs on every Monday of the month.
URL:https://godfreymillercenter.org/event/art-studio-78/
LOCATION:Pavilion
END:VEVENT
BEGIN:VEVENT
DTSTART;TZID=America/New_York:20231016T103000
DTEND;TZID=America/New_York:20231016T113000
DTSTAMP:20260425T114816
CREATED:20230927T234330Z
LAST-MODIFIED:20230927T234330Z
UID:4659-1697452200-1697455800@godfreymillercenter.org
SUMMARY:Smart Phone Help Session
DESCRIPTION:Join Program Coordinator Anna for help with your smart phone.  Bring your device\, account passwords\, and any questions!
URL:https://godfreymillercenter.org/event/smart-phone-help-session-10/
END:VEVENT
BEGIN:VEVENT
DTSTART;TZID=America/New_York:20231016T110000
DTEND;TZID=America/New_York:20231016T120000
DTSTAMP:20260425T114816
CREATED:20230927T234331Z
LAST-MODIFIED:20230927T234331Z
UID:4660-1697454000-1697457600@godfreymillercenter.org
SUMMARY:Mahjong Lessons
DESCRIPTION:Mahjong Lessons \nCome learn the game of Mahjong!  These lessons are open to all skill levels from beginner to long time players.  \n***RSVP required\, call The Godfrey Miller Center office at 540-667-5869 to reserve your spot.
URL:https://godfreymillercenter.org/event/mahjong-lessons/
END:VEVENT
BEGIN:VEVENT
DTSTART;TZID=America/New_York:20231016T123000
DTEND;TZID=America/New_York:20231016T133000
DTSTAMP:20260425T114816
CREATED:20230927T234331Z
LAST-MODIFIED:20230927T234539Z
UID:4662-1697459400-1697463000@godfreymillercenter.org
SUMMARY:Lunch
DESCRIPTION:***RSVP Required by the preceding Thursday. Tickets are $8.50 and available in the Godfrey Miller Center office.\n* October 2: Maple Mustard Chicken\, Steamed Carrots\, Potatoes\, and Dessert\n* October 9: Shepherd’s Pie\, Green Beans\, Bread\, and Dessert\n* October 16: Baked Marsala Chicken\, Roasted Sweet Potatoes and Onions\, Peas\, and Dessert\n* October 23: Butternut Squash Soup\, Fall Salad\, Bread\, and Dessert\n* October 30: Roast Beef\, Mashed Potatoes\, Broccoli and Cauliflower\, and Dessert
URL:https://godfreymillercenter.org/event/4662/
LOCATION:Pavilion
END:VEVENT
BEGIN:VEVENT
DTSTART;TZID=America/New_York:20231016T140000
DTEND;TZID=America/New_York:20231016T150000
DTSTAMP:20260425T114816
CREATED:20230927T234331Z
LAST-MODIFIED:20230927T234331Z
UID:4663-1697464800-1697468400@godfreymillercenter.org
SUMMARY:Exercise for Balance and Strength
DESCRIPTION:A low-impact program that includes joint check/warm-up\, range of motion/stretching\, strengthening\, cardiovascular endurance\, and joint check/cool down. Led by Sonna Russell. Ms. Russell is a gifted coach and was trained through the Arthritis Foundation. (Suggested donation – $3.00)
URL:https://godfreymillercenter.org/event/exercise-for-balance-and-strength-167/
LOCATION:Pavilion
END:VEVENT
BEGIN:VEVENT
DTSTART;TZID=America/New_York:20231017T100000
DTEND;TZID=America/New_York:20231017T120000
DTSTAMP:20260425T114816
CREATED:20230927T234331Z
LAST-MODIFIED:20230927T234331Z
UID:4664-1697536800-1697544000@godfreymillercenter.org
SUMMARY:Art Class: Acrylic & Watercolor Painting
DESCRIPTION:In this course\, students will develop painting skills\, techniques\, and aesthetic sensibilities related to artistic expression in acrylic and/or watercolor mediums. Each week will focus on a different subject\, emphasizing color and composition\, and enabling students to expand and better define their unique style and technique. Taught by master artist Kate Williams. (Suggested donation: $15 per class) \n***RSVP required\, call The Godfrey Miller Center office at 540-667-5869 to reserve your spot.
URL:https://godfreymillercenter.org/event/art-class-acrylic-watercolor-painting-21/
END:VEVENT
END:VCALENDAR